Workbook
Name _E1: #REF!
Name _E1: #REF!
Name 전체: #REF!
Name 전체: #REF!

Sheet 2006년
A1: 3. 구별·연령별 한국인 현황(외국인 제외)
S2: (단위 : 명)
A3: 구 분 | B3: 합 계 | E3: 동 구 | H3: 서 구 | K3: 남 구 | N3: 북 구 | Q3: 광 산 구
B4: 계 | C4: 남 | D4: 여 | E4: 계 | F4: 남 | G4: 여 | H4: 계 | I4: 남 | J4: 여 | K4: 계 | L4: 남 | M4: 여 | N4: 계 | O4: 남 | P4: 여 | Q4: 계 | R4: 남 | S4: 여
A5: 2006 | B5: 1407798 | C5: 698664 | D5: 709134 | E5: 114086 | F5: 56735 | G5: 57351 | H5: 309362 | I5: 152615 | J5: 156747 | K5: 211744 | L5: 103556 | M5: 108188 | N5: 460985 | O5: 228959 | P5: 232026 | Q5: 311621 | R5: 156799 | S5: 154822
A6: 0 - 4 | B6: 73046 | C6: 38132 | D6: 34914 | E6: 3703 | F6: 1972 | G6: 1731 | H6: 16640 | I6: 8747 | J6: 7893 | K6: 7627 | L6: 3933 | M6: 3694 | N6: 23025 | O6: 11981 | P6: 11044 | Q6: 22051 | R6: 11499 | S6: 10552
A7: 0 세 | B7: 12908 | C7: 6779 | D7: 6129 | E7: 626 | F7: 332 | G7: 294 | H7: 2896 | I7: 1543 | J7: 1353 | K7: 1384 | L7: 674 | M7: 710 | N7: 4060 | O7: 2151 | P7: 1909 | Q7: 3942 | R7: 2079 | S7: 1863
A8: 1 세 | B8: 13328 | C8: 6926 | D8: 6402 | E8: 660 | F8: 342 | G8: 318 | H8: 2983 | I8: 1554 | J8: 1429 | K8: 1333 | L8: 692 | M8: 641 | N8: 4269 | O8: 2185 | P8: 2084 | Q8: 4083 | R8: 2153 | S8: 1930
A9: 2 세 | B9: 14596 | C9: 7489 | D9: 7107 | E9: 758 | F9: 385 | G9: 373 | H9: 3348 | I9: 1702 | J9: 1646 | K9: 1491 | L9: 772 | M9: 719 | N9: 4572 | O9: 2373 | P9: 2199 | Q9: 4427 | R9: 2257 | S9: 2170
A10: 3 세 | B10: 16264 | C10: 8583 | D10: 7681 | E10: 834 | F10: 461 | G10: 373 | H10: 3652 | I10: 1947 | J10: 1705 | K10: 1665 | L10: 870 | M10: 795 | N10: 5152 | O10: 2700 | P10: 2452 | Q10: 4961 | R10: 2605 | S10: 2356
A11: 4 세 | B11: 15950 | C11: 8355 | D11: 7595 | E11: 825 | F11: 452 | G11: 373 | H11: 3761 | I11: 2001 | J11: 1760 | K11: 1754 | L11: 925 | M11: 829 | N11: 4972 | O11: 2572 | P11: 2400 | Q11: 4638 | R11: 2405 | S11: 2233
A12: 5 - 9 | B12: 106131 | C12: 55279 | D12: 50852 | E12: 5640 | F12: 3018 | G12: 2622 | H12: 25069 | I12: 13064 | J12: 12005 | K12: 12373 | L12: 6475 | M12: 5898 | N12: 32468 | O12: 16851 | P12: 15617 | Q12: 30581 | R12: 15871 | S12: 14710
A13: 5 세 | B13: 18537 | C13: 9642 | D13: 8895 | E13: 933 | F13: 498 | G13: 435 | H13: 4491 | I13: 2301 | J13: 2190 | K13: 2007 | L13: 1026 | M13: 981 | N13: 5624 | O13: 2974 | P13: 2650 | Q13: 5482 | R13: 2843 | S13: 2639
A14: 6 세 | B14: 21719 | C14: 11445 | D14: 10274 | E14: 1099 | F14: 596 | G14: 503 | H14: 5138 | I14: 2696 | J14: 2442 | K14: 2363 | L14: 1260 | M14: 1103 | N14: 6704 | O14: 3563 | P14: 3141 | Q14: 6415 | R14: 3330 | S14: 3085
A15: 7 세 | B15: 20970 | C15: 10884 | D15: 10086 | E15: 1076 | F15: 560 | G15: 516 | H15: 4989 | I15: 2602 | J15: 2387 | K15: 2430 | L15: 1269 | M15: 1161 | N15: 6398 | O15: 3286 | P15: 3112 | Q15: 6077 | R15: 3167 | S15: 2910
A16: 8 세 | B16: 21855 | C16: 11370 | D16: 10485 | E16: 1282 | F16: 680 | G16: 602 | H16: 5096 | I16: 2714 | J16: 2382 | K16: 2697 | L16: 1393 | M16: 1304 | N16: 6644 | O16: 3438 | P16: 3206 | Q16: 6136 | R16: 3145 | S16: 2991
A17: 9 세 | B17: 23050 | C17: 11938 | D17: 11112 | E17: 1250 | F17: 684 | G17: 566 | H17: 5355 | I17: 2751 | J17: 2604 | K17: 2876 | L17: 1527 | M17: 1349 | N17: 7098 | O17: 3590 | P17: 3508 | Q17: 6471 | R17: 3386 | S17: 3085
... A126: 100+ | B126: 61 | C126: 4 | D126: 57 | E126: 8 | F126: 0 | G126: 8 | H126: 10 | I126: 1 | J126: 9 | K126: 12 | L126: 1 | M126: 11 | N126: 20 | O126: 1 | P126: 19 | Q126: 11 | R126: 1 | S126: 10
A129: 14세이하 | B129: =SUM(B6,B12,B18) -> 299298 | C129: =SUM(C6,C12,C18) -> 156362 | D129: =SUM(D6,D12,D18) -> 142936 | E129: =SUM(E6,E12,E18) -> 16162 | F129: =SUM(F6,F12,F18) -> 8530 | G129: =SUM(G6,G12,G18) -> 7632 | H129: =SUM(H6,H12,H18) -> 69230 | I129: =SUM(I6,I12,I18) -> 36300 | ... S129: =SUM(S6,S12,S18) -> 39812
A130: 15-64세 | B130: =SUM(B24,B30,B36,B42,B48,B54,B60,B66,B72,B78) -> 1002698 | C130: =SUM(C24,C30,C36,C42,C48,C54,C60,C66,C72,C78) -> 501342 | D130: =SUM(D24,D30,D36,D42,D48,D54,D60,D66,D72,D78) -> 501356 | E130: =SUM(E24,E30,E36,E42,E48,E54,E60,E66,E72,E78) -> 84517 | F130: =SUM(F24,F30,F36,F42,F48,F54,F60,F66,F72,F78) -> 42479 | G130: =SUM(G24,G30,G36,G42,G48,G54,G60,G66,G72,G78) -> 42038 | H130: =SUM(H24,H30,H36,H42,H48,H54,H60,H66,H72,H78) -> 218813 | I130: =SUM(I24,I30,I36,I42,I48,I54,I60,I66,I72,I78) -> 108252 | ... S130: =SUM(S24,S30,S36,S42,S48,S54,S60,S66,S72,S78) -> 102828

Sheet 2007년
A1: 3. 구별·연령별 한국인 현황(외국인 제외)
R2: (단위 : 명)
A3: 구 분 | B3: 합 계 | E3: 동 구 | H3: 서 구 | K3: 남 구 | N3: 북 구 | Q3: 광 산 구
B4: 계 | C4: 남 | D4: 여 | E4: 계 | F4: 남 | G4: 여 | H4: 계 | I4: 남 | J4: 여 | K4: 계 | L4: 남 | M4: 여 | N4: 계 | O4: 남 | P4: 여 | Q4: 계 | R4: 남 | S4: 여
A5: 2007 | B5: =E5+H5+K5+N5+Q5 -> 1413444 | C5: =F5+I5+L5+O5+R5 -> 701561 | D5: =G5+J5+M5+P5+S5 -> 711883 | E5: 115066 | F5: 57347 | G5: 57719 | H5: 307072 | I5: 151441 | J5: 155631 | K5: 209024 | L5: 102036 | M5: 106988 | N5: 466181 | O5: 231639 | P5: 234542 | Q5: 316101 | R5: 159098 | S5: 157003
A6: 0 - 4 | B6: =E6+H6+K6+N6+Q6 -> 72477 | C6: =F6+I6+L6+O6+R6 -> 37840 | D6: =G6+J6+M6+P6+S6 -> 34637 | E6: 3836 | F6: 2007 | G6: 1829 | H6: 15831 | I6: 8284 | J6: 7547 | K6: 7421 | L6: 3822 | M6: 3599 | N6: 23435 | O6: 12224 | P6: 11211 | Q6: 21954 | R6: 11503 | S6: 10451
A7: 0 세 | B7: =E7+H7+K7+N7+Q7 -> 14177 | C7: =F7+I7+L7+O7+R7 -> 7379 | D7: =G7+J7+M7+P7+S7 -> 6798 | E7: 764 | F7: 383 | G7: 381 | H7: 3021 | I7: 1553 | J7: 1468 | K7: 1433 | L7: 727 | M7: 706 | N7: 4773 | O7: 2479 | P7: 2294 | Q7: 4186 | R7: 2237 | S7: 1949
A8: 1 세 | B8: =E8+H8+K8+N8+Q8 -> 13769 | C8: =F8+I8+L8+O8+R8 -> 7202 | D8: =G8+J8+M8+P8+S8 -> 6567 | E8: 693 | F8: 356 | G8: 337 | H8: 2966 | I8: 1569 | J8: 1397 | K8: 1480 | L8: 739 | M8: 741 | N8: 4440 | O8: 2344 | P8: 2096 | Q8: 4190 | R8: 2194 | S8: 1996
A9: 2 세 | B9: =E9+H9+K9+N9+Q9 -> 13492 | C9: =F9+I9+L9+O9+R9 -> 7040 | D9: =G9+J9+M9+P9+S9 -> 6452 | E9: 708 | F9: 369 | G9: 339 | H9: 2954 | I9: 1553 | J9: 1401 | K9: 1362 | L9: 711 | M9: 651 | N9: 4335 | O9: 2233 | P9: 2102 | Q9: 4133 | R9: 2174 | S9: 1959
A10: 3 세 | B10: =E10+H10+K10+N10+Q10 -> 14772 | C10: =F10+I10+L10+O10+R10 -> 7629 | D10: =G10+J10+M10+P10+S10 -> 7143 | E10: 809 | F10: 416 | G10: 393 | H10: 3308 | I10: 1686 | J10: 1622 | K10: 1515 | L10: 783 | M10: 732 | N10: 4673 | O10: 2438 | P10: 2235 | Q10: 4467 | R10: 2306 | S10: 2161
A11: 4 세 | B11: =E11+H11+K11+N11+Q11 -> 16267 | C11: =F11+I11+L11+O11+R11 -> 8590 | D11: =G11+J11+M11+P11+S11 -> 7677 | E11: 862 | F11: 483 | G11: 379 | H11: 3582 | I11: 1923 | J11: 1659 | K11: 1631 | L11: 862 | M11: 769 | N11: 5214 | O11: 2730 | P11: 2484 | Q11: 4978 | R11: 2592 | S11: 2386
A12: 5 - 9 | B12: =E12+H12+K12+N12+Q12 -> 99770 | C12: =F12+I12+L12+O12+R12 -> 52100 | D12: =G12+J12+M12+P12+S12 -> 47670 | E12: 5407 | F12: 2865 | G12: 2542 | H12: 23099 | I12: 12162 | J12: 10937 | K12: 11465 | L12: 5998 | M12: 5467 | N12: 31026 | O12: 16197 | P12: 14829 | Q12: 28773 | R12: 14878 | S12: 13895
A13: 5 세 | B13: =E13+H13+K13+N13+Q13 -> 16032 | C13: =F13+I13+L13+O13+R13 -> 8370 | D13: =G13+J13+M13+P13+S13 -> 7662 | E13: 844 | F13: 442 | G13: 402 | H13: 3690 | I13: 1986 | J13: 1704 | K13: 1755 | L13: 913 | M13: 842 | N13: 5093 | O13: 2632 | P13: 2461 | Q13: 4650 | R13: 2397 | S13: 2253
A14: 6 세 | B14: =E14+H14+K14+N14+Q14 -> 18877 | C14: =F14+I14+L14+O14+R14 -> 9829 | D14: =G14+J14+M14+P14+S14 -> 9048 | E14: 953 | F14: 511 | G14: 442 | H14: 4476 | I14: 2307 | J14: 2169 | K14: 2089 | L14: 1082 | M14: 1007 | N14: 5822 | O14: 3069 | P14: 2753 | Q14: 5537 | R14: 2860 | S14: 2677
A15: 7 세 | B15: =E15+H15+K15+N15+Q15 -> 21817 | C15: =F15+I15+L15+O15+R15 -> 11483 | D15: =G15+J15+M15+P15+S15 -> 10334 | E15: 1171 | F15: 633 | G15: 538 | H15: 5010 | I15: 2618 | J15: 2392 | K15: 2424 | L15: 1277 | M15: 1147 | N15: 6822 | O15: 3634 | P15: 3188 | Q15: 6390 | R15: 3321 | S15: 3069
A16: 8 세 | B16: =E16+H16+K16+N16+Q16 -> 21044 | C16: =F16+I16+L16+O16+R16 -> 10960 | D16: =G16+J16+M16+P16+S16 -> 10084 | E16: 1124 | F16: 585 | G16: 539 | H16: 4896 | I16: 2568 | J16: 2328 | K16: 2453 | L16: 1274 | M16: 1179 | N16: 6513 | O16: 3367 | P16: 3146 | Q16: 6058 | R16: 3166 | S16: 2892
A17: 9 세 | B17: =E17+H17+K17+N17+Q17 -> 22000 | C17: =F17+I17+L17+O17+R17 -> 11458 | D17: =G17+J17+M17+P17+S17 -> 10542 | E17: 1315 | F17: 694 | G17: 621 | H17: 5027 | I17: 2683 | J17: 2344 | K17: 2744 | L17: 1452 | M17: 1292 | N17: 6776 | O17: 3495 | P17: 3281 | Q17: 6138 | R17: 3134 | S17: 3004
... A126: 100+ | B126: =E126+H126+K126+N126+Q126 -> 60 | C126: =F126+I126+L126+O126+R126 -> 5 | D126: =G126+J126+M126+P126+S126 -> 55 | E126: 8 | F126: 1 | G126: 7 | H126: 13 | I126: 2 | J126: 11 | K126: 14 | L126: 1 | M126: 13 | N126: 17 | O126: 0 | P126: 17 | Q126: 8 | R126: 1 | S126: 7
A128: 14세이하 | B128: =SUM(B6,B12,B18) -> 291575 | C128: =SUM(C6,C12,C18) -> 152275 | D128: =SUM(D6,D12,D18) -> 139300 | E128: =SUM(E6,E12,E18) -> 15968 | F128: =SUM(F6,F12,F18) -> 8410 | G128: =SUM(G6,G12,G18) -> 7558 | H128: =SUM(H6,H12,H18) -> 66160 | I128: =SUM(I6,I12,I18) -> 34703 | ... S128: =SUM(S6,S12,S18) -> 39173
A129: 15-64세 | B129: =SUM(B24,B30,B36,B42,B48,B54,B60,B66,B72,B78) -> 1008046 | C129: =SUM(C24,C30,C36,C42,C48,C54,C60,C66,C72,C78) -> 504368 | D129: =SUM(D24,D30,D36,D42,D48,D54,D60,D66,D72,D78) -> 503678 | E129: =SUM(E24,E30,E36,E42,E48,E54,E60,E66,E72,E78) -> 84553 | F129: =SUM(F24,F30,F36,F42,F48,F54,F60,F66,F72,F78) -> 42637 | G129: =SUM(G24,G30,G36,G42,G48,G54,G60,G66,G72,G78) -> 41916 | H129: =SUM(H24,H30,H36,H42,H48,H54,H60,H66,H72,H78) -> 218287 | I129: =SUM(I24,I30,I36,I42,I48,I54,I60,I66,I72,I78) -> 108005 | ... S129: =SUM(S24,S30,S36,S42,S48,S54,S60,S66,S72,S78) -> 104883

Sheet 2008년
A1: 3. 구별·연령별 한국인 현황(외국인 제외)
R2: (단위 : 명)
A3: 구 분 | B3: 합 계 | E3: 동 구 | H3: 서 구 | K3: 남 구 | N3: 북 구 | Q3: 광 산 구
B4: 계 | C4: 남 | D4: 여 | E4: 계 | F4: 남 | G4: 여 | H4: 계 | I4: 남 | J4: 여 | K4: 계 | L4: 남 | M4: 여 | N4: 계 | O4: 남 | P4: 여 | Q4: 계 | R4: 남 | S4: 여
A5: 2008 | B5: =SUM(B6,B12,B18,B24,B30,B36,B42,B48,B54,B60,B66,B72,B78,B84,B90,B96,B102,B108,B114,B120,B126) -> 1422702 | C5: =SUM(C6,C12,C18,C24,C30,C36,C42,C48,C54,C60,C66,C72,C78,C84,C90,C96,C102,C108,C114,C120,C126) -> 705817 | D5: =SUM(D6,D12,D18,D24,D30,D36,D42,D48,D54,D60,D66,D72,D78,D84,D90,D96,D102,D108,D114,D120,D126) -> 716885 | E5: =SUM(E6,E12,E18,E24,E30,E36,E42,E48,E54,E60,E66,E72,E78,E84,E90,E96,E102,E108,E114,E120,E126) -> 109963 | F5: =SUM(F6,F12,F18,F24,F30,F36,F42,F48,F54,F60,F66,F72,F78,F84,F90,F96,F102,F108,F114,F120,F126) -> 54988 | G5: =SUM(G6,G12,G18,G24,G30,G36,G42,G48,G54,G60,G66,G72,G78,G84,G90,G96,G102,G108,G114,G120,G126) -> 54975 | H5: =SUM(H6,H12,H18,H24,H30,H36,H42,H48,H54,H60,H66,H72,H78,H84,H90,H96,H102,H108,H114,H120,H126) -> 304885 | I5: =SUM(I6,I12,I18,I24,I30,I36,I42,I48,I54,I60,I66,I72,I78,I84,I90,I96,I102,I108,I114,I120,I126) -> 150315 | ... S5: =SUM(S6,S12,S18,S24,S30,S36,S42,S48,S54,S60,S66,S72,S78,S84,S90,S96,S102,S108,S114,S120,S126) -> 159428
A6: 0 - 4 | B6: =SUM(C6:D6) -> 70830 | C6: =SUM(F6,I6,L6,O6,R6) -> 36667 | D6: =SUM(G6,J6,M6,P6,S6) -> 34163 | E6: =SUM(E7:E11) -> 3467 | F6: =SUM(F7:F11) -> 1812 | G6: =SUM(G7:G11) -> 1655 | H6: =SUM(H7:H11) -> 14916 | I6: =SUM(I7:I11) -> 7686 | J6: =SUM(J7:J11) -> 7230 | K6: =SUM(K7:K11) -> 7979 | L6: =SUM(L7:L11) -> 4122 | ... S6: =SUM(S7:S11) -> 10228
A7: 0 세 | B7: =SUM(C7:D7) -> 13306 | C7: =SUM(F7,I7,L7,O7,R7) -> 6790 | D7: =SUM(G7,J7,M7,P7,S7) -> 6516 | E7: =SUM(F7:G7) -> 644 | F7: 355 | G7: 289 | H7: =SUM(I7:J7) -> 2791 | I7: 1412 | J7: 1379 | K7: =SUM(L7:M7) -> 1579 | L7: 799 | M7: 780 | N7: =SUM(O7:P7) -> 4430 | O7: 2300 | P7: 2130 | Q7: =SUM(R7:S7) -> 3862 | R7: 1924 | S7: 1938
A8: 1 세 | B8: =SUM(C8:D8) -> 15083 | C8: =SUM(F8,I8,L8,O8,R8) -> 7872 | D8: =SUM(G8,J8,M8,P8,S8) -> 7211 | E8: =SUM(F8:G8) -> 762 | F8: 379 | G8: 383 | H8: =SUM(I8:J8) -> 3086 | I8: 1611 | J8: 1475 | K8: =SUM(L8:M8) -> 1682 | L8: 851 | M8: 831 | N8: =SUM(O8:P8) -> 5103 | O8: 2672 | P8: 2431 | Q8: =SUM(R8:S8) -> 4450 | R8: 2359 | S8: 2091
A9: 2 세 | B9: =SUM(C9:D9) -> 13888 | C9: =SUM(F9,I9,L9,O9,R9) -> 7207 | D9: =SUM(G9,J9,M9,P9,S9) -> 6681 | E9: =SUM(F9:G9) -> 657 | F9: 332 | G9: 325 | H9: =SUM(I9:J9) -> 2911 | I9: 1507 | J9: 1404 | K9: =SUM(L9:M9) -> 1596 | L9: 826 | M9: 770 | N9: =SUM(O9:P9) -> 4492 | O9: 2356 | P9: 2136 | Q9: =SUM(R9:S9) -> 4232 | R9: 2186 | S9: 2046
A10: 3 세 | B10: =SUM(C10:D10) -> 13600 | C10: =SUM(F10,I10,L10,O10,R10) -> 7081 | D10: =SUM(G10,J10,M10,P10,S10) -> 6519 | E10: =SUM(F10:G10) -> 638 | F10: 341 | G10: 297 | H10: =SUM(I10:J10) -> 2871 | I10: 1515 | J10: 1356 | K10: =SUM(L10:M10) -> 1488 | L10: 789 | M10: 699 | N10: =SUM(O10:P10) -> 4426 | O10: 2259 | P10: 2167 | Q10: =SUM(R10:S10) -> 4177 | R10: 2177 | S10: 2000
A11: 4 세 | B11: =SUM(C11:D11) -> 14953 | C11: =SUM(F11,I11,L11,O11,R11) -> 7717 | D11: =SUM(G11,J11,M11,P11,S11) -> 7236 | E11: =SUM(F11:G11) -> 766 | F11: 405 | G11: 361 | H11: =SUM(I11:J11) -> 3257 | I11: 1641 | J11: 1616 | K11: =SUM(L11:M11) -> 1634 | L11: 857 | M11: 777 | N11: =SUM(O11:P11) -> 4853 | O11: 2524 | P11: 2329 | Q11: =SUM(R11:S11) -> 4443 | R11: 2290 | S11: 2153
A12: 5 - 9 | B12: =SUM(C12:D12) -> 94896 | C12: =SUM(F12,I12,L12,O12,R12) -> 49620 | D12: =SUM(G12,J12,M12,P12,S12) -> 45276 | E12: =SUM(E13:E17) -> 4698 | F12: =SUM(F13:F17) -> 2519 | G12: =SUM(G13:G17) -> 2179 | H12: =SUM(H13:H17) -> 21412 | I12: =SUM(I13:I17) -> 11240 | J12: =SUM(J13:J17) -> 10172 | K12: =SUM(K13:K17) -> 10969 | L12: =SUM(L13:L17) -> 5691 | ... S12: =SUM(S13:S17) -> 13363
A13: 5 세 | B13: =SUM(C13:D13) -> 16413 | C13: =SUM(F13,I13,L13,O13,R13) -> 8657 | D13: =SUM(G13,J13,M13,P13,S13) -> 7756 | E13: =SUM(F13:G13) -> 820 | F13: 467 | G13: 353 | H13: =SUM(I13:J13) -> 3580 | I13: 1902 | J13: 1678 | K13: =SUM(L13:M13) -> 1742 | L13: 912 | M13: 830 | N13: =SUM(O13:P13) -> 5264 | O13: 2775 | P13: 2489 | Q13: =SUM(R13:S13) -> 5007 | R13: 2601 | S13: 2406
A14: 6 세 | B14: =SUM(C14:D14) -> 16371 | C14: =SUM(F14,I14,L14,O14,R14) -> 8559 | D14: =SUM(G14,J14,M14,P14,S14) -> 7812 | E14: =SUM(F14:G14) -> 773 | F14: 394 | G14: 379 | H14: =SUM(I14:J14) -> 3710 | I14: 1988 | J14: 1722 | K14: =SUM(L14:M14) -> 1888 | L14: 986 | M14: 902 | N14: =SUM(O14:P14) -> 5235 | O14: 2727 | P14: 2508 | Q14: =SUM(R14:S14) -> 4765 | R14: 2464 | S14: 2301
A15: 7 세 | B15: =SUM(C15:D15) -> 18932 | C15: =SUM(F15,I15,L15,O15,R15) -> 9835 | D15: =SUM(G15,J15,M15,P15,S15) -> 9097 | E15: =SUM(F15:G15) -> 939 | F15: 508 | G15: 431 | H15: =SUM(I15:J15) -> 4346 | I15: 2237 | J15: 2109 | K15: =SUM(L15:M15) -> 2189 | L15: 1134 | M15: 1055 | N15: =SUM(O15:P15) -> 5933 | O15: 3134 | P15: 2799 | Q15: =SUM(R15:S15) -> 5525 | R15: 2822 | S15: 2703
A16: 8 세 | B16: =SUM(C16:D16) -> 21978 | C16: =SUM(F16,I16,L16,O16,R16) -> 11538 | D16: =SUM(G16,J16,M16,P16,S16) -> 10440 | E16: =SUM(F16:G16) -> 1125 | F16: 605 | G16: 520 | H16: =SUM(I16:J16) -> 4923 | I16: 2556 | J16: 2367 | K16: =SUM(L16:M16) -> 2553 | L16: 1323 | M16: 1230 | N16: =SUM(O16:P16) -> 6977 | O16: 3723 | P16: 3254 | Q16: =SUM(R16:S16) -> 6400 | R16: 3331 | S16: 3069
A17: 9 세 | B17: =SUM(C17:D17) -> 21202 | C17: =SUM(F17,I17,L17,O17,R17) -> 11031 | D17: =SUM(G17,J17,M17,P17,S17) -> 10171 | E17: =SUM(F17:G17) -> 1041 | F17: 545 | G17: 496 | H17: =SUM(I17:J17) -> 4853 | I17: 2557 | J17: 2296 | K17: =SUM(L17:M17) -> 2597 | L17: 1336 | M17: 1261 | N17: =SUM(O17:P17) -> 6686 | O17: 3452 | P17: 3234 | Q17: =SUM(R17:S17) -> 6025 | R17: 3141 | S17: 2884
A18: 10-14 | B18: =SUM(C18:D18) -> 118308 | C18: =SUM(F18,I18,L18,O18,R18) -> 61649 | D18: =SUM(G18,J18,M18,P18,S18) -> 56659 | E18: =SUM(E19:E23) -> 6381 | F18: =SUM(F19:F23) -> 3332 | G18: =SUM(G19:G23) -> 3049 | H18: =SUM(H19:H23) -> 26579 | I18: =SUM(I19:I23) -> 13987 | J18: =SUM(J19:J23) -> 12592 | K18: =SUM(K19:K23) -> 16501 | L18: =SUM(L19:L23) -> 8531 | ... S18: =SUM(S19:S23) -> 14958
A19: 10 세 | B19: =SUM(C19:D19) -> 22189 | C19: =SUM(F19,I19,L19,O19,R19) -> 11562 | D19: =SUM(G19,J19,M19,P19,S19) -> 10627 | E19: =SUM(F19:G19) -> 1245 | F19: 671 | G19: 574 | H19: =SUM(I19:J19) -> 4997 | I19: 2662 | J19: 2335 | K19: =SUM(L19:M19) -> 2896 | L19: 1523 | M19: 1373 | N19: =SUM(O19:P19) -> 6934 | O19: 3560 | P19: 3374 | Q19: =SUM(R19:S19) -> 6117 | R19: 3146 | S19: 2971
A20: 11 세 | B20: =SUM(C20:D20) -> 23449 | C20: =SUM(F20,I20,L20,O20,R20) -> 12097 | D20: =SUM(G20,J20,M20,P20,S20) -> 11352 | E20: =SUM(F20:G20) -> 1228 | F20: 649 | G20: 579 | H20: =SUM(I20:J20) -> 5254 | I20: 2714 | J20: 2540 | K20: =SUM(L20:M20) -> 3118 | L20: 1650 | M20: 1468 | N20: =SUM(O20:P20) -> 7430 | O20: 3760 | P20: 3670 | Q20: =SUM(R20:S20) -> 6419 | R20: 3324 | S20: 3095
A21: 12 세 | B21: =SUM(C21:D21) -> 23626 | C21: =SUM(F21,I21,L21,O21,R21) -> 12377 | D21: =SUM(G21,J21,M21,P21,S21) -> 11249 | E21: =SUM(F21:G21) -> 1201 | F21: 600 | G21: 601 | H21: =SUM(I21:J21) -> 5226 | I21: 2763 | J21: 2463 | K21: =SUM(L21:M21) -> 3332 | L21: 1694 | M21: 1638 | N21: =SUM(O21:P21) -> 7575 | O21: 4017 | P21: 3558 | Q21: =SUM(R21:S21) -> 6292 | R21: 3303 | S21: 2989
A22: 13 세 | B22: =SUM(C22:D22) -> 24679 | C22: =SUM(F22,I22,L22,O22,R22) -> 12715 | D22: =SUM(G22,J22,M22,P22,S22) -> 11964 | E22: =SUM(F22:G22) -> 1276 | F22: 643 | G22: 633 | H22: =SUM(I22:J22) -> 5649 | I22: 2966 | J22: 2683 | K22: =SUM(L22:M22) -> 3559 | L22: 1787 | M22: 1772 | N22: =SUM(O22:P22) -> 7979 | O22: 4125 | P22: 3854 | Q22: =SUM(R22:S22) -> 6216 | R22: 3194 | S22: 3022
A23: 14 세 | B23: =SUM(C23:D23) -> 24365 | C23: =SUM(F23,I23,L23,O23,R23) -> 12898 | D23: =SUM(G23,J23,M23,P23,S23) -> 11467 | E23: =SUM(F23:G23) -> 1431 | F23: 769 | G23: 662 | H23: =SUM(I23:J23) -> 5453 | I23: 2882 | J23: 2571 | K23: =SUM(L23:M23) -> 3596 | L23: 1877 | M23: 1719 | N23: =SUM(O23:P23) -> 7858 | O23: 4224 | P23: 3634 | Q23: =SUM(R23:S23) -> 6027 | R23: 3146 | S23: 2881
A24: 15-19 | B24: =SUM(C24:D24) -> 110566 | C24: =SUM(F24,I24,L24,O24,R24) -> 57866 | D24: =SUM(G24,J24,M24,P24,S24) -> 52700 | E24: =SUM(E25:E29) -> 6980 | F24: =SUM(F25:F29) -> 3561 | G24: =SUM(G25:G29) -> 3419 | H24: =SUM(H25:H29) -> 23796 | I24: =SUM(I25:I29) -> 12650 | J24: =SUM(J25:J29) -> 11146 | K24: =SUM(K25:K29) -> 17570 | L24: =SUM(L25:L29) -> 8944 | ... S24: =SUM(S25:S29) -> 11761
A25: 15 세 | B25: =SUM(C25:D25) -> 23966 | C25: =SUM(F25,I25,L25,O25,R25) -> 12598 | D25: =SUM(G25,J25,M25,P25,S25) -> 11368 | E25: =SUM(F25:G25) -> 1304 | F25: 696 | G25: 608 | H25: =SUM(I25:J25) -> 5292 | I25: 2774 | J25: 2518 | K25: =SUM(L25:M25) -> 3707 | L25: 1934 | M25: 1773 | N25: =SUM(O25:P25) -> 7828 | O25: 4132 | P25: 3696 | Q25: =SUM(R25:S25) -> 5835 | R25: 3062 | S25: 2773
A26: 16 세 | B26: =SUM(C26:D26) -> 24110 | C26: =SUM(F26,I26,L26,O26,R26) -> 12638 | D26: =SUM(G26,J26,M26,P26,S26) -> 11472 | E26: =SUM(F26:G26) -> 1508 | F26: 770 | G26: 738 | H26: =SUM(I26:J26) -> 5192 | I26: 2780 | J26: 2412 | K26: =SUM(L26:M26) -> 3704 | L26: 1875 | M26: 1829 | N26: =SUM(O26:P26) -> 7980 | O26: 4184 | P26: 3796 | Q26: =SUM(R26:S26) -> 5726 | R26: 3029 | S26: 2697
A27: 17 세 | B27: =SUM(C27:D27) -> 22582 | C27: =SUM(F27,I27,L27,O27,R27) -> 11791 | D27: =SUM(G27,J27,M27,P27,S27) -> 10791 | E27: =SUM(F27:G27) -> 1429 | F27: 697 | G27: 732 | H27: =SUM(I27:J27) -> 4825 | I27: 2560 | J27: 2265 | K27: =SUM(L27:M27) -> 3693 | L27: 1870 | M27: 1823 | N27: =SUM(O27:P27) -> 7673 | O27: 4045 | P27: 3628 | Q27: =SUM(R27:S27) -> 4962 | R27: 2619 | S27: 2343
A28: 18 세 | B28: =SUM(C28:D28) -> 20254 | C28: =SUM(F28,I28,L28,O28,R28) -> 10704 | D28: =SUM(G28,J28,M28,P28,S28) -> 9550 | E28: =SUM(F28:G28) -> 1354 | F28: 701 | G28: 653 | H28: =SUM(I28:J28) -> 4325 | I28: 2349 | J28: 1976 | K28: =SUM(L28:M28) -> 3226 | L28: 1633 | M28: 1593 | N28: =SUM(O28:P28) -> 7064 | O28: 3742 | P28: 3322 | Q28: =SUM(R28:S28) -> 4285 | R28: 2279 | S28: 2006
A29: 19 세 | B29: =SUM(C29:D29) -> 19654 | C29: =SUM(F29,I29,L29,O29,R29) -> 10135 | D29: =SUM(G29,J29,M29,P29,S29) -> 9519 | E29: =SUM(F29:G29) -> 1385 | F29: 697 | G29: 688 | H29: =SUM(I29:J29) -> 4162 | I29: 2187 | J29: 1975 | K29: =SUM(L29:M29) -> 3240 | L29: 1632 | M29: 1608 | N29: =SUM(O29:P29) -> 6888 | O29: 3582 | P29: 3306 | Q29: =SUM(R29:S29) -> 3979 | R29: 2037 | S29: 1942
A30: 20-24 | B30: =SUM(C30:D30) -> 96981 | C30: =SUM(F30,I30,L30,O30,R30) -> 49799 | D30: =SUM(G30,J30,M30,P30,S30) -> 47182 | E30: =SUM(E31:E35) -> 8651 | F30: =SUM(F31:F35) -> 4425 | G30: =SUM(G31:G35) -> 4226 | H30: =SUM(H31:H35) -> 20639 | I30: =SUM(I31:I35) -> 10550 | J30: =SUM(J31:J35) -> 10089 | K30: =SUM(K31:K35) -> 16197 | L30: =SUM(L31:L35) -> 8188 | ... S30: =SUM(S31:S35) -> 8352
A31: 20 세 | B31: =SUM(C31:D31) -> 19243 | C31: =SUM(F31,I31,L31,O31,R31) -> 9913 | D31: =SUM(G31,J31,M31,P31,S31) -> 9330 | E31: =SUM(F31:G31) -> 1511 | F31: 767 | G31: 744 | H31: =SUM(I31:J31) -> 4005 | I31: 2057 | J31: 1948 | K31: =SUM(L31:M31) -> 3194 | L31: 1598 | M31: 1596 | N31: =SUM(O31:P31) -> 6824 | O31: 3572 | P31: 3252 | Q31: =SUM(R31:S31) -> 3709 | R31: 1919 | S31: 1790
A32: 21 세 | B32: =SUM(C32:D32) -> 18999 | C32: =SUM(F32,I32,L32,O32,R32) -> 9661 | D32: =SUM(G32,J32,M32,P32,S32) -> 9338 | E32: =SUM(F32:G32) -> 1577 | F32: 757 | G32: 820 | H32: =SUM(I32:J32) -> 4069 | I32: 2104 | J32: 1965 | K32: =SUM(L32:M32) -> 3151 | L32: 1577 | M32: 1574 | N32: =SUM(O32:P32) -> 6682 | O32: 3406 | P32: 3276 | Q32: =SUM(R32:S32) -> 3520 | R32: 1817 | S32: 1703
A33: 22 세 | B33: =SUM(C33:D33) -> 18922 | C33: =SUM(F33,I33,L33,O33,R33) -> 9688 | D33: =SUM(G33,J33,M33,P33,S33) -> 9234 | E33: =SUM(F33:G33) -> 1679 | F33: 841 | G33: 838 | H33: =SUM(I33:J33) -> 3988 | I33: 2051 | J33: 1937 | K33: =SUM(L33:M33) -> 3109 | L33: 1590 | M33: 1519 | N33: =SUM(O33:P33) -> 6764 | O33: 3455 | P33: 3309 | Q33: =SUM(R33:S33) -> 3382 | R33: 1751 | S33: 1631
A34: 23 세 | B34: =SUM(C34:D34) -> 19729 | C34: =SUM(F34,I34,L34,O34,R34) -> 10164 | D34: =SUM(G34,J34,M34,P34,S34) -> 9565 | E34: =SUM(F34:G34) -> 1950 | F34: 1024 | G34: 926 | H34: =SUM(I34:J34) -> 4258 | I34: 2128 | J34: 2130 | K34: =SUM(L34:M34) -> 3303 | L34: 1700 | M34: 1603 | N34: =SUM(O34:P34) -> 6850 | O34: 3552 | P34: 3298 | Q34: =SUM(R34:S34) -> 3368 | R34: 1760 | S34: 1608
A35: 24 세 | B35: =SUM(C35:D35) -> 20088 | C35: =SUM(F35,I35,L35,O35,R35) -> 10373 | D35: =SUM(G35,J35,M35,P35,S35) -> 9715 | E35: =SUM(F35:G35) -> 1934 | F35: 1036 | G35: 898 | H35: =SUM(I35:J35) -> 4319 | I35: 2210 | J35: 2109 | K35: =SUM(L35:M35) -> 3440 | L35: 1723 | M35: 1717 | N35: =SUM(O35:P35) -> 7095 | O35: 3724 | P35: 3371 | Q35: =SUM(R35:S35) -> 3300 | R35: 1680 | S35: 1620
A36: 25-29 | B36: =SUM(C36:D36) -> 118844 | C36: =SUM(F36,I36,L36,O36,R36) -> 59575 | D36: =SUM(G36,J36,M36,P36,S36) -> 59269 | E36: =SUM(E37:E41) -> 10590 | F36: =SUM(F37:F41) -> 5581 | G36: =SUM(G37:G41) -> 5009 | H36: =SUM(H37:H41) -> 25462 | I36: =SUM(I37:I41) -> 12493 | J36: =SUM(J37:J41) -> 12969 | K36: =SUM(K37:K41) -> 18985 | L36: =SUM(L37:L41) -> 9706 | ... S36: =SUM(S37:S41) -> 11473
A37: 25 세 | B37: =SUM(C37:D37) -> 22598 | C37: =SUM(F37,I37,L37,O37,R37) -> 11626 | D37: =SUM(G37,J37,M37,P37,S37) -> 10972 | E37: =SUM(F37:G37) -> 2092 | F37: 1069 | G37: 1023 | H37: =SUM(I37:J37) -> 4980 | I37: 2517 | J37: 2463 | K37: =SUM(L37:M37) -> 3826 | L37: 2040 | M37: 1786 | N37: =SUM(O37:P37) -> 7901 | O37: 4053 | P37: 3848 | Q37: =SUM(R37:S37) -> 3799 | R37: 1947 | S37: 1852
A38: 26 세 | B38: =SUM(C38:D38) -> 24480 | C38: =SUM(F38,I38,L38,O38,R38) -> 12478 | D38: =SUM(G38,J38,M38,P38,S38) -> 12002 | E38: =SUM(F38:G38) -> 2328 | F38: 1250 | G38: 1078 | H38: =SUM(I38:J38) -> 5279 | I38: 2615 | J38: 2664 | K38: =SUM(L38:M38) -> 4107 | L38: 2079 | M38: 2028 | N38: =SUM(O38:P38) -> 8363 | O38: 4311 | P38: 4052 | Q38: =SUM(R38:S38) -> 4403 | R38: 2223 | S38: 2180
A39: 27 세 | B39: =SUM(C39:D39) -> 24291 | C39: =SUM(F39,I39,L39,O39,R39) -> 12098 | D39: =SUM(G39,J39,M39,P39,S39) -> 12193 | E39: =SUM(F39:G39) -> 2242 | F39: 1180 | G39: 1062 | H39: =SUM(I39:J39) -> 5149 | I39: 2578 | J39: 2571 | K39: =SUM(L39:M39) -> 3870 | L39: 1919 | M39: 1951 | N39: =SUM(O39:P39) -> 8498 | O39: 4222 | P39: 4276 | Q39: =SUM(R39:S39) -> 4532 | R39: 2199 | S39: 2333
A40: 28 세 | B40: =SUM(C40:D40) -> 23528 | C40: =SUM(F40,I40,L40,O40,R40) -> 11675 | D40: =SUM(G40,J40,M40,P40,S40) -> 11853 | E40: =SUM(F40:G40) -> 1985 | F40: 1044 | G40: 941 | H40: =SUM(I40:J40) -> 5019 | I40: 2386 | J40: 2633 | K40: =SUM(L40:M40) -> 3598 | L40: 1834 | M40: 1764 | N40: =SUM(O40:P40) -> 8308 | O40: 4167 | P40: 4141 | Q40: =SUM(R40:S40) -> 4618 | R40: 2244 | S40: 2374
A41: 29 세 | B41: =SUM(C41:D41) -> 23947 | C41: =SUM(F41,I41,L41,O41,R41) -> 11698 | D41: =SUM(G41,J41,M41,P41,S41) -> 12249 | E41: =SUM(F41:G41) -> 1943 | F41: 1038 | G41: 905 | H41: =SUM(I41:J41) -> 5035 | I41: 2397 | J41: 2638 | K41: =SUM(L41:M41) -> 3584 | L41: 1834 | M41: 1750 | N41: =SUM(O41:P41) -> 8293 | O41: 4071 | P41: 4222 | Q41: =SUM(R41:S41) -> 5092 | R41: 2358 | S41: 2734
A42: 30-34 | B42: =SUM(C42:D42) -> 113219 | C42: =SUM(F42,I42,L42,O42,R42) -> 56833 | D42: =SUM(G42,J42,M42,P42,S42) -> 56386 | E42: =SUM(E43:E47) -> 7981 | F42: =SUM(F43:F47) -> 4355 | G42: =SUM(G43:G47) -> 3626 | H42: =SUM(H43:H47) -> 23941 | I42: =SUM(I43:I47) -> 11707 | J42: =SUM(J43:J47) -> 12234 | K42: =SUM(K43:K47) -> 14694 | L42: =SUM(L43:L47) -> 7666 | ... S42: =SUM(S43:S47) -> 14988
A43: 30 세 | B43: =SUM(C43:D43) -> 20705 | C43: =SUM(F43,I43,L43,O43,R43) -> 10471 | D43: =SUM(G43,J43,M43,P43,S43) -> 10234 | E43: =SUM(F43:G43) -> 1637 | F43: 869 | G43: 768 | H43: =SUM(I43:J43) -> 4274 | I43: 2173 | J43: 2101 | K43: =SUM(L43:M43) -> 2877 | L43: 1518 | M43: 1359 | N43: =SUM(O43:P43) -> 7168 | O43: 3684 | P43: 3484 | Q43: =SUM(R43:S43) -> 4749 | R43: 2227 | S43: 2522
A44: 31 세 | B44: =SUM(C44:D44) -> 22605 | C44: =SUM(F44,I44,L44,O44,R44) -> 11164 | D44: =SUM(G44,J44,M44,P44,S44) -> 11441 | E44: =SUM(F44:G44) -> 1685 | F44: 906 | G44: 779 | H44: =SUM(I44:J44) -> 4765 | I44: 2315 | J44: 2450 | K44: =SUM(L44:M44) -> 3027 | L44: 1554 | M44: 1473 | N44: =SUM(O44:P44) -> 7514 | O44: 3721 | P44: 3793 | Q44: =SUM(R44:S44) -> 5614 | R44: 2668 | S44: 2946
A45: 32 세 | B45: =SUM(C45:D45) -> 22433 | C45: =SUM(F45,I45,L45,O45,R45) -> 11350 | D45: =SUM(G45,J45,M45,P45,S45) -> 11083 | E45: =SUM(F45:G45) -> 1627 | F45: 896 | G45: 731 | H45: =SUM(I45:J45) -> 4781 | I45: 2344 | J45: 2437 | K45: =SUM(L45:M45) -> 2854 | L45: 1542 | M45: 1312 | N45: =SUM(O45:P45) -> 7466 | O45: 3847 | P45: 3619 | Q45: =SUM(R45:S45) -> 5705 | R45: 2721 | S45: 2984
A46: 33 세 | B46: =SUM(C46:D46) -> 22332 | C46: =SUM(F46,I46,L46,O46,R46) -> 11256 | D46: =SUM(G46,J46,M46,P46,S46) -> 11076 | E46: =SUM(F46:G46) -> 1459 | F46: 805 | G46: 654 | H46: =SUM(I46:J46) -> 4644 | I46: 2263 | J46: 2381 | K46: =SUM(L46:M46) -> 2887 | L46: 1498 | M46: 1389 | N46: =SUM(O46:P46) -> 7378 | O46: 3836 | P46: 3542 | Q46: =SUM(R46:S46) -> 5964 | R46: 2854 | S46: 3110
A47: 34 세 | B47: =SUM(C47:D47) -> 25144 | C47: =SUM(F47,I47,L47,O47,R47) -> 12592 | D47: =SUM(G47,J47,M47,P47,S47) -> 12552 | E47: =SUM(F47:G47) -> 1573 | F47: 879 | G47: 694 | H47: =SUM(I47:J47) -> 5477 | I47: 2612 | J47: 2865 | K47: =SUM(L47:M47) -> 3049 | L47: 1554 | M47: 1495 | N47: =SUM(O47:P47) -> 8260 | O47: 4188 | P47: 4072 | Q47: =SUM(R47:S47) -> 6785 | R47: 3359 | S47: 3426
A48: 35-39 | B48: =SUM(C48:D48) -> 130043 | C48: =SUM(F48,I48,L48,O48,R48) -> 64621 | D48: =SUM(G48,J48,M48,P48,S48) -> 65422 | E48: =SUM(E49:E53) -> 8090 | F48: =SUM(F49:F53) -> 4356 | G48: =SUM(G49:G53) -> 3734 | H48: =SUM(H49:H53) -> 28918 | I48: =SUM(I49:I53) -> 13881 | J48: =SUM(J49:J53) -> 15037 | K48: =SUM(K49:K53) -> 15725 | L48: =SUM(L49:L53) -> 7814 | ... S48: =SUM(S49:S53) -> 17900
A49: 35 세 | B49: =SUM(C49:D49) -> 25478 | C49: =SUM(F49,I49,L49,O49,R49) -> 12590 | D49: =SUM(G49,J49,M49,P49,S49) -> 12888 | E49: =SUM(F49:G49) -> 1597 | F49: 863 | G49: 734 | H49: =SUM(I49:J49) -> 5532 | I49: 2630 | J49: 2902 | K49: =SUM(L49:M49) -> 3042 | L49: 1551 | M49: 1491 | N49: =SUM(O49:P49) -> 8232 | O49: 4109 | P49: 4123 | Q49: =SUM(R49:S49) -> 7075 | R49: 3437 | S49: 3638
A50: 36 세 | B50: =SUM(C50:D50) -> 25754 | C50: =SUM(F50,I50,L50,O50,R50) -> 12819 | D50: =SUM(G50,J50,M50,P50,S50) -> 12935 | E50: =SUM(F50:G50) -> 1619 | F50: 860 | G50: 759 | H50: =SUM(I50:J50) -> 5725 | I50: 2762 | J50: 2963 | K50: =SUM(L50:M50) -> 3154 | L50: 1560 | M50: 1594 | N50: =SUM(O50:P50) -> 8133 | O50: 4058 | P50: 4075 | Q50: =SUM(R50:S50) -> 7123 | R50: 3579 | S50: 3544
A51: 37 세 | B51: =SUM(C51:D51) -> 26778 | C51: =SUM(F51,I51,L51,O51,R51) -> 13307 | D51: =SUM(G51,J51,M51,P51,S51) -> 13471 | E51: =SUM(F51:G51) -> 1676 | F51: 926 | G51: 750 | H51: =SUM(I51:J51) -> 5906 | I51: 2805 | J51: 3101 | K51: =SUM(L51:M51) -> 3273 | L51: 1631 | M51: 1642 | N51: =SUM(O51:P51) -> 8502 | O51: 4207 | P51: 4295 | Q51: =SUM(R51:S51) -> 7421 | R51: 3738 | S51: 3683
A52: 38 세 | B52: =SUM(C52:D52) -> 26660 | C52: =SUM(F52,I52,L52,O52,R52) -> 13270 | D52: =SUM(G52,J52,M52,P52,S52) -> 13390 | E52: =SUM(F52:G52) -> 1659 | F52: 880 | G52: 779 | H52: =SUM(I52:J52) -> 5943 | I52: 2898 | J52: 3045 | K52: =SUM(L52:M52) -> 3164 | L52: 1538 | M52: 1626 | N52: =SUM(O52:P52) -> 8464 | O52: 4165 | P52: 4299 | Q52: =SUM(R52:S52) -> 7430 | R52: 3789 | S52: 3641
A53: 39 세 | B53: =SUM(C53:D53) -> 25373 | C53: =SUM(F53,I53,L53,O53,R53) -> 12635 | D53: =SUM(G53,J53,M53,P53,S53) -> 12738 | E53: =SUM(F53:G53) -> 1539 | F53: 827 | G53: 712 | H53: =SUM(I53:J53) -> 5812 | I53: 2786 | J53: 3026 | K53: =SUM(L53:M53) -> 3092 | L53: 1534 | M53: 1558 | N53: =SUM(O53:P53) -> 8020 | O53: 3972 | P53: 4048 | Q53: =SUM(R53:S53) -> 6910 | R53: 3516 | S53: 3394
A54: 40-44 | B54: =SUM(C54:D54) -> 123241 | C54: =SUM(F54,I54,L54,O54,R54) -> 61554 | D54: =SUM(G54,J54,M54,P54,S54) -> 61687 | E54: =SUM(E55:E59) -> 7499 | F54: =SUM(F55:F59) -> 3867 | G54: =SUM(G55:G59) -> 3632 | H54: =SUM(H55:H59) -> 27134 | I54: =SUM(I55:I59) -> 13545 | J54: =SUM(J55:J59) -> 13589 | K54: =SUM(K55:K59) -> 16737 | L54: =SUM(L55:L59) -> 7804 | ... S54: =SUM(S55:S59) -> 15137
A55: 40 세 | B55: =SUM(C55:D55) -> 27145 | C55: =SUM(F55,I55,L55,O55,R55) -> 13469 | D55: =SUM(G55,J55,M55,P55,S55) -> 13676 | E55: =SUM(F55:G55) -> 1533 | F55: 819 | G55: 714 | H55: =SUM(I55:J55) -> 6055 | I55: 3003 | J55: 3052 | K55: =SUM(L55:M55) -> 3477 | L55: 1597 | M55: 1880 | N55: =SUM(O55:P55) -> 8708 | O55: 4409 | P55: 4299 | Q55: =SUM(R55:S55) -> 7372 | R55: 3641 | S55: 3731
A56: 41 세 | B56: =SUM(C56:D56) -> 24652 | C56: =SUM(F56,I56,L56,O56,R56) -> 12197 | D56: =SUM(G56,J56,M56,P56,S56) -> 12455 | E56: =SUM(F56:G56) -> 1524 | F56: 808 | G56: 716 | H56: =SUM(I56:J56) -> 5553 | I56: 2758 | J56: 2795 | K56: =SUM(L56:M56) -> 3283 | L56: 1539 | M56: 1744 | N56: =SUM(O56:P56) -> 7953 | O56: 3824 | P56: 4129 | Q56: =SUM(R56:S56) -> 6339 | R56: 3268 | S56: 3071
A57: 42 세 | B57: =SUM(C57:D57) -> 24302 | C57: =SUM(F57,I57,L57,O57,R57) -> 12388 | D57: =SUM(G57,J57,M57,P57,S57) -> 11914 | E57: =SUM(F57:G57) -> 1464 | F57: 777 | G57: 687 | H57: =SUM(I57:J57) -> 5311 | I57: 2668 | J57: 2643 | K57: =SUM(L57:M57) -> 3259 | L57: 1540 | M57: 1719 | N57: =SUM(O57:P57) -> 7938 | O57: 4026 | P57: 3912 | Q57: =SUM(R57:S57) -> 6330 | R57: 3377 | S57: 2953
A58: 43 세 | B58: =SUM(C58:D58) -> 24236 | C58: =SUM(F58,I58,L58,O58,R58) -> 11966 | D58: =SUM(G58,J58,M58,P58,S58) -> 12270 | E58: =SUM(F58:G58) -> 1499 | F58: 732 | G58: 767 | H58: =SUM(I58:J58) -> 5209 | I58: 2611 | J58: 2598 | K58: =SUM(L58:M58) -> 3380 | L58: 1536 | M58: 1844 | N58: =SUM(O58:P58) -> 8053 | O58: 3872 | P58: 4181 | Q58: =SUM(R58:S58) -> 6095 | R58: 3215 | S58: 2880
A59: 44 세 | B59: =SUM(C59:D59) -> 22906 | C59: =SUM(F59,I59,L59,O59,R59) -> 11534 | D59: =SUM(G59,J59,M59,P59,S59) -> 11372 | E59: =SUM(F59:G59) -> 1479 | F59: 731 | G59: 748 | H59: =SUM(I59:J59) -> 5006 | I59: 2505 | J59: 2501 | K59: =SUM(L59:M59) -> 3338 | L59: 1592 | M59: 1746 | N59: =SUM(O59:P59) -> 7637 | O59: 3762 | P59: 3875 | Q59: =SUM(R59:S59) -> 5446 | R59: 2944 | S59: 2502
A60: 45-49 | B60: =SUM(C60:D60) -> 118515 | C60: =SUM(F60,I60,L60,O60,R60) -> 58932 | D60: =SUM(G60,J60,M60,P60,S60) -> 59583 | E60: =SUM(E61:E65) -> 8889 | F60: =SUM(F61:F65) -> 4278 | G60: =SUM(G61:G65) -> 4611 | H60: =SUM(H61:H65) -> 25172 | I60: =SUM(I61:I65) -> 12247 | J60: =SUM(J61:J65) -> 12925 | K60: =SUM(K61:K65) -> 18687 | L60: =SUM(L61:L65) -> 8789 | ... S60: =SUM(S61:S65) -> 11008
A61: 45 세 | B61: =SUM(C61:D61) -> 23101 | C61: =SUM(F61,I61,L61,O61,R61) -> 11671 | D61: =SUM(G61,J61,M61,P61,S61) -> 11430 | E61: =SUM(F61:G61) -> 1621 | F61: 827 | G61: 794 | H61: =SUM(I61:J61) -> 4884 | I61: 2393 | J61: 2491 | K61: =SUM(L61:M61) -> 3452 | L61: 1670 | M61: 1782 | N61: =SUM(O61:P61) -> 7906 | O61: 3889 | P61: 4017 | Q61: =SUM(R61:S61) -> 5238 | R61: 2892 | S61: 2346
A62: 46 세 | B62: =SUM(C62:D62) -> 23060 | C62: =SUM(F62,I62,L62,O62,R62) -> 11575 | D62: =SUM(G62,J62,M62,P62,S62) -> 11485 | E62: =SUM(F62:G62) -> 1619 | F62: 767 | G62: 852 | H62: =SUM(I62:J62) -> 5025 | I62: 2435 | J62: 2590 | K62: =SUM(L62:M62) -> 3475 | L62: 1622 | M62: 1853 | N62: =SUM(O62:P62) -> 7869 | O62: 3812 | P62: 4057 | Q62: =SUM(R62:S62) -> 5072 | R62: 2939 | S62: 2133
A63: 47 세 | B63: =SUM(C63:D63) -> 23663 | C63: =SUM(F63,I63,L63,O63,R63) -> 11789 | D63: =SUM(G63,J63,M63,P63,S63) -> 11874 | E63: =SUM(F63:G63) -> 1833 | F63: 900 | G63: 933 | H63: =SUM(I63:J63) -> 4992 | I63: 2468 | J63: 2524 | K63: =SUM(L63:M63) -> 3781 | L63: 1775 | M63: 2006 | N63: =SUM(O63:P63) -> 8176 | O63: 3972 | P63: 4204 | Q63: =SUM(R63:S63) -> 4881 | R63: 2674 | S63: 2207
A64: 48 세 | B64: =SUM(C64:D64) -> 25536 | C64: =SUM(F64,I64,L64,O64,R64) -> 12561 | D64: =SUM(G64,J64,M64,P64,S64) -> 12975 | E64: =SUM(F64:G64) -> 1963 | F64: 899 | G64: 1064 | H64: =SUM(I64:J64) -> 5389 | I64: 2597 | J64: 2792 | K64: =SUM(L64:M64) -> 4146 | L64: 1937 | M64: 2209 | N64: =SUM(O64:P64) -> 8895 | O64: 4288 | P64: 4607 | Q64: =SUM(R64:S64) -> 5143 | R64: 2840 | S64: 2303
A65: 49 세 | B65: =SUM(C65:D65) -> 23155 | C65: =SUM(F65,I65,L65,O65,R65) -> 11336 | D65: =SUM(G65,J65,M65,P65,S65) -> 11819 | E65: =SUM(F65:G65) -> 1853 | F65: 885 | G65: 968 | H65: =SUM(I65:J65) -> 4882 | I65: 2354 | J65: 2528 | K65: =SUM(L65:M65) -> 3833 | L65: 1785 | M65: 2048 | N65: =SUM(O65:P65) -> 8195 | O65: 3939 | P65: 4256 | Q65: =SUM(R65:S65) -> 4392 | R65: 2373 | S65: 2019
A66: 50-54 | B66: =SUM(C66:D66) -> 91243 | C66: =SUM(F66,I66,L66,O66,R66) -> 44815 | D66: =SUM(G66,J66,M66,P66,S66) -> 46428 | E66: =SUM(E67:E71) -> 8698 | F66: =SUM(F67:F71) -> 4216 | G66: =SUM(G67:G71) -> 4482 | H66: =SUM(H67:H71) -> 19417 | I66: =SUM(I67:I71) -> 9498 | J66: =SUM(J67:J71) -> 9919 | K66: =SUM(K67:K71) -> 15867 | L66: =SUM(L67:L71) -> 7510 | ... S66: =SUM(S67:S71) -> 7346
A67: 50 세 | B67: =SUM(C67:D67) -> 20631 | C67: =SUM(F67,I67,L67,O67,R67) -> 10048 | D67: =SUM(G67,J67,M67,P67,S67) -> 10583 | E67: =SUM(F67:G67) -> 1812 | F67: 868 | G67: 944 | H67: =SUM(I67:J67) -> 4357 | I67: 2106 | J67: 2251 | K67: =SUM(L67:M67) -> 3520 | L67: 1667 | M67: 1853 | N67: =SUM(O67:P67) -> 7193 | O67: 3406 | P67: 3787 | Q67: 3749 | R67: 2001 | S67: 1748
A68: 51 세 | B68: =SUM(C68:D68) -> 20282 | C68: =SUM(F68,I68,L68,O68,R68) -> 10000 | D68: =SUM(G68,J68,M68,P68,S68) -> 10282 | E68: =SUM(F68:G68) -> 1873 | F68: 916 | G68: 957 | H68: =SUM(I68:J68) -> 4293 | I68: 2143 | J68: 2150 | K68: =SUM(L68:M68) -> 3450 | L68: 1617 | M68: 1833 | N68: =SUM(O68:P68) -> 7150 | O68: 3467 | P68: 3683 | Q68: 3516 | R68: 1857 | S68: 1659
A69: 52 세 | B69: =SUM(C69:D69) -> 17121 | C69: =SUM(F69,I69,L69,O69,R69) -> 8596 | D69: =SUM(G69,J69,M69,P69,S69) -> 8525 | E69: =SUM(F69:G69) -> 1617 | F69: 826 | G69: 791 | H69: =SUM(I69:J69) -> 3729 | I69: 1857 | J69: 1872 | K69: =SUM(L69:M69) -> 2988 | L69: 1443 | M69: 1545 | N69: =SUM(O69:P69) -> 5934 | O69: 2975 | P69: 2959 | Q69: 2853 | R69: 1495 | S69: 1358
A70: 53 세 | B70: =SUM(C70:D70) -> 18076 | C70: =SUM(F70,I70,L70,O70,R70) -> 8783 | D70: =SUM(G70,J70,M70,P70,S70) -> 9293 | E70: =SUM(F70:G70) -> 1857 | F70: 858 | G70: 999 | H70: =SUM(I70:J70) -> 3914 | I70: 1880 | J70: 2034 | K70: =SUM(L70:M70) -> 3210 | L70: 1512 | M70: 1698 | N70: =SUM(O70:P70) -> 6202 | O70: 3026 | P70: 3176 | Q70: 2893 | R70: 1507 | S70: 1386
A71: 54 세 | B71: =SUM(C71:D71) -> 15133 | C71: =SUM(F71,I71,L71,O71,R71) -> 7388 | D71: =SUM(G71,J71,M71,P71,S71) -> 7745 | E71: =SUM(F71:G71) -> 1539 | F71: 748 | G71: 791 | H71: =SUM(I71:J71) -> 3124 | I71: 1512 | J71: 1612 | K71: =SUM(L71:M71) -> 2699 | L71: 1271 | M71: 1428 | N71: =SUM(O71:P71) -> 5280 | O71: 2561 | P71: 2719 | Q71: 2491 | R71: 1296 | S71: 1195
A72: 55-59 | B72: =SUM(C72:D72) -> 64668 | C72: =SUM(F72,I72,L72,O72,R72) -> 31336 | D72: =SUM(G72,J72,M72,P72,S72) -> 33332 | E72: =SUM(E73:E77) -> 7045 | F72: =SUM(F73:F77) -> 3327 | G72: =SUM(G73:G77) -> 3718 | H72: =SUM(H73:H77) -> 13374 | I72: =SUM(I73:I77) -> 6500 | J72: =SUM(J73:J77) -> 6874 | K72: =SUM(K73:K77) -> 11864 | L72: =SUM(L73:L77) -> 5708 | ... S72: =SUM(S73:S77) -> 5116
A73: 55 세 | B73: =SUM(C73:D73) -> 12977 | C73: =SUM(F73,I73,L73,O73,R73) -> 6291 | D73: =SUM(G73,J73,M73,P73,S73) -> 6686 | E73: =SUM(F73:G73) -> 1375 | F73: 645 | G73: 730 | H73: =SUM(I73:J73) -> 2724 | I73: 1310 | J73: 1414 | K73: =SUM(L73:M73) -> 2309 | L73: 1124 | M73: 1185 | N73: =SUM(O73:P73) -> 4541 | O73: 2193 | P73: 2348 | Q73: 2028 | R73: 1019 | S73: 1009
A74: 56 세 | B74: =SUM(C74:D74) -> 14547 | C74: =SUM(F74,I74,L74,O74,R74) -> 7068 | D74: =SUM(G74,J74,M74,P74,S74) -> 7479 | E74: =SUM(F74:G74) -> 1467 | F74: 669 | G74: 798 | H74: =SUM(I74:J74) -> 3007 | I74: 1491 | J74: 1516 | K74: =SUM(L74:M74) -> 2656 | L74: 1263 | M74: 1393 | N74: =SUM(O74:P74) -> 5159 | O74: 2517 | P74: 2642 | Q74: 2258 | R74: 1128 | S74: 1130
A75: 57 세 | B75: =SUM(C75:D75) -> 11796 | C75: =SUM(F75,I75,L75,O75,R75) -> 5744 | D75: =SUM(G75,J75,M75,P75,S75) -> 6052 | E75: =SUM(F75:G75) -> 1310 | F75: 628 | G75: 682 | H75: =SUM(I75:J75) -> 2415 | I75: 1161 | J75: 1254 | K75: =SUM(L75:M75) -> 2178 | L75: 1061 | M75: 1117 | N75: =SUM(O75:P75) -> 4073 | O75: 2004 | P75: 2069 | Q75: 1820 | R75: 890 | S75: 930
A76: 58 세 | B76: =SUM(C76:D76) -> 12408 | C76: =SUM(F76,I76,L76,O76,R76) -> 6020 | D76: =SUM(G76,J76,M76,P76,S76) -> 6388 | E76: =SUM(F76:G76) -> 1395 | F76: 668 | G76: 727 | H76: =SUM(I76:J76) -> 2614 | I76: 1297 | J76: 1317 | K76: =SUM(L76:M76) -> 2266 | L76: 1060 | M76: 1206 | N76: =SUM(O76:P76) -> 4243 | O76: 2109 | P76: 2134 | Q76: 1890 | R76: 886 | S76: 1004
A77: 59 세 | B77: =SUM(C77:D77) -> 12940 | C77: =SUM(F77,I77,L77,O77,R77) -> 6213 | D77: =SUM(G77,J77,M77,P77,S77) -> 6727 | E77: =SUM(F77:G77) -> 1498 | F77: 717 | G77: 781 | H77: =SUM(I77:J77) -> 2614 | I77: 1241 | J77: 1373 | K77: =SUM(L77:M77) -> 2455 | L77: 1200 | M77: 1255 | N77: =SUM(O77:P77) -> 4355 | O77: 2080 | P77: 2275 | Q77: 2018 | R77: 975 | S77: 1043
A78: 60-64 | B78: =SUM(C78:D78) -> 52895 | C78: =SUM(F78,I78,L78,O78,R78) -> 25529 | D78: =SUM(G78,J78,M78,P78,S78) -> 27366 | E78: =SUM(E79:E83) -> 6284 | F78: =SUM(F79:F83) -> 2965 | G78: =SUM(G79:G83) -> 3319 | H78: =SUM(H79:H83) -> 10701 | I78: =SUM(I79:I83) -> 5155 | J78: =SUM(J79:J83) -> 5546 | K78: =SUM(K79:K83) -> 9833 | L78: =SUM(L79:L83) -> 4805 | ... S78: =SUM(S79:S83) -> 4347
A79: 60 세 | B79: =SUM(C79:D79) -> 11960 | C79: =SUM(F79,I79,L79,O79,R79) -> 5812 | D79: =SUM(G79,J79,M79,P79,S79) -> 6148 | E79: =SUM(F79:G79) -> 1392 | F79: 660 | G79: 732 | H79: =SUM(I79:J79) -> 2375 | I79: 1153 | J79: 1222 | K79: =SUM(L79:M79) -> 2236 | L79: 1044 | M79: 1192 | N79: =SUM(O79:P79) -> 4104 | O79: 2038 | P79: 2066 | Q79: 1853 | R79: 917 | S79: 936
A80: 61 세 | B80: =SUM(C80:D80) -> 12692 | C80: =SUM(F80,I80,L80,O80,R80) -> 6052 | D80: =SUM(G80,J80,M80,P80,S80) -> 6640 | E80: =SUM(F80:G80) -> 1470 | F80: 700 | G80: 770 | H80: =SUM(I80:J80) -> 2650 | I80: 1250 | J80: 1400 | K80: =SUM(L80:M80) -> 2356 | L80: 1139 | M80: 1217 | N80: =SUM(O80:P80) -> 4227 | O80: 2036 | P80: 2191 | Q80: 1989 | R80: 927 | S80: 1062
A81: 62 세 | B81: =SUM(C81:D81) -> 10096 | C81: =SUM(F81,I81,L81,O81,R81) -> 5002 | D81: =SUM(G81,J81,M81,P81,S81) -> 5094 | E81: =SUM(F81:G81) -> 1219 | F81: 545 | G81: 674 | H81: =SUM(I81:J81) -> 2012 | I81: 991 | J81: 1021 | K81: =SUM(L81:M81) -> 1896 | L81: 968 | M81: 928 | N81: =SUM(O81:P81) -> 3328 | O81: 1660 | P81: 1668 | Q81: 1641 | R81: 838 | S81: 803
A82: 63 세 | B82: =SUM(C82:D82) -> 9034 | C82: =SUM(F82,I82,L82,O82,R82) -> 4342 | D82: =SUM(G82,J82,M82,P82,S82) -> 4692 | E82: =SUM(F82:G82) -> 1104 | F82: 523 | G82: 581 | H82: =SUM(I82:J82) -> 1846 | I82: 922 | J82: 924 | K82: =SUM(L82:M82) -> 1658 | L82: 814 | M82: 844 | N82: =SUM(O82:P82) -> 3024 | O82: 1418 | P82: 1606 | Q82: 1402 | R82: 665 | S82: 737
A83: 64 세 | B83: =SUM(C83:D83) -> 9113 | C83: =SUM(F83,I83,L83,O83,R83) -> 4321 | D83: =SUM(G83,J83,M83,P83,S83) -> 4792 | E83: =SUM(F83:G83) -> 1099 | F83: 537 | G83: 562 | H83: =SUM(I83:J83) -> 1818 | I83: 839 | J83: 979 | K83: =SUM(L83:M83) -> 1687 | L83: 840 | M83: 847 | N83: =SUM(O83:P83) -> 3026 | O83: 1431 | P83: 1595 | Q83: 1483 | R83: 674 | S83: 809
A84: 65-69 | B84: =SUM(C84:D84) -> 46085 | C84: =SUM(F84,I84,L84,O84,R84) -> 21104 | D84: =SUM(G84,J84,M84,P84,S84) -> 24981 | E84: =SUM(E85:E89) -> 5906 | F84: =SUM(F85:F89) -> 2812 | G84: =SUM(G85:G89) -> 3094 | H84: =SUM(H85:H89) -> 9012 | I84: =SUM(I85:I89) -> 4133 | J84: =SUM(J85:J89) -> 4879 | K84: =SUM(K85:K89) -> 8354 | L84: =SUM(L85:L89) -> 3971 | ... S84: =SUM(S85:S89) -> 4581
A85: 65 세 | B85: =SUM(C85:D85) -> 8481 | C85: =SUM(F85,I85,L85,O85,R85) -> 3970 | D85: =SUM(G85,J85,M85,P85,S85) -> 4511 | E85: =SUM(F85:G85) -> 1061 | F85: 483 | G85: 578 | H85: =SUM(I85:J85) -> 1690 | I85: 800 | J85: 890 | K85: =SUM(L85:M85) -> 1530 | L85: 758 | M85: 772 | N85: =SUM(O85:P85) -> 2759 | O85: 1264 | P85: 1495 | Q85: =SUM(R85:S85) -> 1441 | R85: 665 | S85: 776
A86: 66 세 | B86: =SUM(C86:D86) -> 11866 | C86: =SUM(F86,I86,L86,O86,R86) -> 5646 | D86: =SUM(G86,J86,M86,P86,S86) -> 6220 | E86: =SUM(F86:G86) -> 1488 | F86: 739 | G86: 749 | H86: =SUM(I86:J86) -> 2269 | I86: 1069 | J86: 1200 | K86: =SUM(L86:M86) -> 2149 | L86: 1032 | M86: 1117 | N86: =SUM(O86:P86) -> 3956 | O86: 1927 | P86: 2029 | Q86: =SUM(R86:S86) -> 2004 | R86: 879 | S86: 1125
A87: 67 세 | B87: =SUM(C87:D87) -> 9507 | C87: =SUM(F87,I87,L87,O87,R87) -> 4302 | D87: =SUM(G87,J87,M87,P87,S87) -> 5205 | E87: =SUM(F87:G87) -> 1246 | F87: 598 | G87: 648 | H87: =SUM(I87:J87) -> 1821 | I87: 828 | J87: 993 | K87: =SUM(L87:M87) -> 1720 | L87: 809 | M87: 911 | N87: =SUM(O87:P87) -> 3018 | O87: 1370 | P87: 1648 | Q87: =SUM(R87:S87) -> 1702 | R87: 697 | S87: 1005
A88: 68 세 | B88: =SUM(C88:D88) -> 8088 | C88: =SUM(F88,I88,L88,O88,R88) -> 3568 | D88: =SUM(G88,J88,M88,P88,S88) -> 4520 | E88: =SUM(F88:G88) -> 1093 | F88: 501 | G88: 592 | H88: =SUM(I88:J88) -> 1602 | I88: 713 | J88: 889 | K88: =SUM(L88:M88) -> 1461 | L88: 684 | M88: 777 | N88: =SUM(O88:P88) -> 2593 | O88: 1141 | P88: 1452 | Q88: =SUM(R88:S88) -> 1339 | R88: 529 | S88: 810
A89: 69 세 | B89: =SUM(C89:D89) -> 8143 | C89: =SUM(F89,I89,L89,O89,R89) -> 3618 | D89: =SUM(G89,J89,M89,P89,S89) -> 4525 | E89: =SUM(F89:G89) -> 1018 | F89: 491 | G89: 527 | H89: =SUM(I89:J89) -> 1630 | I89: 723 | J89: 907 | K89: =SUM(L89:M89) -> 1494 | L89: 688 | M89: 806 | N89: =SUM(O89:P89) -> 2579 | O89: 1159 | P89: 1420 | Q89: =SUM(R89:S89) -> 1422 | R89: 557 | S89: 865
A90: 70-74 | B90: =SUM(C90:D90) -> 32648 | C90: =SUM(F90,I90,L90,O90,R90) -> 13589 | D90: =SUM(G90,J90,M90,P90,S90) -> 19059 | E90: =SUM(E91:E95) -> 4099 | F90: =SUM(F91:F95) -> 1876 | G90: =SUM(G91:G95) -> 2223 | H90: =SUM(H91:H95) -> 6319 | I90: =SUM(I91:I95) -> 2636 | J90: =SUM(J91:J95) -> 3683 | K90: =SUM(K91:K95) -> 5787 | L90: =SUM(L91:L95) -> 2437 | ... S90: =SUM(S91:S95) -> 3764
A91: 70 세 | B91: =SUM(C91:D91) -> 7483 | C91: =SUM(F91,I91,L91,O91,R91) -> 3296 | D91: =SUM(G91,J91,M91,P91,S91) -> 4187 | E91: =SUM(F91:G91) -> 956 | F91: 453 | G91: 503 | H91: =SUM(I91:J91) -> 1434 | I91: 637 | J91: 797 | K91: =SUM(L91:M91) -> 1336 | L91: 614 | M91: 722 | N91: =SUM(O91:P91) -> 2434 | O91: 1074 | P91: 1360 | Q91: =SUM(R91:S91) -> 1323 | R91: 518 | S91: 805
A92: 71 세 | B92: =SUM(C92:D92) -> 7005 | C92: =SUM(F92,I92,L92,O92,R92) -> 2976 | D92: =SUM(G92,J92,M92,P92,S92) -> 4029 | E92: =SUM(F92:G92) -> 901 | F92: 418 | G92: 483 | H92: =SUM(I92:J92) -> 1344 | I92: 569 | J92: 775 | K92: =SUM(L92:M92) -> 1227 | L92: 535 | M92: 692 | N92: =SUM(O92:P92) -> 2212 | O92: 964 | P92: 1248 | Q92: =SUM(R92:S92) -> 1321 | R92: 490 | S92: 831
A93: 72 세 | B93: =SUM(C93:D93) -> 6160 | C93: =SUM(F93,I93,L93,O93,R93) -> 2491 | D93: =SUM(G93,J93,M93,P93,S93) -> 3669 | E93: =SUM(F93:G93) -> 788 | F93: 357 | G93: 431 | H93: =SUM(I93:J93) -> 1179 | I93: 474 | J93: 705 | K93: =SUM(L93:M93) -> 1119 | L93: 461 | M93: 658 | N93: =SUM(O93:P93) -> 1952 | O93: 786 | P93: 1166 | Q93: =SUM(R93:S93) -> 1122 | R93: 413 | S93: 709
A94: 73 세 | B94: =SUM(C94:D94) -> 6264 | C94: =SUM(F94,I94,L94,O94,R94) -> 2566 | D94: =SUM(G94,J94,M94,P94,S94) -> 3698 | E94: =SUM(F94:G94) -> 727 | F94: 322 | G94: 405 | H94: =SUM(I94:J94) -> 1222 | I94: 531 | J94: 691 | K94: =SUM(L94:M94) -> 1109 | L94: 441 | M94: 668 | N94: =SUM(O94:P94) -> 1989 | O94: 825 | P94: 1164 | Q94: =SUM(R94:S94) -> 1217 | R94: 447 | S94: 770
A95: 74 세 | B95: =SUM(C95:D95) -> 5736 | C95: =SUM(F95,I95,L95,O95,R95) -> 2260 | D95: =SUM(G95,J95,M95,P95,S95) -> 3476 | E95: =SUM(F95:G95) -> 727 | F95: 326 | G95: 401 | H95: =SUM(I95:J95) -> 1140 | I95: 425 | J95: 715 | K95: =SUM(L95:M95) -> 996 | L95: 386 | M95: 610 | N95: =SUM(O95:P95) -> 1829 | O95: 728 | P95: 1101 | Q95: =SUM(R95:S95) -> 1044 | R95: 395 | S95: 649
A96: 75-79 | B96: =SUM(C96:D96) -> 20510 | C96: =SUM(F96,I96,L96,O96,R96) -> 7200 | D96: =SUM(G96,J96,M96,P96,S96) -> 13310 | E96: =SUM(E97:E101) -> 2445 | F96: =SUM(F97:F101) -> 1017 | G96: =SUM(G97:G101) -> 1428 | H96: =SUM(H97:H101) -> 4043 | I96: =SUM(I97:I101) -> 1356 | J96: =SUM(J97:J101) -> 2687 | K96: =SUM(K97:K101) -> 3763 | L96: =SUM(L97:L101) -> 1306 | ... S96: =SUM(S97:S101) -> 2618
A97: 75 세 | B97: =SUM(C97:D97) -> 4790 | C97: =SUM(F97,I97,L97,O97,R97) -> 1799 | D97: =SUM(G97,J97,M97,P97,S97) -> 2991 | E97: =SUM(F97:G97) -> 590 | F97: 266 | G97: 324 | H97: =SUM(I97:J97) -> 969 | I97: 329 | J97: 640 | K97: =SUM(L97:M97) -> 883 | L97: 330 | M97: 553 | N97: =SUM(O97:P97) -> 1480 | O97: 568 | P97: 912 | Q97: =SUM(R97:S97) -> 868 | R97: 306 | S97: 562
A98: 76 세 | B98: =SUM(C98:D98) -> 4356 | C98: =SUM(F98,I98,L98,O98,R98) -> 1620 | D98: =SUM(G98,J98,M98,P98,S98) -> 2736 | E98: =SUM(F98:G98) -> 506 | F98: 209 | G98: 297 | H98: =SUM(I98:J98) -> 864 | I98: 329 | J98: 535 | K98: =SUM(L98:M98) -> 817 | L98: 297 | M98: 520 | N98: =SUM(O98:P98) -> 1344 | O98: 497 | P98: 847 | Q98: =SUM(R98:S98) -> 825 | R98: 288 | S98: 537
A99: 77 세 | B99: =SUM(C99:D99) -> 3790 | C99: =SUM(F99,I99,L99,O99,R99) -> 1327 | D99: =SUM(G99,J99,M99,P99,S99) -> 2463 | E99: =SUM(F99:G99) -> 469 | F99: 195 | G99: 274 | H99: =SUM(I99:J99) -> 737 | I99: 269 | J99: 468 | K99: =SUM(L99:M99) -> 670 | L99: 224 | M99: 446 | N99: =SUM(O99:P99) -> 1227 | O99: 432 | P99: 795 | Q99: =SUM(R99:S99) -> 687 | R99: 207 | S99: 480
A100: 78 세 | B100: =SUM(C100:D100) -> 3878 | C100: =SUM(F100,I100,L100,O100,R100) -> 1195 | D100: =SUM(G100,J100,M100,P100,S100) -> 2683 | E100: =SUM(F100:G100) -> 418 | F100: 157 | G100: 261 | H100: =SUM(I100:J100) -> 746 | I100: 217 | J100: 529 | K100: =SUM(L100:M100) -> 734 | L100: 234 | M100: 500 | N100: =SUM(O100:P100) -> 1182 | O100: 354 | P100: 828 | Q100: =SUM(R100:S100) -> 798 | R100: 233 | S100: 565
...

Sheet 2009년
A1: 3. 구별·연령별 한국인 현황(외국인 제외)
R2: (단위 : 명)
A3: 구 분 | B3: 합 계 | E3: 동 구 | H3: 서 구 | K3: 남 구 | N3: 북 구 | Q3: 광 산 구
B4: 계 | C4: 남 | D4: 여 | E4: 계 | F4: 남 | G4: 여 | H4: 계 | I4: 남 | J4: 여 | K4: 계 | L4: 남 | M4: 여 | N4: 계 | O4: 남 | P4: 여 | Q4: 계 | R4: 남 | S4: 여
A5: 2009 | B5: =SUM(B6,B12,B18,B24,B30,B36,B42,B48,B54,B60,B66,B72,B78,B84,B90,B96,B102,B108,B114,B120,B126) -> 1433640 | C5: =SUM(C6,C12,C18,C24,C30,C36,C42,C48,C54,C60,C66,C72,C78,C84,C90,C96,C102,C108,C114,C120,C126) -> 711091 | D5: =SUM(D6,D12,D18,D24,D30,D36,D42,D48,D54,D60,D66,D72,D78,D84,D90,D96,D102,D108,D114,D120,D126) -> 722549 | E5: =SUM(E6,E12,E18,E24,E30,E36,E42,E48,E54,E60,E66,E72,E78,E84,E90,E96,E102,E108,E114,E120,E126) -> 107772 | F5: =SUM(F6,F12,F18,F24,F30,F36,F42,F48,F54,F60,F66,F72,F78,F84,F90,F96,F102,F108,F114,F120,F126) -> 53791 | G5: =SUM(G6,G12,G18,G24,G30,G36,G42,G48,G54,G60,G66,G72,G78,G84,G90,G96,G102,G108,G114,G120,G126) -> 53981 | H5: =SUM(H6,H12,H18,H24,H30,H36,H42,H48,H54,H60,H66,H72,H78,H84,H90,H96,H102,H108,H114,H120,H126) -> 299825 | I5: =SUM(I6,I12,I18,I24,I30,I36,I42,I48,I54,I60,I66,I72,I78,I84,I90,I96,I102,I108,I114,I120,I126) -> 147651 | ... S5: =SUM(S6,S12,S18,S24,S30,S36,S42,S48,S54,S60,S66,S72,S78,S84,S90,S96,S102,S108,S114,S120,S126) -> 170641
A6: 0 - 4 | B6: =SUM(C6:D6) -> 70512 | C6: =SUM(F6,I6,L6,O6,R6) -> 36529 | D6: =SUM(G6,J6,M6,P6,S6) -> 33983 | E6: =SUM(E7:E11) -> 3135 | F6: =SUM(F7:F11) -> 1635 | G6: =SUM(G7:G11) -> 1500 | H6: =SUM(H7:H11) -> 13912 | I6: =SUM(I7:I11) -> 7207 | J6: =SUM(J7:J11) -> 6705 | K6: =SUM(K7:K11) -> 8196 | L6: =SUM(L7:L11) -> 4163 | ... S6: =SUM(S7:S11) -> 11046
A7: 0 세 | B7: =SUM(C7:D7) -> 12787 | C7: =SUM(F7,I7,L7,O7,R7) -> 6586 | D7: =SUM(G7,J7,M7,P7,S7) -> 6201 | E7: =SUM(F7:G7) -> 560 | F7: 300 | G7: 260 | H7: =SUM(I7:J7) -> 2555 | I7: 1327 | J7: 1228 | K7: =SUM(L7:M7) -> 1487 | L7: 731 | M7: 756 | N7: =SUM(O7:P7) -> 4161 | O7: 2192 | P7: 1969 | Q7: =SUM(R7:S7) -> 4024 | R7: 2036 | S7: 1988
A8: 1 세 | B8: =SUM(C8:D8) -> 14202 | C8: =SUM(F8,I8,L8,O8,R8) -> 7285 | D8: =SUM(G8,J8,M8,P8,S8) -> 6917 | E8: =SUM(F8:G8) -> 613 | F8: 321 | G8: 292 | H8: =SUM(I8:J8) -> 2782 | I8: 1406 | J8: 1376 | K8: =SUM(L8:M8) -> 1682 | L8: 865 | M8: 817 | N8: =SUM(O8:P8) -> 4504 | O8: 2325 | P8: 2179 | Q8: =SUM(R8:S8) -> 4621 | R8: 2368 | S8: 2253
A9: 2 세 | B9: =SUM(C9:D9) -> 15442 | C9: =SUM(F9,I9,L9,O9,R9) -> 8080 | D9: =SUM(G9,J9,M9,P9,S9) -> 7362 | E9: =SUM(F9:G9) -> 717 | F9: 367 | G9: 350 | H9: =SUM(I9:J9) -> 2966 | I9: 1553 | J9: 1413 | K9: =SUM(L9:M9) -> 1766 | L9: 900 | M9: 866 | N9: =SUM(O9:P9) -> 4992 | O9: 2645 | P9: 2347 | Q9: =SUM(R9:S9) -> 5001 | R9: 2615 | S9: 2386
A10: 3 세 | B10: =SUM(C10:D10) -> 14248 | C10: =SUM(F10,I10,L10,O10,R10) -> 7387 | D10: =SUM(G10,J10,M10,P10,S10) -> 6861 | E10: =SUM(F10:G10) -> 630 | F10: 322 | G10: 308 | H10: =SUM(I10:J10) -> 2795 | I10: 1455 | J10: 1340 | K10: =SUM(L10:M10) -> 1687 | L10: 849 | M10: 838 | N10: =SUM(O10:P10) -> 4446 | O10: 2309 | P10: 2137 | Q10: =SUM(R10:S10) -> 4690 | R10: 2452 | S10: 2238
A11: 4 세 | B11: =SUM(C11:D11) -> 13833 | C11: =SUM(F11,I11,L11,O11,R11) -> 7191 | D11: =SUM(G11,J11,M11,P11,S11) -> 6642 | E11: =SUM(F11:G11) -> 615 | F11: 325 | G11: 290 | H11: =SUM(I11:J11) -> 2814 | I11: 1466 | J11: 1348 | K11: =SUM(L11:M11) -> 1574 | L11: 818 | M11: 756 | N11: =SUM(O11:P11) -> 4277 | O11: 2210 | P11: 2067 | Q11: =SUM(R11:S11) -> 4553 | R11: 2372 | S11: 2181
A12: 5 - 9 | B12: =SUM(C12:D12) -> 89830 | C12: =SUM(F12,I12,L12,O12,R12) -> 46897 | D12: =SUM(G12,J12,M12,P12,S12) -> 42933 | E12: =SUM(E13:E17) -> 4457 | F12: =SUM(F13:F17) -> 2367 | G12: =SUM(G13:G17) -> 2090 | H12: =SUM(H13:H17) -> 19353 | I12: =SUM(I13:I17) -> 10094 | J12: =SUM(J13:J17) -> 9259 | K12: =SUM(K13:K17) -> 10324 | L12: =SUM(L13:L17) -> 5384 | ... S12: =SUM(S13:S17) -> 13491
A13: 5 세 | B13: =SUM(C13:D13) -> 15242 | C13: =SUM(F13,I13,L13,O13,R13) -> 7913 | D13: =SUM(G13,J13,M13,P13,S13) -> 7329 | E13: =SUM(F13:G13) -> 752 | F13: 387 | G13: 365 | H13: =SUM(I13:J13) -> 3213 | I13: 1636 | J13: 1577 | K13: =SUM(L13:M13) -> 1700 | L13: 886 | M13: 814 | N13: =SUM(O13:P13) -> 4721 | O13: 2463 | P13: 2258 | Q13: =SUM(R13:S13) -> 4856 | R13: 2541 | S13: 2315
A14: 6 세 | B14: =SUM(C14:D14) -> 16819 | C14: =SUM(F14,I14,L14,O14,R14) -> 8859 | D14: =SUM(G14,J14,M14,P14,S14) -> 7960 | E14: =SUM(F14:G14) -> 787 | F14: 436 | G14: 351 | H14: =SUM(I14:J14) -> 3554 | I14: 1882 | J14: 1672 | K14: =SUM(L14:M14) -> 1825 | L14: 944 | M14: 881 | N14: =SUM(O14:P14) -> 5206 | O14: 2756 | P14: 2450 | Q14: =SUM(R14:S14) -> 5447 | R14: 2841 | S14: 2606
A15: 7 세 | B15: =SUM(C15:D15) -> 16485 | C15: =SUM(F15,I15,L15,O15,R15) -> 8595 | D15: =SUM(G15,J15,M15,P15,S15) -> 7890 | E15: =SUM(F15:G15) -> 813 | F15: 419 | G15: 394 | H15: =SUM(I15:J15) -> 3563 | I15: 1911 | J15: 1652 | K15: =SUM(L15:M15) -> 1942 | L15: 1023 | M15: 919 | N15: =SUM(O15:P15) -> 5107 | O15: 2633 | P15: 2474 | Q15: =SUM(R15:S15) -> 5060 | R15: 2609 | S15: 2451
A16: 8 세 | B16: =SUM(C16:D16) -> 19117 | C16: =SUM(F16,I16,L16,O16,R16) -> 9895 | D16: =SUM(G16,J16,M16,P16,S16) -> 9222 | E16: =SUM(F16:G16) -> 975 | F16: 524 | G16: 451 | H16: =SUM(I16:J16) -> 4222 | I16: 2172 | J16: 2050 | K16: =SUM(L16:M16) -> 2213 | L16: 1140 | M16: 1073 | N16: =SUM(O16:P16) -> 5837 | O16: 3050 | P16: 2787 | Q16: =SUM(R16:S16) -> 5870 | R16: 3009 | S16: 2861
A17: 9 세 | B17: =SUM(C17:D17) -> 22167 | C17: =SUM(F17,I17,L17,O17,R17) -> 11635 | D17: =SUM(G17,J17,M17,P17,S17) -> 10532 | E17: =SUM(F17:G17) -> 1130 | F17: 601 | G17: 529 | H17: =SUM(I17:J17) -> 4801 | I17: 2493 | J17: 2308 | K17: =SUM(L17:M17) -> 2644 | L17: 1391 | M17: 1253 | N17: =SUM(O17:P17) -> 6845 | O17: 3661 | P17: 3184 | Q17: =SUM(R17:S17) -> 6747 | R17: 3489 | S17: 3258
A18: 10-14 | B18: =SUM(C18:D18) -> 115920 | C18: =SUM(F18,I18,L18,O18,R18) -> 60185 | D18: =SUM(G18,J18,M18,P18,S18) -> 55735 | E18: =SUM(E19:E23) -> 5974 | F18: =SUM(F19:F23) -> 3085 | G18: =SUM(G19:G23) -> 2889 | H18: =SUM(H19:H23) -> 25388 | I18: =SUM(I19:I23) -> 13370 | J18: =SUM(J19:J23) -> 12018 | K18: =SUM(K19:K23) -> 16005 | L18: =SUM(L19:L23) -> 8263 | ... S18: =SUM(S19:S23) -> 15592
A19: 10 세 | B19: =SUM(C19:D19) -> 21406 | C19: =SUM(F19,I19,L19,O19,R19) -> 11136 | D19: =SUM(G19,J19,M19,P19,S19) -> 10270 | E19: =SUM(F19:G19) -> 1040 | F19: 542 | G19: 498 | H19: =SUM(I19:J19) -> 4719 | I19: 2477 | J19: 2242 | K19: =SUM(L19:M19) -> 2713 | L19: 1416 | M19: 1297 | N19: =SUM(O19:P19) -> 6593 | O19: 3406 | P19: 3187 | Q19: =SUM(R19:S19) -> 6341 | R19: 3295 | S19: 3046
A20: 11 세 | B20: =SUM(C20:D20) -> 22399 | C20: =SUM(F20,I20,L20,O20,R20) -> 11660 | D20: =SUM(G20,J20,M20,P20,S20) -> 10739 | E20: =SUM(F20:G20) -> 1249 | F20: 681 | G20: 568 | H20: =SUM(I20:J20) -> 4917 | I20: 2592 | J20: 2325 | K20: =SUM(L20:M20) -> 3020 | L20: 1588 | M20: 1432 | N20: =SUM(O20:P20) -> 6889 | O20: 3555 | P20: 3334 | Q20: =SUM(R20:S20) -> 6324 | R20: 3244 | S20: 3080
A21: 12 세 | B21: =SUM(C21:D21) -> 23726 | C21: =SUM(F21,I21,L21,O21,R21) -> 12235 | D21: =SUM(G21,J21,M21,P21,S21) -> 11491 | E21: =SUM(F21:G21) -> 1177 | F21: 634 | G21: 543 | H21: =SUM(I21:J21) -> 5152 | I21: 2676 | J21: 2476 | K21: =SUM(L21:M21) -> 3290 | L21: 1725 | M21: 1565 | N21: =SUM(O21:P21) -> 7457 | O21: 3788 | P21: 3669 | Q21: =SUM(R21:S21) -> 6650 | R21: 3412 | S21: 3238
A22: 13 세 | B22: =SUM(C22:D22) -> 23702 | C22: =SUM(F22,I22,L22,O22,R22) -> 12438 | D22: =SUM(G22,J22,M22,P22,S22) -> 11264 | E22: =SUM(F22:G22) -> 1248 | F22: 615 | G22: 633 | H22: =SUM(I22:J22) -> 5101 | I22: 2711 | J22: 2390 | K22: =SUM(L22:M22) -> 3372 | L22: 1729 | M22: 1643 | N22: =SUM(O22:P22) -> 7478 | O22: 3977 | P22: 3501 | Q22: =SUM(R22:S22) -> 6503 | R22: 3406 | S22: 3097
A23: 14 세 | B23: =SUM(C23:D23) -> 24687 | C23: =SUM(F23,I23,L23,O23,R23) -> 12716 | D23: =SUM(G23,J23,M23,P23,S23) -> 11971 | E23: =SUM(F23:G23) -> 1260 | F23: 613 | G23: 647 | H23: =SUM(I23:J23) -> 5499 | I23: 2914 | J23: 2585 | K23: =SUM(L23:M23) -> 3610 | L23: 1805 | M23: 1805 | N23: =SUM(O23:P23) -> 7903 | O23: 4100 | P23: 3803 | Q23: =SUM(R23:S23) -> 6415 | R23: 3284 | S23: 3131
A24: 15-19 | B24: =SUM(C24:D24) -> 114862 | C24: =SUM(F24,I24,L24,O24,R24) -> 60410 | D24: =SUM(G24,J24,M24,P24,S24) -> 54452 | E24: =SUM(E25:E29) -> 7056 | F24: =SUM(F25:F29) -> 3644 | G24: =SUM(G25:G29) -> 3412 | H24: =SUM(H25:H29) -> 24404 | I24: =SUM(I25:I29) -> 12976 | J24: =SUM(J25:J29) -> 11428 | K24: =SUM(K25:K29) -> 17881 | L24: =SUM(L25:L29) -> 9132 | ... S24: =SUM(S25:S29) -> 13003
A25: 15 세 | B25: =SUM(C25:D25) -> 24403 | C25: =SUM(F25,I25,L25,O25,R25) -> 12913 | D25: =SUM(G25,J25,M25,P25,S25) -> 11490 | E25: =SUM(F25:G25) -> 1388 | F25: 744 | G25: 644 | H25: =SUM(I25:J25) -> 5331 | I25: 2832 | J25: 2499 | K25: =SUM(L25:M25) -> 3656 | L25: 1889 | M25: 1767 | N25: =SUM(O25:P25) -> 7866 | O25: 4231 | P25: 3635 | Q25: =SUM(R25:S25) -> 6162 | R25: 3217 | S25: 2945
A26: 16 세 | B26: =SUM(C26:D26) -> 23826 | C26: =SUM(F26,I26,L26,O26,R26) -> 12516 | D26: =SUM(G26,J26,M26,P26,S26) -> 11310 | E26: =SUM(F26:G26) -> 1349 | F26: 711 | G26: 638 | H26: =SUM(I26:J26) -> 5136 | I26: 2689 | J26: 2447 | K26: =SUM(L26:M26) -> 3704 | L26: 1922 | M26: 1782 | N26: =SUM(O26:P26) -> 7732 | O26: 4106 | P26: 3626 | Q26: =SUM(R26:S26) -> 5905 | R26: 3088 | S26: 2817
A27: 17 세 | B27: =SUM(C27:D27) -> 24103 | C27: =SUM(F27,I27,L27,O27,R27) -> 12638 | D27: =SUM(G27,J27,M27,P27,S27) -> 11465 | E27: =SUM(F27:G27) -> 1520 | F27: 784 | G27: 736 | H27: =SUM(I27:J27) -> 5086 | I27: 2708 | J27: 2378 | K27: =SUM(L27:M27) -> 3710 | L27: 1875 | M27: 1835 | N27: =SUM(O27:P27) -> 7925 | O27: 4146 | P27: 3779 | Q27: =SUM(R27:S27) -> 5862 | R27: 3125 | S27: 2737
A28: 18 세 | B28: =SUM(C28:D28) -> 22470 | C28: =SUM(F28,I28,L28,O28,R28) -> 11741 | D28: =SUM(G28,J28,M28,P28,S28) -> 10729 | E28: =SUM(F28:G28) -> 1419 | F28: 695 | G28: 724 | H28: =SUM(I28:J28) -> 4695 | I28: 2497 | J28: 2198 | K28: =SUM(L28:M28) -> 3689 | L28: 1851 | M28: 1838 | N28: =SUM(O28:P28) -> 7583 | O28: 4011 | P28: 3572 | Q28: =SUM(R28:S28) -> 5084 | R28: 2687 | S28: 2397
A29: 19 세 | B29: =SUM(C29:D29) -> 20060 | C29: =SUM(F29,I29,L29,O29,R29) -> 10602 | D29: =SUM(G29,J29,M29,P29,S29) -> 9458 | E29: =SUM(F29:G29) -> 1380 | F29: 710 | G29: 670 | H29: =SUM(I29:J29) -> 4156 | I29: 2250 | J29: 1906 | K29: =SUM(L29:M29) -> 3122 | L29: 1595 | M29: 1527 | N29: =SUM(O29:P29) -> 6932 | O29: 3684 | P29: 3248 | Q29: =SUM(R29:S29) -> 4470 | R29: 2363 | S29: 2107
A30: 20-24 | B30: =SUM(C30:D30) -> 95604 | C30: =SUM(F30,I30,L30,O30,R30) -> 49024 | D30: =SUM(G30,J30,M30,P30,S30) -> 46580 | E30: =SUM(E31:E35) -> 8094 | F30: =SUM(F31:F35) -> 4074 | G30: =SUM(G31:G35) -> 4020 | H30: =SUM(H31:H35) -> 20047 | I30: =SUM(I31:I35) -> 10278 | J30: =SUM(J31:J35) -> 9769 | K30: =SUM(K31:K35) -> 15485 | L30: =SUM(L31:L35) -> 7822 | ... S30: =SUM(S31:S35) -> 9048
A31: 20 세 | B31: =SUM(C31:D31) -> 19512 | C31: =SUM(F31,I31,L31,O31,R31) -> 10044 | D31: =SUM(G31,J31,M31,P31,S31) -> 9468 | E31: =SUM(F31:G31) -> 1399 | F31: 682 | G31: 717 | H31: =SUM(I31:J31) -> 4068 | I31: 2123 | J31: 1945 | K31: =SUM(L31:M31) -> 3171 | L31: 1613 | M31: 1558 | N31: =SUM(O31:P31) -> 6744 | O31: 3494 | P31: 3250 | Q31: =SUM(R31:S31) -> 4130 | R31: 2132 | S31: 1998
A32: 21 세 | B32: =SUM(C32:D32) -> 19076 | C32: =SUM(F32,I32,L32,O32,R32) -> 9803 | D32: =SUM(G32,J32,M32,P32,S32) -> 9273 | E32: =SUM(F32:G32) -> 1525 | F32: 774 | G32: 751 | H32: =SUM(I32:J32) -> 3917 | I32: 2009 | J32: 1908 | K32: =SUM(L32:M32) -> 3085 | L32: 1539 | M32: 1546 | N32: =SUM(O32:P32) -> 6703 | O32: 3481 | P32: 3222 | Q32: =SUM(R32:S32) -> 3846 | R32: 2000 | S32: 1846
A33: 22 세 | B33: =SUM(C33:D33) -> 18816 | C33: =SUM(F33,I33,L33,O33,R33) -> 9585 | D33: =SUM(G33,J33,M33,P33,S33) -> 9231 | E33: =SUM(F33:G33) -> 1616 | F33: 775 | G33: 841 | H33: =SUM(I33:J33) -> 3949 | I33: 2039 | J33: 1910 | K33: =SUM(L33:M33) -> 3082 | L33: 1550 | M33: 1532 | N33: =SUM(O33:P33) -> 6523 | O33: 3326 | P33: 3197 | Q33: =SUM(R33:S33) -> 3646 | R33: 1895 | S33: 1751
A34: 23 세 | B34: =SUM(C34:D34) -> 18727 | C34: =SUM(F34,I34,L34,O34,R34) -> 9599 | D34: =SUM(G34,J34,M34,P34,S34) -> 9128 | E34: =SUM(F34:G34) -> 1659 | F34: 844 | G34: 815 | H34: =SUM(I34:J34) -> 3944 | I34: 2011 | J34: 1933 | K34: =SUM(L34:M34) -> 2998 | L34: 1518 | M34: 1480 | N34: =SUM(O34:P34) -> 6587 | O34: 3402 | P34: 3185 | Q34: =SUM(R34:S34) -> 3539 | R34: 1824 | S34: 1715
A35: 24 세 | B35: =SUM(C35:D35) -> 19473 | C35: =SUM(F35,I35,L35,O35,R35) -> 9993 | D35: =SUM(G35,J35,M35,P35,S35) -> 9480 | E35: =SUM(F35:G35) -> 1895 | F35: 999 | G35: 896 | H35: =SUM(I35:J35) -> 4169 | I35: 2096 | J35: 2073 | K35: =SUM(L35:M35) -> 3149 | L35: 1602 | M35: 1547 | N35: =SUM(O35:P35) -> 6720 | O35: 3494 | P35: 3226 | Q35: =SUM(R35:S35) -> 3540 | R35: 1802 | S35: 1738
A36: 25-29 | B36: =SUM(C36:D36) -> 114159 | C36: =SUM(F36,I36,L36,O36,R36) -> 57769 | D36: =SUM(G36,J36,M36,P36,S36) -> 56390 | E36: =SUM(E37:E41) -> 9811 | F36: =SUM(F37:F41) -> 5207 | G36: =SUM(G37:G41) -> 4604 | H36: =SUM(H37:H41) -> 24234 | I36: =SUM(I37:I41) -> 11958 | J36: =SUM(J37:J41) -> 12276 | K36: =SUM(K37:K41) -> 17997 | L36: =SUM(L37:L41) -> 9162 | ... S36: =SUM(S37:S41) -> 11602
A37: 25 세 | B37: =SUM(C37:D37) -> 19882 | C37: =SUM(F37,I37,L37,O37,R37) -> 10254 | D37: =SUM(G37,J37,M37,P37,S37) -> 9628 | E37: =SUM(F37:G37) -> 1804 | F37: 963 | G37: 841 | H37: =SUM(I37:J37) -> 4242 | I37: 2132 | J37: 2110 | K37: =SUM(L37:M37) -> 3302 | L37: 1652 | M37: 1650 | N37: =SUM(O37:P37) -> 6957 | O37: 3691 | P37: 3266 | Q37: =SUM(R37:S37) -> 3577 | R37: 1816 | S37: 1761
A38: 26 세 | B38: =SUM(C38:D38) -> 22429 | C38: =SUM(F38,I38,L38,O38,R38) -> 11485 | D38: =SUM(G38,J38,M38,P38,S38) -> 10944 | E38: =SUM(F38:G38) -> 1950 | F38: 1001 | G38: 949 | H38: =SUM(I38:J38) -> 4922 | I38: 2456 | J38: 2466 | K38: =SUM(L38:M38) -> 3668 | L38: 1952 | M38: 1716 | N38: =SUM(O38:P38) -> 7694 | O38: 3939 | P38: 3755 | Q38: =SUM(R38:S38) -> 4195 | R38: 2137 | S38: 2058
A39: 27 세 | B39: =SUM(C39:D39) -> 24222 | C39: =SUM(F39,I39,L39,O39,R39) -> 12269 | D39: =SUM(G39,J39,M39,P39,S39) -> 11953 | E39: =SUM(F39:G39) -> 2158 | F39: 1158 | G39: 1000 | H39: =SUM(I39:J39) -> 5163 | I39: 2522 | J39: 2641 | K39: =SUM(L39:M39) -> 3851 | L39: 1932 | M39: 1919 | N39: =SUM(O39:P39) -> 8168 | O39: 4242 | P39: 3926 | Q39: =SUM(R39:S39) -> 4882 | R39: 2415 | S39: 2467
A40: 28 세 | B40: =SUM(C40:D40) -> 24094 | C40: =SUM(F40,I40,L40,O40,R40) -> 12005 | D40: =SUM(G40,J40,M40,P40,S40) -> 12089 | E40: =SUM(F40:G40) -> 2085 | F40: 1115 | G40: 970 | H40: =SUM(I40:J40) -> 5047 | I40: 2526 | J40: 2521 | K40: =SUM(L40:M40) -> 3724 | L40: 1857 | M40: 1867 | N40: =SUM(O40:P40) -> 8208 | O40: 4099 | P40: 4109 | Q40: =SUM(R40:S40) -> 5030 | R40: 2408 | S40: 2622
A41: 29 세 | B41: =SUM(C41:D41) -> 23532 | C41: =SUM(F41,I41,L41,O41,R41) -> 11756 | D41: =SUM(G41,J41,M41,P41,S41) -> 11776 | E41: =SUM(F41:G41) -> 1814 | F41: 970 | G41: 844 | H41: =SUM(I41:J41) -> 4860 | I41: 2322 | J41: 2538 | K41: =SUM(L41:M41) -> 3452 | L41: 1769 | M41: 1683 | N41: =SUM(O41:P41) -> 8095 | O41: 4078 | P41: 4017 | Q41: =SUM(R41:S41) -> 5311 | R41: 2617 | S41: 2694
A42: 30-34 | B42: =SUM(C42:D42) -> 112646 | C42: =SUM(F42,I42,L42,O42,R42) -> 56168 | D42: =SUM(G42,J42,M42,P42,S42) -> 56478 | E42: =SUM(E43:E47) -> 7707 | F42: =SUM(F43:F47) -> 4159 | G42: =SUM(G43:G47) -> 3548 | H42: =SUM(H43:H47) -> 22753 | I42: =SUM(I43:I47) -> 11141 | J42: =SUM(J43:J47) -> 11612 | K42: =SUM(K43:K47) -> 15146 | L42: =SUM(L43:L47) -> 7835 | ... S42: =SUM(S43:S47) -> 15977
A43: 30 세 | B43: =SUM(C43:D43) -> 23998 | C43: =SUM(F43,I43,L43,O43,R43) -> 11745 | D43: =SUM(G43,J43,M43,P43,S43) -> 12253 | E43: =SUM(F43:G43) -> 1759 | F43: 960 | G43: 799 | H43: =SUM(I43:J43) -> 4880 | I43: 2319 | J43: 2561 | K43: =SUM(L43:M43) -> 3468 | L43: 1765 | M43: 1703 | N43: =SUM(O43:P43) -> 7988 | O43: 3937 | P43: 4051 | Q43: =SUM(R43:S43) -> 5903 | R43: 2764 | S43: 3139
A44: 31 세 | B44: =SUM(C44:D44) -> 20818 | C44: =SUM(F44,I44,L44,O44,R44) -> 10490 | D44: =SUM(G44,J44,M44,P44,S44) -> 10328 | E44: =SUM(F44:G44) -> 1515 | F44: 809 | G44: 706 | H44: =SUM(I44:J44) -> 4177 | I44: 2110 | J44: 2067 | K44: =SUM(L44:M44) -> 2867 | L44: 1473 | M44: 1394 | N44: =SUM(O44:P44) -> 6841 | O44: 3509 | P44: 3332 | Q44: =SUM(R44:S44) -> 5418 | R44: 2589 | S44: 2829
A45: 32 세 | B45: =SUM(C45:D45) -> 22721 | C45: =SUM(F45,I45,L45,O45,R45) -> 11218 | D45: =SUM(G45,J45,M45,P45,S45) -> 11503 | E45: =SUM(F45:G45) -> 1581 | F45: 847 | G45: 734 | H45: =SUM(I45:J45) -> 4632 | I45: 2287 | J45: 2345 | K45: =SUM(L45:M45) -> 3064 | L45: 1577 | M45: 1487 | N45: =SUM(O45:P45) -> 7195 | O45: 3573 | P45: 3622 | Q45: =SUM(R45:S45) -> 6249 | R45: 2934 | S45: 3315
A46: 33 세 | B46: =SUM(C46:D46) -> 22573 | C46: =SUM(F46,I46,L46,O46,R46) -> 11387 | D46: =SUM(G46,J46,M46,P46,S46) -> 11186 | E46: =SUM(F46:G46) -> 1485 | F46: 803 | G46: 682 | H46: =SUM(I46:J46) -> 4576 | I46: 2254 | J46: 2322 | K46: =SUM(L46:M46) -> 2884 | L46: 1548 | M46: 1336 | N46: =SUM(O46:P46) -> 7222 | O46: 3677 | P46: 3545 | Q46: =SUM(R46:S46) -> 6406 | R46: 3105 | S46: 3301
A47: 34 세 | B47: =SUM(C47:D47) -> 22536 | C47: =SUM(F47,I47,L47,O47,R47) -> 11328 | D47: =SUM(G47,J47,M47,P47,S47) -> 11208 | E47: =SUM(F47:G47) -> 1367 | F47: 740 | G47: 627 | H47: =SUM(I47:J47) -> 4488 | I47: 2171 | J47: 2317 | K47: =SUM(L47:M47) -> 2863 | L47: 1472 | M47: 1391 | N47: =SUM(O47:P47) -> 7269 | O47: 3789 | P47: 3480 | Q47: =SUM(R47:S47) -> 6549 | R47: 3156 | S47: 3393
A48: 35-39 | B48: =SUM(C48:D48) -> 130763 | C48: =SUM(F48,I48,L48,O48,R48) -> 65004 | D48: =SUM(G48,J48,M48,P48,S48) -> 65759 | E48: =SUM(E49:E53) -> 7905 | F48: =SUM(F49:F53) -> 4258 | G48: =SUM(G49:G53) -> 3647 | H48: =SUM(H49:H53) -> 27733 | I48: =SUM(I49:I53) -> 13246 | J48: =SUM(J49:J53) -> 14487 | K48: =SUM(K49:K53) -> 15931 | L48: =SUM(L49:L53) -> 7900 | ... S48: =SUM(S49:S53) -> 19086
A49: 35 세 | B49: =SUM(C49:D49) -> 25307 | C49: =SUM(F49,I49,L49,O49,R49) -> 12652 | D49: =SUM(G49,J49,M49,P49,S49) -> 12655 | E49: =SUM(F49:G49) -> 1482 | F49: 809 | G49: 673 | H49: =SUM(I49:J49) -> 5306 | I49: 2534 | J49: 2772 | K49: =SUM(L49:M49) -> 3092 | L49: 1590 | M49: 1502 | N49: =SUM(O49:P49) -> 8022 | O49: 4075 | P49: 3947 | Q49: =SUM(R49:S49) -> 7405 | R49: 3644 | S49: 3761
A50: 36 세 | B50: =SUM(C50:D50) -> 25702 | C50: =SUM(F50,I50,L50,O50,R50) -> 12666 | D50: =SUM(G50,J50,M50,P50,S50) -> 13036 | E50: =SUM(F50:G50) -> 1568 | F50: 846 | G50: 722 | H50: =SUM(I50:J50) -> 5355 | I50: 2524 | J50: 2831 | K50: =SUM(L50:M50) -> 3112 | L50: 1549 | M50: 1563 | N50: =SUM(O50:P50) -> 8054 | O50: 4009 | P50: 4045 | Q50: =SUM(R50:S50) -> 7613 | R50: 3738 | S50: 3875
A51: 37 세 | B51: =SUM(C51:D51) -> 25854 | C51: =SUM(F51,I51,L51,O51,R51) -> 12836 | D51: =SUM(G51,J51,M51,P51,S51) -> 13018 | E51: =SUM(F51:G51) -> 1546 | F51: 817 | G51: 729 | H51: =SUM(I51:J51) -> 5536 | I51: 2644 | J51: 2892 | K51: =SUM(L51:M51) -> 3171 | L51: 1555 | M51: 1616 | N51: =SUM(O51:P51) -> 8003 | O51: 3993 | P51: 4010 | Q51: =SUM(R51:S51) -> 7598 | R51: 3827 | S51: 3771
A52: 38 세 | B52: =SUM(C52:D52) -> 27057 | C52: =SUM(F52,I52,L52,O52,R52) -> 13468 | D52: =SUM(G52,J52,M52,P52,S52) -> 13589 | E52: =SUM(F52:G52) -> 1663 | F52: 917 | G52: 746 | H52: =SUM(I52:J52) -> 5768 | I52: 2722 | J52: 3046 | K52: =SUM(L52:M52) -> 3308 | L52: 1646 | M52: 1662 | N52: =SUM(O52:P52) -> 8394 | O52: 4158 | P52: 4236 | Q52: =SUM(R52:S52) -> 7924 | R52: 4025 | S52: 3899
A53: 39 세 | B53: =SUM(C53:D53) -> 26843 | C53: =SUM(F53,I53,L53,O53,R53) -> 13382 | D53: =SUM(G53,J53,M53,P53,S53) -> 13461 | E53: =SUM(F53:G53) -> 1646 | F53: 869 | G53: 777 | H53: =SUM(I53:J53) -> 5768 | I53: 2822 | J53: 2946 | K53: =SUM(L53:M53) -> 3248 | L53: 1560 | M53: 1688 | N53: =SUM(O53:P53) -> 8365 | O53: 4095 | P53: 4270 | Q53: =SUM(R53:S53) -> 7816 | R53: 4036 | S53: 3780
A54: 40-44 | B54: =SUM(C54:D54) -> 126061 | C54: =SUM(F54,I54,L54,O54,R54) -> 62901 | D54: =SUM(G54,J54,M54,P54,S54) -> 63160 | E54: =SUM(E55:E59) -> 7569 | F54: =SUM(F55:F59) -> 4015 | G54: =SUM(G55:G59) -> 3554 | H54: =SUM(H55:H59) -> 27255 | I54: =SUM(I55:I59) -> 13422 | J54: =SUM(J55:J59) -> 13833 | K54: =SUM(K55:K59) -> 16723 | L54: =SUM(L55:L59) -> 7902 | ... S54: =SUM(S55:S59) -> 16585
A55: 40 세 | B55: =SUM(C55:D55) -> 25533 | C55: =SUM(F55,I55,L55,O55,R55) -> 12713 | D55: =SUM(G55,J55,M55,P55,S55) -> 12820 | E55: =SUM(F55:G55) -> 1517 | F55: 835 | G55: 682 | H55: =SUM(I55:J55) -> 5695 | I55: 2701 | J55: 2994 | K55: =SUM(L55:M55) -> 3195 | L55: 1577 | M55: 1618 | N55: =SUM(O55:P55) -> 7919 | O55: 3900 | P55: 4019 | Q55: =SUM(R55:S55) -> 7207 | R55: 3700 | S55: 3507
A56: 41 세 | B56: =SUM(C56:D56) -> 27249 | C56: =SUM(F56,I56,L56,O56,R56) -> 13539 | D56: =SUM(G56,J56,M56,P56,S56) -> 13710 | E56: =SUM(F56:G56) -> 1534 | F56: 815 | G56: 719 | H56: =SUM(I56:J56) -> 5900 | I56: 2920 | J56: 2980 | K56: =SUM(L56:M56) -> 3523 | L56: 1638 | M56: 1885 | N56: =SUM(O56:P56) -> 8635 | O56: 4346 | P56: 4289 | Q56: =SUM(R56:S56) -> 7657 | R56: 3820 | S56: 3837
A57: 42 세 | B57: =SUM(C57:D57) -> 24730 | C57: =SUM(F57,I57,L57,O57,R57) -> 12256 | D57: =SUM(G57,J57,M57,P57,S57) -> 12474 | E57: =SUM(F57:G57) -> 1501 | F57: 806 | G57: 695 | H57: =SUM(I57:J57) -> 5404 | I57: 2673 | J57: 2731 | K57: =SUM(L57:M57) -> 3364 | L57: 1574 | M57: 1790 | N57: =SUM(O57:P57) -> 7862 | O57: 3796 | P57: 4066 | Q57: =SUM(R57:S57) -> 6599 | R57: 3407 | S57: 3192
A58: 43 세 | B58: =SUM(C58:D58) -> 24315 | C58: =SUM(F58,I58,L58,O58,R58) -> 12410 | D58: =SUM(G58,J58,M58,P58,S58) -> 11905 | E58: =SUM(F58:G58) -> 1495 | F58: 790 | G58: 705 | H58: =SUM(I58:J58) -> 5176 | I58: 2579 | J58: 2597 | K58: =SUM(L58:M58) -> 3285 | L58: 1584 | M58: 1701 | N58: =SUM(O58:P58) -> 7799 | O58: 3960 | P58: 3839 | Q58: =SUM(R58:S58) -> 6560 | R58: 3497 | S58: 3063
A59: 44 세 | B59: =SUM(C59:D59) -> 24234 | C59: =SUM(F59,I59,L59,O59,R59) -> 11983 | D59: =SUM(G59,J59,M59,P59,S59) -> 12251 | E59: =SUM(F59:G59) -> 1522 | F59: 769 | G59: 753 | H59: =SUM(I59:J59) -> 5080 | I59: 2549 | J59: 2531 | K59: =SUM(L59:M59) -> 3356 | L59: 1529 | M59: 1827 | N59: =SUM(O59:P59) -> 7997 | O59: 3843 | P59: 4154 | Q59: =SUM(R59:S59) -> 6279 | R59: 3293 | S59: 2986
A60: 45-49 | B60: =SUM(C60:D60) -> 117872 | C60: =SUM(F60,I60,L60,O60,R60) -> 58841 | D60: =SUM(G60,J60,M60,P60,S60) -> 59031 | E60: =SUM(E61:E65) -> 8416 | F60: =SUM(F61:F65) -> 4092 | G60: =SUM(G61:G65) -> 4324 | H60: =SUM(H61:H65) -> 24708 | I60: =SUM(I61:I65) -> 12089 | J60: =SUM(J61:J65) -> 12619 | K60: =SUM(K61:K65) -> 18136 | L60: =SUM(L61:L65) -> 8590 | ... S60: =SUM(S61:S65) -> 11962
A61: 45 세 | B61: =SUM(C61:D61) -> 22892 | C61: =SUM(F61,I61,L61,O61,R61) -> 11517 | D61: =SUM(G61,J61,M61,P61,S61) -> 11375 | E61: =SUM(F61:G61) -> 1475 | F61: 729 | G61: 746 | H61: =SUM(I61:J61) -> 4894 | I61: 2430 | J61: 2464 | K61: =SUM(L61:M61) -> 3381 | L61: 1616 | M61: 1765 | N61: =SUM(O61:P61) -> 7562 | O61: 3739 | P61: 3823 | Q61: =SUM(R61:S61) -> 5580 | R61: 3003 | S61: 2577
A62: 46 세 | B62: =SUM(C62:D62) -> 23021 | C62: =SUM(F62,I62,L62,O62,R62) -> 11603 | D62: =SUM(G62,J62,M62,P62,S62) -> 11418 | E62: =SUM(F62:G62) -> 1571 | F62: 813 | G62: 758 | H62: =SUM(I62:J62) -> 4791 | I62: 2359 | J62: 2432 | K62: =SUM(L62:M62) -> 3464 | L62: 1669 | M62: 1795 | N62: =SUM(O62:P62) -> 7827 | O62: 3828 | P62: 3999 | Q62: =SUM(R62:S62) -> 5368 | R62: 2934 | S62: 2434
A63: 47 세 | B63: =SUM(C63:D63) -> 22994 | C63: =SUM(F63,I63,L63,O63,R63) -> 11516 | D63: =SUM(G63,J63,M63,P63,S63) -> 11478 | E63: =SUM(F63:G63) -> 1615 | F63: 769 | G63: 846 | H63: =SUM(I63:J63) -> 4904 | I63: 2381 | J63: 2523 | K63: =SUM(L63:M63) -> 3463 | L63: 1627 | M63: 1836 | N63: =SUM(O63:P63) -> 7802 | O63: 3764 | P63: 4038 | Q63: =SUM(R63:S63) -> 5210 | R63: 2975 | S63: 2235
A64: 48 세 | B64: =SUM(C64:D64) -> 23552 | C64: =SUM(F64,I64,L64,O64,R64) -> 11706 | D64: =SUM(G64,J64,M64,P64,S64) -> 11846 | E64: =SUM(F64:G64) -> 1796 | F64: 884 | G64: 912 | H64: =SUM(I64:J64) -> 4868 | I64: 2407 | J64: 2461 | K64: =SUM(L64:M64) -> 3727 | L64: 1742 | M64: 1985 | N64: =SUM(O64:P64) -> 8112 | O64: 3940 | P64: 4172 | Q64: =SUM(R64:S64) -> 5049 | R64: 2733 | S64: 2316
A65: 49 세 | B65: =SUM(C65:D65) -> 25413 | C65: =SUM(F65,I65,L65,O65,R65) -> 12499 | D65: =SUM(G65,J65,M65,P65,S65) -> 12914 | E65: =SUM(F65:G65) -> 1959 | F65: 897 | G65: 1062 | H65: =SUM(I65:J65) -> 5251 | I65: 2512 | J65: 2739 | K65: =SUM(L65:M65) -> 4101 | L65: 1936 | M65: 2165 | N65: =SUM(O65:P65) -> 8787 | O65: 4239 | P65: 4548 | Q65: =SUM(R65:S65) -> 5315 | R65: 2915 | S65: 2400
A66: 50-54 | B66: =SUM(C66:D66) -> 98644 | C66: =SUM(F66,I66,L66,O66,R66) -> 48427 | D66: =SUM(G66,J66,M66,P66,S66) -> 50217 | E66: =SUM(E67:E71) -> 8803 | F66: =SUM(F67:F71) -> 4269 | G66: =SUM(G67:G71) -> 4534 | H66: =SUM(H67:H71) -> 20684 | I66: =SUM(I67:I71) -> 10078 | J66: =SUM(J67:J71) -> 10606 | K66: =SUM(K67:K71) -> 16803 | L66: =SUM(L67:L71) -> 7924 | ... S66: =SUM(S67:S71) -> 8587
A67: 50 세 | B67: =SUM(C67:D67) -> 23017 | C67: =SUM(F67,I67,L67,O67,R67) -> 11264 | D67: =SUM(G67,J67,M67,P67,S67) -> 11753 | E67: =SUM(F67:G67) -> 1813 | F67: 889 | G67: 924 | H67: =SUM(I67:J67) -> 4727 | I67: 2296 | J67: 2431 | K67: =SUM(L67:M67) -> 3784 | L67: 1765 | M67: 2019 | N67: =SUM(O67:P67) -> 8109 | O67: 3867 | P67: 4242 | Q67: =SUM(R67:S67) -> 4584 | R67: 2447 | S67: 2137
A68: 51 세 | B68: =SUM(C68:D68) -> 20514 | C68: =SUM(F68,I68,L68,O68,R68) -> 9987 | D68: =SUM(G68,J68,M68,P68,S68) -> 10527 | E68: =SUM(F68:G68) -> 1773 | F68: 872 | G68: 901 | H68: =SUM(I68:J68) -> 4274 | I68: 2041 | J68: 2233 | K68: =SUM(L68:M68) -> 3494 | L68: 1643 | M68: 1851 | N68: =SUM(O68:P68) -> 7048 | O68: 3338 | P68: 3710 | Q68: =SUM(R68:S68) -> 3925 | R68: 2093 | S68: 1832
A69: 52 세 | B69: =SUM(C69:D69) -> 20127 | C69: =SUM(F69,I69,L69,O69,R69) -> 9945 | D69: =SUM(G69,J69,M69,P69,S69) -> 10182 | E69: =SUM(F69:G69) -> 1817 | F69: 878 | G69: 939 | H69: =SUM(I69:J69) -> 4192 | I69: 2100 | J69: 2092 | K69: =SUM(L69:M69) -> 3403 | L69: 1598 | M69: 1805 | N69: =SUM(O69:P69) -> 7077 | O69: 3450 | P69: 3627 | Q69: =SUM(R69:S69) -> 3638 | R69: 1919 | S69: 1719
A70: 53 세 | B70: =SUM(C70:D70) -> 17042 | C70: =SUM(F70,I70,L70,O70,R70) -> 8525 | D70: =SUM(G70,J70,M70,P70,S70) -> 8517 | E70: =SUM(F70:G70) -> 1616 | F70: 820 | G70: 796 | H70: =SUM(I70:J70) -> 3671 | I70: 1828 | J70: 1843 | K70: =SUM(L70:M70) -> 2942 | L70: 1408 | M70: 1534 | N70: =SUM(O70:P70) -> 5833 | O70: 2935 | P70: 2898 | Q70: =SUM(R70:S70) -> 2980 | R70: 1534 | S70: 1446
A71: 54 세 | B71: =SUM(C71:D71) -> 17944 | C71: =SUM(F71,I71,L71,O71,R71) -> 8706 | D71: =SUM(G71,J71,M71,P71,S71) -> 9238 | E71: =SUM(F71:G71) -> 1784 | F71: 810 | G71: 974 | H71: =SUM(I71:J71) -> 3820 | I71: 1813 | J71: 2007 | K71: =SUM(L71:M71) -> 3180 | L71: 1510 | M71: 1670 | N71: =SUM(O71:P71) -> 6178 | O71: 3044 | P71: 3134 | Q71: =SUM(R71:S71) -> 2982 | R71: 1529 | S71: 1453
A72: 55-59 | B72: =SUM(C72:D72) -> 66389 | C72: =SUM(F72,I72,L72,O72,R72) -> 32234 | D72: =SUM(G72,J72,M72,P72,S72) -> 34155 | E72: =SUM(E73:E77) -> 6986 | F72: =SUM(F73:F77) -> 3309 | G72: =SUM(G73:G77) -> 3677 | H72: =SUM(H73:H77) -> 13632 | I72: =SUM(I73:I77) -> 6687 | J72: =SUM(J73:J77) -> 6945 | K72: =SUM(K73:K77) -> 11974 | L72: =SUM(L73:L77) -> 5703 | ... S72: =SUM(S73:S77) -> 5562
A73: 55 세 | B73: =SUM(C73:D73) -> 15049 | C73: =SUM(F73,I73,L73,O73,R73) -> 7334 | D73: =SUM(G73,J73,M73,P73,S73) -> 7715 | E73: =SUM(F73:G73) -> 1512 | F73: 725 | G73: 787 | H73: =SUM(I73:J73) -> 3086 | I73: 1509 | J73: 1577 | K73: =SUM(L73:M73) -> 2655 | L73: 1252 | M73: 1403 | N73: =SUM(O73:P73) -> 5224 | O73: 2541 | P73: 2683 | Q73: =SUM(R73:S73) -> 2572 | R73: 1307 | S73: 1265
A74: 56 세 | B74: =SUM(C74:D74) -> 12833 | C74: =SUM(F74,I74,L74,O74,R74) -> 6204 | D74: =SUM(G74,J74,M74,P74,S74) -> 6629 | E74: =SUM(F74:G74) -> 1338 | F74: 635 | G74: 703 | H74: =SUM(I74:J74) -> 2651 | I74: 1275 | J74: 1376 | K74: =SUM(L74:M74) -> 2301 | L74: 1113 | M74: 1188 | N74: =SUM(O74:P74) -> 4445 | O74: 2150 | P74: 2295 | Q74: =SUM(R74:S74) -> 2098 | R74: 1031 | S74: 1067
A75: 57 세 | B75: =SUM(C75:D75) -> 14455 | C75: =SUM(F75,I75,L75,O75,R75) -> 7032 | D75: =SUM(G75,J75,M75,P75,S75) -> 7423 | E75: =SUM(F75:G75) -> 1475 | F75: 680 | G75: 795 | H75: =SUM(I75:J75) -> 2962 | I75: 1478 | J75: 1484 | K75: =SUM(L75:M75) -> 2638 | L75: 1247 | M75: 1391 | N75: =SUM(O75:P75) -> 5018 | O75: 2455 | P75: 2563 | Q75: =SUM(R75:S75) -> 2362 | R75: 1172 | S75: 1190
A76: 58 세 | B76: =SUM(C76:D76) -> 11759 | C76: =SUM(F76,I76,L76,O76,R76) -> 5715 | D76: =SUM(G76,J76,M76,P76,S76) -> 6044 | E76: =SUM(F76:G76) -> 1302 | F76: 625 | G76: 677 | H76: =SUM(I76:J76) -> 2394 | I76: 1160 | J76: 1234 | K76: =SUM(L76:M76) -> 2128 | L76: 1025 | M76: 1103 | N76: =SUM(O76:P76) -> 4005 | O76: 1975 | P76: 2030 | Q76: =SUM(R76:S76) -> 1930 | R76: 930 | S76: 1000
A77: 59 세 | B77: =SUM(C77:D77) -> 12293 | C77: =SUM(F77,I77,L77,O77,R77) -> 5949 | D77: =SUM(G77,J77,M77,P77,S77) -> 6344 | E77: =SUM(F77:G77) -> 1359 | F77: 644 | G77: 715 | H77: =SUM(I77:J77) -> 2539 | I77: 1265 | J77: 1274 | K77: =SUM(L77:M77) -> 2252 | L77: 1066 | M77: 1186 | N77: =SUM(O77:P77) -> 4198 | O77: 2069 | P77: 2129 | Q77: =SUM(R77:S77) -> 1945 | R77: 905 | S77: 1040
A78: 60-64 | B78: =SUM(C78:D78) -> 56295 | C78: =SUM(F78,I78,L78,O78,R78) -> 27025 | D78: =SUM(G78,J78,M78,P78,S78) -> 29270 | E78: =SUM(E79:E83) -> 6555 | F78: =SUM(F79:F83) -> 3060 | G78: =SUM(G79:G83) -> 3495 | H78: =SUM(H79:H83) -> 11271 | I78: =SUM(I79:I83) -> 5416 | J78: =SUM(J79:J83) -> 5855 | K78: =SUM(K79:K83) -> 10552 | L78: =SUM(L79:L83) -> 5116 | ... S78: =SUM(S79:S83) -> 4839
A79: 60 세 | B79: =SUM(C79:D79) -> 12838 | C79: =SUM(F79,I79,L79,O79,R79) -> 6127 | D79: =SUM(G79,J79,M79,P79,S79) -> 6711 | E79: =SUM(F79:G79) -> 1498 | F79: 715 | G79: 783 | H79: =SUM(I79:J79) -> 2538 | I79: 1204 | J79: 1334 | K79: =SUM(L79:M79) -> 2445 | L79: 1179 | M79: 1266 | N79: =SUM(O79:P79) -> 4265 | O79: 2028 | P79: 2237 | Q79: =SUM(R79:S79) -> 2092 | R79: 1001 | S79: 1091
A80: 61 세 | B80: =SUM(C80:D80) -> 11888 | C80: =SUM(F80,I80,L80,O80,R80) -> 5739 | D80: =SUM(G80,J80,M80,P80,S80) -> 6149 | E80: =SUM(F80:G80) -> 1369 | F80: 644 | G80: 725 | H80: =SUM(I80:J80) -> 2365 | I80: 1134 | J80: 1231 | K80: =SUM(L80:M80) -> 2205 | L80: 1051 | M80: 1154 | N80: =SUM(O80:P80) -> 4010 | O80: 1967 | P80: 2043 | Q80: =SUM(R80:S80) -> 1939 | R80: 943 | S80: 996
A81: 62 세 | B81: =SUM(C81:D81) -> 12596 | C81: =SUM(F81,I81,L81,O81,R81) -> 5967 | D81: =SUM(G81,J81,M81,P81,S81) -> 6629 | E81: =SUM(F81:G81) -> 1424 | F81: 665 | G81: 759 | H81: =SUM(I81:J81) -> 2600 | I81: 1227 | J81: 1373 | K81: =SUM(L81:M81) -> 2334 | L81: 1118 | M81: 1216 | N81: =SUM(O81:P81) -> 4140 | O81: 1979 | P81: 2161 | Q81: =SUM(R81:S81) -> 2098 | R81: 978 | S81: 1120
A82: 63 세 | B82: =SUM(C82:D82) -> 10026 | C82: =SUM(F82,I82,L82,O82,R82) -> 4925 | D82: =SUM(G82,J82,M82,P82,S82) -> 5101 | E82: =SUM(F82:G82) -> 1188 | F82: 531 | G82: 657 | H82: =SUM(I82:J82) -> 1964 | I82: 961 | J82: 1003 | K82: =SUM(L82:M82) -> 1899 | L82: 955 | M82: 944 | N82: =SUM(O82:P82) -> 3277 | O82: 1631 | P82: 1646 | Q82: =SUM(R82:S82) -> 1698 | R82: 847 | S82: 851
A83: 64 세 | B83: =SUM(C83:D83) -> 8947 | C83: =SUM(F83,I83,L83,O83,R83) -> 4267 | D83: =SUM(G83,J83,M83,P83,S83) -> 4680 | E83: =SUM(F83:G83) -> 1076 | F83: 505 | G83: 571 | H83: =SUM(I83:J83) -> 1804 | I83: 890 | J83: 914 | K83: =SUM(L83:M83) -> 1669 | L83: 813 | M83: 856 | N83: =SUM(O83:P83) -> 2934 | O83: 1376 | P83: 1558 | Q83: =SUM(R83:S83) -> 1464 | R83: 683 | S83: 781
A84: 65-69 | B84: =SUM(C84:D84) -> 46618 | C84: =SUM(F84,I84,L84,O84,R84) -> 21495 | D84: =SUM(G84,J84,M84,P84,S84) -> 25123 | E84: =SUM(E85:E89) -> 5838 | F84: =SUM(F85:F89) -> 2766 | G84: =SUM(G85:G89) -> 3072 | H84: =SUM(H85:H89) -> 9092 | I84: =SUM(I85:I89) -> 4204 | J84: =SUM(J85:J89) -> 4888 | K84: =SUM(K85:K89) -> 8485 | L84: =SUM(L85:L89) -> 4057 | ... S84: =SUM(S85:S89) -> 4638
A85: 65 세 | B85: =SUM(C85:D85) -> 9028 | C85: =SUM(F85,I85,L85,O85,R85) -> 4258 | D85: =SUM(G85,J85,M85,P85,S85) -> 4770 | E85: =SUM(F85:G85) -> 1074 | F85: 518 | G85: 556 | H85: =SUM(I85:J85) -> 1783 | I85: 822 | J85: 961 | K85: =SUM(L85:M85) -> 1676 | L85: 821 | M85: 855 | N85: =SUM(O85:P85) -> 2964 | O85: 1405 | P85: 1559 | Q85: =SUM(R85:S85) -> 1531 | R85: 692 | S85: 839
A86: 66 세 | B86: =SUM(C86:D86) -> 8422 | C86: =SUM(F86,I86,L86,O86,R86) -> 3927 | D86: =SUM(G86,J86,M86,P86,S86) -> 4495 | E86: =SUM(F86:G86) -> 1044 | F86: 476 | G86: 568 | H86: =SUM(I86:J86) -> 1665 | I86: 785 | J86: 880 | K86: =SUM(L86:M86) -> 1524 | L86: 752 | M86: 772 | N86: =SUM(O86:P86) -> 2749 | O86: 1253 | P86: 1496 | Q86: =SUM(R86:S86) -> 1440 | R86: 661 | S86: 779
A87: 67 세 | B87: =SUM(C87:D87) -> 11801 | C87: =SUM(F87,I87,L87,O87,R87) -> 5579 | D87: =SUM(G87,J87,M87,P87,S87) -> 6222 | E87: =SUM(F87:G87) -> 1459 | F87: 717 | G87: 742 | H87: =SUM(I87:J87) -> 2251 | I87: 1066 | J87: 1185 | K87: =SUM(L87:M87) -> 2141 | L87: 1013 | M87: 1128 | N87: =SUM(O87:P87) -> 3879 | O87: 1880 | P87: 1999 | Q87: =SUM(R87:S87) -> 2071 | R87: 903 | S87: 1168
A88: 68 세 | B88: =SUM(C88:D88) -> 9382 | C88: =SUM(F88,I88,L88,O88,R88) -> 4226 | D88: =SUM(G88,J88,M88,P88,S88) -> 5156 | E88: =SUM(F88:G88) -> 1201 | F88: 569 | G88: 632 | H88: =SUM(I88:J88) -> 1816 | I88: 830 | J88: 986 | K88: =SUM(L88:M88) -> 1692 | L88: 801 | M88: 891 | N88: =SUM(O88:P88) -> 2943 | O88: 1318 | P88: 1625 | Q88: =SUM(R88:S88) -> 1730 | R88: 708 | S88: 1022
A89: 69 세 | B89: =SUM(C89:D89) -> 7985 | C89: =SUM(F89,I89,L89,O89,R89) -> 3505 | D89: =SUM(G89,J89,M89,P89,S89) -> 4480 | E89: =SUM(F89:G89) -> 1060 | F89: 486 | G89: 574 | H89: =SUM(I89:J89) -> 1577 | I89: 701 | J89: 876 | K89: =SUM(L89:M89) -> 1452 | L89: 670 | M89: 782 | N89: =SUM(O89:P89) -> 2536 | O89: 1118 | P89: 1418 | Q89: =SUM(R89:S89) -> 1360 | R89: 530 | S89: 830
A90: 70-74 | B90: =SUM(C90:D90) -> 34558 | C90: =SUM(F90,I90,L90,O90,R90) -> 14573 | D90: =SUM(G90,J90,M90,P90,S90) -> 19985 | E90: =SUM(E91:E95) -> 4299 | F90: =SUM(F91:F95) -> 1972 | G90: =SUM(G91:G95) -> 2327 | H90: =SUM(H91:H95) -> 6656 | I90: =SUM(I91:I95) -> 2836 | J90: =SUM(J91:J95) -> 3820 | K90: =SUM(K91:K95) -> 6254 | L90: =SUM(L91:L95) -> 2689 | ... S90: =SUM(S91:S95) -> 4045
A91: 70 세 | B91: =SUM(C91:D91) -> 8059 | C91: =SUM(F91,I91,L91,O91,R91) -> 3553 | D91: =SUM(G91,J91,M91,P91,S91) -> 4506 | E91: =SUM(F91:G91) -> 999 | F91: 473 | G91: 526 | H91: =SUM(I91:J91) -> 1598 | I91: 692 | J91: 906 | K91: =SUM(L91:M91) -> 1485 | L91: 679 | M91: 806 | N91: =SUM(O91:P91) -> 2525 | O91: 1128 | P91: 1397 | Q91: =SUM(R91:S91) -> 1452 | R91: 581 | S91: 871
A92: 71 세 | B92: =SUM(C92:D92) -> 7379 | C92: =SUM(F92,I92,L92,O92,R92) -> 3218 | D92: =SUM(G92,J92,M92,P92,S92) -> 4161 | E92: =SUM(F92:G92) -> 932 | F92: 439 | G92: 493 | H92: =SUM(I92:J92) -> 1390 | I92: 609 | J92: 781 | K92: =SUM(L92:M92) -> 1343 | L92: 615 | M92: 728 | N92: =SUM(O92:P92) -> 2365 | O92: 1034 | P92: 1331 | Q92: =SUM(R92:S92) -> 1349 | R92: 521 | S92: 828
A93: 72 세 | B93: =SUM(C93:D93) -> 6919 | C93: =SUM(F93,I93,L93,O93,R93) -> 2890 | D93: =SUM(G93,J93,M93,P93,S93) -> 4029 | E93: =SUM(F93:G93) -> 883 | F93: 399 | G93: 484 | H93: =SUM(I93:J93) -> 1334 | I93: 552 | J93: 782 | K93: =SUM(L93:M93) -> 1233 | L93: 528 | M93: 705 | N93: =SUM(O93:P93) -> 2153 | O93: 925 | P93: 1228 | Q93: =SUM(R93:S93) -> 1316 | R93: 486 | S93: 830
A94: 73 세 | B94: =SUM(C94:D94) -> 6029 | C94: =SUM(F94,I94,L94,O94,R94) -> 2400 | D94: =SUM(G94,J94,M94,P94,S94) -> 3629 | E94: =SUM(F94:G94) -> 764 | F94: 347 | G94: 417 | H94: =SUM(I94:J94) -> 1143 | I94: 463 | J94: 680 | K94: =SUM(L94:M94) -> 1091 | L94: 433 | M94: 658 | N94: =SUM(O94:P94) -> 1891 | O94: 750 | P94: 1141 | Q94: =SUM(R94:S94) -> 1140 | R94: 407 | S94: 733
A95: 74 세 | B95: =SUM(C95:D95) -> 6172 | C95: =SUM(F95,I95,L95,O95,R95) -> 2512 | D95: =SUM(G95,J95,M95,P95,S95) -> 3660 | E95: =SUM(F95:G95) -> 721 | F95: 314 | G95: 407 | H95: =SUM(I95:J95) -> 1191 | I95: 520 | J95: 671 | K95: =SUM(L95:M95) -> 1102 | L95: 434 | M95: 668 | N95: =SUM(O95:P95) -> 1930 | O95: 799 | P95: 1131 | Q95: =SUM(R95:S95) -> 1228 | R95: 445 | S95: 783
A96: 75-79 | B96: =SUM(C96:D96) -> 21890 | C96: =SUM(F96,I96,L96,O96,R96) -> 7843 | D96: =SUM(G96,J96,M96,P96,S96) -> 14047 | E96: =SUM(E97:E101) -> 2611 | F96: =SUM(F97:F101) -> 1087 | G96: =SUM(G97:G101) -> 1524 | H96: =SUM(H97:H101) -> 4321 | I96: =SUM(I97:I101) -> 1506 | J96: =SUM(J97:J101) -> 2815 | K96: =SUM(K97:K101) -> 3985 | L96: =SUM(L97:L101) -> 1429 | ... S96: =SUM(S97:S101) -> 2789
A97: 75 세 | B97: =SUM(C97:D97) -> 5605 | C97: =SUM(F97,I97,L97,O97,R97) -> 2190 | D97: =SUM(G97,J97,M97,P97,S97) -> 3415 | E97: =SUM(F97:G97) -> 697 | F97: 314 | G97: 383 | H97: =SUM(I97:J97) -> 1088 | I97: 402 | J97: 686 | K97: =SUM(L97:M97) -> 1000 | L97: 388 | M97: 612 | N97: =SUM(O97:P97) -> 1768 | O97: 705 | P97: 1063 | Q97: =SUM(R97:S97) -> 1052 | R97: 381 | S97: 671
A98: 76 세 | B98: =SUM(C98:D98) -> 4639 | C98: =SUM(F98,I98,L98,O98,R98) -> 1725 | D98: =SUM(G98,J98,M98,P98,S98) -> 2914 | E98: =SUM(F98:G98) -> 559 | F98: 251 | G98: 308 | H98: =SUM(I98:J98) -> 959 | I98: 326 | J98: 633 | K98: =SUM(L98:M98) -> 834 | L98: 309 | M98: 525 | N98: =SUM(O98:P98) -> 1430 | O98: 545 | P98: 885 | Q98: =SUM(R98:S98) -> 857 | R98: 294 | S98: 563
A99: 77 세 | B99: =SUM(C99:D99) -> 4265 | C99: =SUM(F99,I99,L99,O99,R99) -> 1551 | D99: =SUM(G99,J99,M99,P99,S99) -> 2714 | E99: =SUM(F99:G99) -> 491 | F99: 197 | G99: 294 | H99: =SUM(I99:J99) -> 843 | I99: 309 | J99: 534 | K99: =SUM(L99:M99) -> 811 | L99: 294 | M99: 517 | N99: =SUM(O99:P99) -> 1288 | O99: 464 | P99: 824 | Q99: =SUM(R99:S99) -> 832 | R99: 287 | S99: 545
A100: 78 세 | B100: =SUM(C100:D100) -> 3657 | C100: =SUM(F100,I100,L100,O100,R100) -> 1255 | D100: =SUM(G100,J100,M100,P100,S100) -> 2402 | E100: =SUM(F100:G100) -> 450 | F100: 179 | G100: 271 | H100: =SUM(I100:J100) -> 712 | I100: 264 | J100: 448 | K100: =SUM(L100:M100) -> 635 | L100: 207 | M100: 428 | N100: =SUM(O100:P100) -> 1170 | O100: 394 | P100: 776 | Q100: =SUM(R100:S100) -> 690 | R100: 211 | S100: 479
...

Sheet 2010년
A1: 3. 구별·연령별 한국인 현황(외국인 제외)
S2: (단위 : 명)
A3: =[1]연령별!A3 -> 구 분 | B3: 합 계 | E3: 동 구 | H3: 서 구 | K3: 남 구 | N3: 북 구 | Q3: 광 산 구
B4: 계 | C4: 남 | D4: 여 | E4: =[1]연령별!B4 -> 계 | F4: =[1]연령별!C4 -> 남 | G4: =[1]연령별!D4 -> 여 | H4: =[2]연령별!B4 -> 계 | I4: =[2]연령별!C4 -> 남 | J4: =[2]연령별!D4 -> 여 | K4: =[3]연령별!B4 -> 계 | L4: =[3]연령별!C4 -> 남 | M4: =[3]연령별!D4 -> 여 | N4: =[4]연령별!B4 -> 계 | O4: =[4]연령별!C4 -> 남 | P4: =[4]연령별!D4 -> 여 | Q4: =[5]연령별!B4 -> 계 | R4: =[5]연령별!C4 -> 남 | S4: =[5]연령별!D4 -> 여
A5: 2010 | B5: =SUM(C5:D5) -> 1454636 | C5: =SUM(F5,I5,L5,O5,R5) -> 721780 | D5: =SUM(G5,J5,M5,P5,S5) -> 732856 | E5: =[1]연령별!B5 -> 104449 | F5: =[1]연령별!C5 -> 52221 | G5: =[1]연령별!D5 -> 52228 | H5: =[2]연령별!B5 -> 303219 | I5: =[2]연령별!C5 -> 149345 | J5: =[2]연령별!D5 -> 153874 | K5: =[3]연령별!B5 -> 216863 | L5: =[3]연령별!C5 -> 105612 | M5: =[3]연령별!D5 -> 111251 | N5: =[4]연령별!B5 -> 466866 | O5: =[4]연령별!C5 -> 232226 | P5: =[4]연령별!D5 -> 234640 | Q5: =[5]연령별!B5 -> 363239 | R5: =[5]연령별!C5 -> 182376 | S5: =[5]연령별!D5 -> 180863
A6: =[1]연령별!A6 -> 0 - 4 | B6: =SUM(C6:D6) -> 71779 | C6: =SUM(F6,I6,L6,O6,R6) -> 37124 | D6: =SUM(G6,J6,M6,P6,S6) -> 34655 | E6: =[1]연령별!B6 -> 3122 | F6: =[1]연령별!C6 -> 1650 | G6: =[1]연령별!D6 -> 1472 | H6: =[2]연령별!B6 -> 13780 | I6: =[2]연령별!C6 -> 7106 | J6: =[2]연령별!D6 -> 6674 | K6: =[3]연령별!B6 -> 8459 | L6: =[3]연령별!C6 -> 4312 | M6: =[3]연령별!D6 -> 4147 | N6: =[4]연령별!B6 -> 21758 | O6: =[4]연령별!C6 -> 11298 | P6: =[4]연령별!D6 -> 10460 | Q6: =[5]연령별!B6 -> 24660 | R6: =[5]연령별!C6 -> 12758 | S6: =[5]연령별!D6 -> 11902
A7: =[1]연령별!A7 -> 0 세 | B7: =SUM(C7:D7) -> 13506 | C7: =SUM(F7,I7,L7,O7,R7) -> 6963 | D7: =SUM(G7,J7,M7,P7,S7) -> 6543 | E7: =[1]연령별!B7 -> 646 | F7: =[1]연령별!C7 -> 356 | G7: =[1]연령별!D7 -> 290 | H7: =[2]연령별!B7 -> 2568 | I7: =[2]연령별!C7 -> 1357 | J7: =[2]연령별!D7 -> 1211 | K7: =[3]연령별!B7 -> 1676 | L7: =[3]연령별!C7 -> 845 | M7: =[3]연령별!D7 -> 831 | N7: =[4]연령별!B7 -> 4044 | O7: =[4]연령별!C7 -> 2050 | P7: =[4]연령별!D7 -> 1994 | Q7: =[5]연령별!B7 -> 4572 | R7: =[5]연령별!C7 -> 2355 | S7: =[5]연령별!D7 -> 2217
A8: =[1]연령별!A8 -> 1 세 | B8: =SUM(C8:D8) -> 13663 | C8: =SUM(F8,I8,L8,O8,R8) -> 7023 | D8: =SUM(G8,J8,M8,P8,S8) -> 6640 | E8: =[1]연령별!B8 -> 555 | F8: =[1]연령별!C8 -> 307 | G8: =[1]연령별!D8 -> 248 | H8: =[2]연령별!B8 -> 2621 | I8: =[2]연령별!C8 -> 1334 | J8: =[2]연령별!D8 -> 1287 | K8: =[3]연령별!B8 -> 1579 | L8: =[3]연령별!C8 -> 784 | M8: =[3]연령별!D8 -> 795 | N8: =[4]연령별!B8 -> 4214 | O8: =[4]연령별!C8 -> 2216 | P8: =[4]연령별!D8 -> 1998 | Q8: =[5]연령별!B8 -> 4694 | R8: =[5]연령별!C8 -> 2382 | S8: =[5]연령별!D8 -> 2312
A9: =[1]연령별!A9 -> 2 세 | B9: =SUM(C9:D9) -> 14478 | C9: =SUM(F9,I9,L9,O9,R9) -> 7403 | D9: =SUM(G9,J9,M9,P9,S9) -> 7075 | E9: =[1]연령별!B9 -> 617 | F9: =[1]연령별!C9 -> 324 | G9: =[1]연령별!D9 -> 293 | H9: =[2]연령별!B9 -> 2801 | I9: =[2]연령별!C9 -> 1423 | J9: =[2]연령별!D9 -> 1378 | K9: =[3]연령별!B9 -> 1701 | L9: =[3]연령별!C9 -> 875 | M9: =[3]연령별!D9 -> 826 | N9: =[4]연령별!B9 -> 4359 | O9: =[4]연령별!C9 -> 2229 | P9: =[4]연령별!D9 -> 2130 | Q9: =[5]연령별!B9 -> 5000 | R9: =[5]연령별!C9 -> 2552 | S9: =[5]연령별!D9 -> 2448
A10: =[1]연령별!A10 -> 3 세 | B10: =SUM(C10:D10) -> 15731 | C10: =SUM(F10,I10,L10,O10,R10) -> 8246 | D10: =SUM(G10,J10,M10,P10,S10) -> 7485 | E10: =[1]연령별!B10 -> 700 | F10: =[1]연령별!C10 -> 349 | G10: =[1]연령별!D10 -> 351 | H10: =[2]연령별!B10 -> 2999 | I10: =[2]연령별!C10 -> 1548 | J10: =[2]연령별!D10 -> 1451 | K10: =[3]연령별!B10 -> 1787 | L10: =[3]연령별!C10 -> 934 | M10: =[3]연령별!D10 -> 853 | N10: =[4]연령별!B10 -> 4818 | O10: =[4]연령별!C10 -> 2568 | P10: =[4]연령별!D10 -> 2250 | Q10: =[5]연령별!B10 -> 5427 | R10: =[5]연령별!C10 -> 2847 | S10: =[5]연령별!D10 -> 2580
A11: =[1]연령별!A11 -> 4 세 | B11: =SUM(C11:D11) -> 14401 | C11: =SUM(F11,I11,L11,O11,R11) -> 7489 | D11: =SUM(G11,J11,M11,P11,S11) -> 6912 | E11: =[1]연령별!B11 -> 604 | F11: =[1]연령별!C11 -> 314 | G11: =[1]연령별!D11 -> 290 | H11: =[2]연령별!B11 -> 2791 | I11: =[2]연령별!C11 -> 1444 | J11: =[2]연령별!D11 -> 1347 | K11: =[3]연령별!B11 -> 1716 | L11: =[3]연령별!C11 -> 874 | M11: =[3]연령별!D11 -> 842 | N11: =[4]연령별!B11 -> 4323 | O11: =[4]연령별!C11 -> 2235 | P11: =[4]연령별!D11 -> 2088 | Q11: =[5]연령별!B11 -> 4967 | R11: =[5]연령별!C11 -> 2622 | S11: =[5]연령별!D11 -> 2345
A12: =[1]연령별!A12 -> 5 - 9 | B12: =SUM(C12:D12) -> 82562 | C12: =SUM(F12,I12,L12,O12,R12) -> 43063 | D12: =SUM(G12,J12,M12,P12,S12) -> 39499 | E12: =[1]연령별!B12 -> 3692 | F12: =[1]연령별!C12 -> 1969 | G12: =[1]연령별!D12 -> 1723 | H12: =[2]연령별!B12 -> 17428 | I12: =[2]연령별!C12 -> 9117 | J12: =[2]연령별!D12 -> 8311 | K12: =[3]연령별!B12 -> 9661 | L12: =[3]연령별!C12 -> 5047 | M12: =[3]연령별!D12 -> 4614 | N12: =[4]연령별!B12 -> 24823 | O12: =[4]연령별!C12 -> 12950 | P12: =[4]연령별!D12 -> 11873 | Q12: =[5]연령별!B12 -> 26958 | R12: =[5]연령별!C12 -> 13980 | S12: =[5]연령별!D12 -> 12978
A13: =[1]연령별!A13 -> 5 세 | B13: =SUM(C13:D13) -> 14043 | C13: =SUM(F13,I13,L13,O13,R13) -> 7292 | D13: =SUM(G13,J13,M13,P13,S13) -> 6751 | E13: =[1]연령별!B13 -> 572 | F13: =[1]연령별!C13 -> 307 | G13: =[1]연령별!D13 -> 265 | H13: =[2]연령별!B13 -> 2816 | I13: =[2]연령별!C13 -> 1462 | J13: =[2]연령별!D13 -> 1354 | K13: =[3]연령별!B13 -> 1635 | L13: =[3]연령별!C13 -> 847 | M13: =[3]연령별!D13 -> 788 | N13: =[4]연령별!B13 -> 4201 | O13: =[4]연령별!C13 -> 2166 | P13: =[4]연령별!D13 -> 2035 | Q13: =[5]연령별!B13 -> 4819 | R13: =[5]연령별!C13 -> 2510 | S13: =[5]연령별!D13 -> 2309
A14: =[1]연령별!A14 -> 6 세 | B14: =SUM(C14:D14) -> 15646 | C14: =SUM(F14,I14,L14,O14,R14) -> 8143 | D14: =SUM(G14,J14,M14,P14,S14) -> 7503 | E14: =[1]연령별!B14 -> 707 | F14: =[1]연령별!C14 -> 366 | G14: =[1]연령별!D14 -> 341 | H14: =[2]연령별!B14 -> 3278 | I14: =[2]연령별!C14 -> 1682 | J14: =[2]연령별!D14 -> 1596 | K14: =[3]연령별!B14 -> 1784 | L14: =[3]연령별!C14 -> 943 | M14: =[3]연령별!D14 -> 841 | N14: =[4]연령별!B14 -> 4693 | O14: =[4]연령별!C14 -> 2444 | P14: =[4]연령별!D14 -> 2249 | Q14: =[5]연령별!B14 -> 5184 | R14: =[5]연령별!C14 -> 2708 | S14: =[5]연령별!D14 -> 2476
A15: =[1]연령별!A15 -> 7 세 | B15: =SUM(C15:D15) -> 16904 | C15: =SUM(F15,I15,L15,O15,R15) -> 8933 | D15: =SUM(G15,J15,M15,P15,S15) -> 7971 | E15: =[1]연령별!B15 -> 767 | F15: =[1]연령별!C15 -> 418 | G15: =[1]연령별!D15 -> 349 | H15: =[2]연령별!B15 -> 3535 | I15: =[2]연령별!C15 -> 1883 | J15: =[2]연령별!D15 -> 1652 | K15: =[3]연령별!B15 -> 1903 | L15: =[3]연령별!C15 -> 999 | M15: =[3]연령별!D15 -> 904 | N15: =[4]연령별!B15 -> 5093 | O15: =[4]연령별!C15 -> 2715 | P15: =[4]연령별!D15 -> 2378 | Q15: =[5]연령별!B15 -> 5606 | R15: =[5]연령별!C15 -> 2918 | S15: =[5]연령별!D15 -> 2688
A16: =[1]연령별!A16 -> 8 세 | B16: =SUM(C16:D16) -> 16649 | C16: =SUM(F16,I16,L16,O16,R16) -> 8689 | D16: =SUM(G16,J16,M16,P16,S16) -> 7960 | E16: =[1]연령별!B16 -> 757 | F16: =[1]연령별!C16 -> 400 | G16: =[1]연령별!D16 -> 357 | H16: =[2]연령별!B16 -> 3569 | I16: =[2]연령별!C16 -> 1917 | J16: =[2]연령별!D16 -> 1652 | K16: =[3]연령별!B16 -> 2025 | L16: =[3]연령별!C16 -> 1057 | M16: =[3]연령별!D16 -> 968 | N16: =[4]연령별!B16 -> 5037 | O16: =[4]연령별!C16 -> 2592 | P16: =[4]연령별!D16 -> 2445 | Q16: =[5]연령별!B16 -> 5261 | R16: =[5]연령별!C16 -> 2723 | S16: =[5]연령별!D16 -> 2538
A17: =[1]연령별!A17 -> 9 세 | B17: =SUM(C17:D17) -> 19320 | C17: =SUM(F17,I17,L17,O17,R17) -> 10006 | D17: =SUM(G17,J17,M17,P17,S17) -> 9314 | E17: =[1]연령별!B17 -> 889 | F17: =[1]연령별!C17 -> 478 | G17: =[1]연령별!D17 -> 411 | H17: =[2]연령별!B17 -> 4230 | I17: =[2]연령별!C17 -> 2173 | J17: =[2]연령별!D17 -> 2057 | K17: =[3]연령별!B17 -> 2314 | L17: =[3]연령별!C17 -> 1201 | M17: =[3]연령별!D17 -> 1113 | N17: =[4]연령별!B17 -> 5799 | O17: =[4]연령별!C17 -> 3033 | P17: =[4]연령별!D17 -> 2766 | Q17: =[5]연령별!B17 -> 6088 | R17: =[5]연령별!C17 -> 3121 | S17: =[5]연령별!D17 -> 2967
... A126: =[1]연령별!A126 -> 100+ | B126: =SUM(C126:D126) -> 261 | C126: =SUM(F126,I126,L126,O126,R126) -> 36 | D126: =SUM(G126,J126,M126,P126,S126) -> 225 | E126: =[1]연령별!B126 -> 44 | F126: =[1]연령별!C126 -> 11 | G126: =[1]연령별!D126 -> 33 | H126: =[2]연령별!B126 -> 43 | I126: =[2]연령별!C126 -> 4 | J126: =[2]연령별!D126 -> 39 | K126: =[3]연령별!B126 -> 66 | L126: =[3]연령별!C126 -> 11 | M126: =[3]연령별!D126 -> 55 | N126: =[4]연령별!B126 -> 73 | O126: =[4]연령별!C126 -> 7 | P126: =[4]연령별!D126 -> 66 | Q126: =[5]연령별!B126 -> 35 | R126: =[5]연령별!C126 -> 3 | S126: =[5]연령별!D126 -> 32
A128: 14세이하 | B128: =SUM(B6,B12,B18) -> 268670 | C128: =SUM(C6,C12,C18) -> 139731 | D128: =SUM(D6,D12,D18) -> 128939 | E128: =SUM(E6,E12,E18) -> 12319 | F128: =SUM(F6,F12,F18) -> 6487 | G128: =SUM(G6,G12,G18) -> 5832 | H128: =SUM(H6,H12,H18) -> 55954 | I128: =SUM(I6,I12,I18) -> 29216 | ... S128: =SUM(S6,S12,S18) -> 41028
A129: 15∼64세 | B129: =SUM(B24,B30,B36,B42,B48,B54,B60,B66,B72,B78) -> 1055509 | C129: =SUM(C24,C30,C36,C42,C48,C54,C60,C66,C72,C78) -> 529522 | D129: =SUM(D24,D30,D36,D42,D48,D54,D60,D66,D72,D78) -> 525987 | E129: =SUM(E24,E30,E36,E42,E48,E54,E60,E66,E72,E78) -> 76378 | F129: =SUM(F24,F30,F36,F42,F48,F54,F60,F66,F72,F78) -> 38903 | G129: =SUM(G24,G30,G36,G42,G48,G54,G60,G66,G72,G78) -> 37475 | H129: =SUM(H24,H30,H36,H42,H48,H54,H60,H66,H72,H78) -> 221367 | I129: =SUM(I24,I30,I36,I42,I48,I54,I60,I66,I72,I78) -> 109741 | ... S129: =SUM(S24,S30,S36,S42,S48,S54,S60,S66,S72,S78) -> 124646

Sheet 2011년
A1: 3. 구별·연령별 한국인 현황(외국인 제외)
S2: (단위 : 명)
A3: =[1]연령별!A3 -> 구 분 | B3: 합 계 | E3: 동 구 | H3: 서 구 | K3: 남 구 | N3: 북 구 | Q3: 광 산 구
B4: 계 | C4: 남 | D4: 여 | E4: =[1]연령별!B4 -> 계 | F4: =[1]연령별!C4 -> 남 | G4: =[1]연령별!D4 -> 여 | H4: =[2]연령별!B4 -> 계 | I4: =[2]연령별!C4 -> 남 | J4: =[2]연령별!D4 -> 여 | K4: =[3]연령별!B4 -> 계 | L4: =[3]연령별!C4 -> 남 | M4: =[3]연령별!D4 -> 여 | N4: =[4]연령별!B4 -> 계 | O4: =[4]연령별!C4 -> 남 | P4: =[4]연령별!D4 -> 여 | Q4: =[5]연령별!B4 -> 계 | R4: =[5]연령별!C4 -> 남 | S4: =[5]연령별!D4 -> 여
A5: 2011 | B5: =SUM(C5:D5) -> 1463464 | C5: =SUM(F5,I5,L5,O5,R5) -> 725606 | D5: =SUM(G5,J5,M5,P5,S5) -> 737858 | E5: 106495 | F5: 53286 | G5: 53209 | H5: 317936 | I5: 156398 | J5: 161538 | K5: 219041 | L5: 106382 | M5: 112659 | N5: 444483 | O5: 221173 | P5: 223310 | Q5: 375509 | R5: 188367 | S5: 187142
A6: =[1]연령별!A6 -> 0 - 4 | B6: =SUM(C6:D6) -> 72463 | C6: =SUM(F6,I6,L6,O6,R6) -> 37452 | D6: =SUM(G6,J6,M6,P6,S6) -> 35011 | E6: 3448 | F6: 1781 | G6: 1667 | H6: 14974 | I6: 7755 | J6: 7219 | K6: 8763 | L6: 4459 | M6: 4304 | N6: 19836 | O6: 10296 | P6: 9540 | Q6: 25442 | R6: 13161 | S6: 12281
A7: =[1]연령별!A7 -> 0 세 | B7: =SUM(C7:D7) -> 13494 | C7: =SUM(F7,I7,L7,O7,R7) -> 6979 | D7: =SUM(G7,J7,M7,P7,S7) -> 6515 | E7: 760 | F7: 378 | G7: 382 | H7: 2751 | I7: 1423 | J7: 1328 | K7: 1652 | L7: 842 | M7: 810 | N7: 3672 | O7: 1885 | P7: 1787 | Q7: 4659 | R7: 2451 | S7: 2208
A8: =[1]연령별!A8 -> 1 세 | B8: =SUM(C8:D8) -> 14403 | C8: =SUM(F8,I8,L8,O8,R8) -> 7456 | D8: =SUM(G8,J8,M8,P8,S8) -> 6947 | E8: 698 | F8: 376 | G8: 322 | H8: 2967 | I8: 1547 | J8: 1420 | K8: 1820 | L8: 913 | M8: 907 | N8: 3889 | O8: 1989 | P8: 1900 | Q8: 5029 | R8: 2631 | S8: 2398
A9: =[1]연령별!A9 -> 2 세 | B9: =SUM(C9:D9) -> 13986 | C9: =SUM(F9,I9,L9,O9,R9) -> 7195 | D9: =SUM(G9,J9,M9,P9,S9) -> 6791 | E9: 621 | F9: 327 | G9: 294 | H9: 2858 | I9: 1463 | J9: 1395 | K9: 1661 | L9: 827 | M9: 834 | N9: 3876 | O9: 2045 | P9: 1831 | Q9: 4970 | R9: 2533 | S9: 2437
A10: =[1]연령별!A10 -> 3 세 | B10: =SUM(C10:D10) -> 14668 | C10: =SUM(F10,I10,L10,O10,R10) -> 7491 | D10: =SUM(G10,J10,M10,P10,S10) -> 7177 | E10: 664 | F10: 348 | G10: 316 | H10: 3079 | I10: 1579 | J10: 1500 | K10: 1775 | L10: 909 | M10: 866 | N10: 3992 | O10: 2055 | P10: 1937 | Q10: 5158 | R10: 2600 | S10: 2558
A11: =[1]연령별!A11 -> 4 세 | B11: =SUM(C11:D11) -> 15912 | C11: =SUM(F11,I11,L11,O11,R11) -> 8331 | D11: =SUM(G11,J11,M11,P11,S11) -> 7581 | E11: 705 | F11: 352 | G11: 353 | H11: 3319 | I11: 1743 | J11: 1576 | K11: 1855 | L11: 968 | M11: 887 | N11: 4407 | O11: 2322 | P11: 2085 | Q11: 5626 | R11: 2946 | S11: 2680
A12: =[1]연령별!A12 -> 5 - 9 | B12: =SUM(C12:D12) -> 78350 | C12: =SUM(F12,I12,L12,O12,R12) -> 40844 | D12: =SUM(G12,J12,M12,P12,S12) -> 37506 | E12: 3479 | F12: 1836 | G12: 1643 | H12: 17417 | I12: 9108 | J12: 8309 | K12: 9457 | L12: 4898 | M12: 4559 | N12: 21580 | O12: 11257 | P12: 10323 | Q12: 26417 | R12: 13745 | S12: 12672
A13: =[1]연령별!A13 -> 5 세 | B13: =SUM(C13:D13) -> 14540 | C13: =SUM(F13,I13,L13,O13,R13) -> 7540 | D13: =SUM(G13,J13,M13,P13,S13) -> 7000 | E13: 635 | F13: 329 | G13: 306 | H13: 3135 | I13: 1607 | J13: 1528 | K13: 1766 | L13: 902 | M13: 864 | N13: 3905 | O13: 2042 | P13: 1863 | Q13: 5099 | R13: 2660 | S13: 2439
A14: =[1]연령별!A14 -> 6 세 | B14: =SUM(C14:D14) -> 14293 | C14: =SUM(F14,I14,L14,O14,R14) -> 7428 | D14: =SUM(G14,J14,M14,P14,S14) -> 6865 | E14: 588 | F14: 315 | G14: 273 | H14: 3139 | I14: 1636 | J14: 1503 | K14: 1697 | L14: 875 | M14: 822 | N14: 3874 | O14: 2004 | P14: 1870 | Q14: 4995 | R14: 2598 | S14: 2397
A15: =[1]연령별!A15 -> 7 세 | B15: =SUM(C15:D15) -> 15694 | C15: =SUM(F15,I15,L15,O15,R15) -> 8157 | D15: =SUM(G15,J15,M15,P15,S15) -> 7537 | E15: 715 | F15: 367 | G15: 348 | H15: 3524 | I15: 1802 | J15: 1722 | K15: 1872 | L15: 986 | M15: 886 | N15: 4299 | O15: 2253 | P15: 2046 | Q15: 5284 | R15: 2749 | S15: 2535
A16: =[1]연령별!A16 -> 8 세 | B16: =SUM(C16:D16) -> 17022 | C16: =SUM(F16,I16,L16,O16,R16) -> 8973 | D16: =SUM(G16,J16,M16,P16,S16) -> 8049 | E16: 790 | F16: 431 | G16: 359 | H16: 3786 | I16: 2013 | J16: 1773 | K16: 1992 | L16: 1046 | M16: 946 | N16: 4755 | O16: 2511 | P16: 2244 | Q16: 5699 | R16: 2972 | S16: 2727
A17: =[1]연령별!A17 -> 9 세 | B17: =SUM(C17:D17) -> 16801 | C17: =SUM(F17,I17,L17,O17,R17) -> 8746 | D17: =SUM(G17,J17,M17,P17,S17) -> 8055 | E17: 751 | F17: 394 | G17: 357 | H17: 3833 | I17: 2050 | J17: 1783 | K17: 2130 | L17: 1089 | M17: 1041 | N17: 4747 | O17: 2447 | P17: 2300 | Q17: 5340 | R17: 2766 | S17: 2574
... A126: =[1]연령별!A126 -> 100+ | B126: =SUM(C126:D126) -> 262 | C126: =SUM(F126,I126,L126,O126,R126) -> 31 | D126: =SUM(G126,J126,M126,P126,S126) -> 231 | E126: 45 | F126: 8 | G126: 37 | H126: 43 | I126: 4 | J126: 39 | K126: 68 | L126: 10 | M126: 58 | N126: 69 | O126: 6 | P126: 63 | Q126: 37 | R126: 3 | S126: 34

Sheet 2012년
A1: 3. 구별·연령별 한국인 현황(외국인 제외)
S2: (단위 : 명)
A3: =[1]연령별!A3 -> 구 분 | B3: 합 계 | E3: 동 구 | H3: 서 구 | K3: 남 구 | N3: 북 구 | Q3: 광 산 구
B4: 계 | C4: 남 | D4: 여 | E4: =[1]연령별!B4 -> 계 | F4: =[1]연령별!C4 -> 남 | G4: =[1]연령별!D4 -> 여 | H4: =[2]연령별!B4 -> 계 | I4: =[2]연령별!C4 -> 남 | J4: =[2]연령별!D4 -> 여 | K4: =[3]연령별!B4 -> 계 | L4: =[3]연령별!C4 -> 남 | M4: =[3]연령별!D4 -> 여 | N4: =[4]연령별!B4 -> 계 | O4: =[4]연령별!C4 -> 남 | P4: =[4]연령별!D4 -> 여 | Q4: =[5]연령별!B4 -> 계 | R4: =[5]연령별!C4 -> 남 | S4: =[5]연령별!D4 -> 여
A5: 2012 | B5: =SUM(C5:D5) -> 1469216 | C5: =SUM(F5,I5,L5,O5,R5) -> 728406 | D5: =SUM(G5,J5,M5,P5,S5) -> 740810 | E5: =SUM(F5,G5) -> 105580 | F5: =SUM(F6,F12,F18,F24,F30,F36,F42,F48,F54,F60,F66,F72,F78,F84,F90,F96,F102,F108,F114,F120,F126) -> 52888 | G5: =SUM(G6,G12,G18,G24,G30,G36,G42,G48,G54,G60,G66,G72,G78,G84,G90,G96,G102,G108,G114,G120,G126) -> 52692 | H5: =SUM(I5,J5) -> 316545 | I5: =SUM(I6,I12,I18,I24,I30,I36,I42,I48,I54,I60,I66,I72,I78,I84,I90,I96,I102,I108,I114,I120,I126) -> 155783 | J5: =SUM(J6,J12,J18,J24,J30,J36,J42,J48,J54,J60,J66,J72,J78,J84,J90,J96,J102,J108,J114,J120,J126) -> 160762 | K5: =SUM(L5,M5) -> 218313 | L5: =SUM(L6,L12,L18,L24,L30,L36,L42,L48,L54,L60,L66,L72,L78,L84,L90,L96,L102,L108,L114,L120,L126) -> 105840 | M5: =SUM(M6,M12,M18,M24,M30,M36,M42,M48,M54,M60,M66,M72,M78,M84,M90,M96,M102,M108,M114,M120,M126) -> 112473 | N5: =SUM(O5,P5) -> 443677 | O5: =SUM(O6,O12,O18,O24,O30,O36,O42,O48,O54,O60,O66,O72,O78,O84,O90,O96,O102,O108,O114,O120,O126) -> 220615 | P5: =SUM(P6,P12,P18,P24,P30,P36,P42,P48,P54,P60,P66,P72,P78,P84,P90,P96,P102,P108,P114,P120,P126) -> 223062 | Q5: =SUM(R5,S5) -> 385101 | R5: =SUM(R6,R12,R18,R24,R30,R36,R42,R48,R54,R60,R66,R72,R78,R84,R90,R96,R102,R108,R114,R120,R126) -> 193280 | S5: =SUM(S6,S12,S18,S24,S30,S36,S42,S48,S54,S60,S66,S72,S78,S84,S90,S96,S102,S108,S114,S120,S126) -> 191821
A6: =[1]연령별!A6 -> 0 - 4 | B6: =SUM(C6:D6) -> 71734 | C6: =SUM(F6,I6,L6,O6,R6) -> 36941 | D6: =SUM(G6,J6,M6,P6,S6) -> 34793 | E6: 3596 | F6: 1848 | G6: 1748 | H6: 14523 | I6: 7521 | J6: 7002 | K6: 8741 | L6: 4455 | M6: 4286 | N6: 19442 | O6: 10052 | P6: 9390 | Q6: 25432 | R6: 13065 | S6: 12367
A7: =[1]연령별!A7 -> 0 세 | B7: =SUM(C7:D7) -> 13917 | C7: =SUM(F7,I7,L7,O7,R7) -> 7171 | D7: =SUM(G7,J7,M7,P7,S7) -> 6746 | E7: 837 | F7: 427 | G7: 410 | H7: 2800 | I7: 1473 | J7: 1327 | K7: 1659 | L7: 855 | M7: 804 | N7: 3816 | O7: 1951 | P7: 1865 | Q7: 4805 | R7: 2465 | S7: 2340
A8: =[1]연령별!A8 -> 1 세 | B8: =SUM(C8:D8) -> 14273 | C8: =SUM(F8,I8,L8,O8,R8) -> 7380 | D8: =SUM(G8,J8,M8,P8,S8) -> 6893 | E8: 780 | F8: 375 | G8: 405 | H8: 2852 | I8: 1471 | J8: 1381 | K8: 1733 | L8: 885 | M8: 848 | N8: 3893 | O8: 2017 | P8: 1876 | Q8: 5015 | R8: 2632 | S8: 2383
A9: =[1]연령별!A9 -> 2 세 | B9: =SUM(C9:D9) -> 14601 | C9: =SUM(F9,I9,L9,O9,R9) -> 7559 | D9: =SUM(G9,J9,M9,P9,S9) -> 7042 | E9: 704 | F9: 373 | G9: 331 | H9: 2934 | I9: 1535 | J9: 1399 | K9: 1861 | L9: 946 | M9: 915 | N9: 3886 | O9: 1991 | P9: 1895 | Q9: 5216 | R9: 2714 | S9: 2502
A10: =[1]연령별!A10 -> 3 세 | B10: =SUM(C10:D10) -> 14106 | C10: =SUM(F10,I10,L10,O10,R10) -> 7257 | D10: =SUM(G10,J10,M10,P10,S10) -> 6849 | E10: 613 | F10: 319 | G10: 294 | H10: 2862 | I10: 1465 | J10: 1397 | K10: 1684 | L10: 846 | M10: 838 | N10: 3848 | O10: 2045 | P10: 1803 | Q10: 5099 | R10: 2582 | S10: 2517
A11: =[1]연령별!A11 -> 4 세 | B11: =SUM(C11:D11) -> 14837 | C11: =SUM(F11,I11,L11,O11,R11) -> 7574 | D11: =SUM(G11,J11,M11,P11,S11) -> 7263 | E11: 662 | F11: 354 | G11: 308 | H11: 3075 | I11: 1577 | J11: 1498 | K11: 1804 | L11: 923 | M11: 881 | N11: 3999 | O11: 2048 | P11: 1951 | Q11: 5297 | R11: 2672 | S11: 2625
A12: =[1]연령별!A12 -> 5 - 9 | B12: =SUM(C12:D12) -> 77910 | C12: =SUM(F12,I12,L12,O12,R12) -> 40661 | D12: =SUM(G12,J12,M12,P12,S12) -> 37249 | E12: 3428 | F12: 1821 | G12: 1607 | H12: 16764 | I12: 8725 | J12: 8039 | K12: 9417 | L12: 4906 | M12: 4511 | N12: 21126 | O12: 11079 | P12: 10047 | Q12: 27175 | R12: 14130 | S12: 13045
A13: =[1]연령별!A13 -> 5 세 | B13: =SUM(C13:D13) -> 16001 | C13: =SUM(F13,I13,L13,O13,R13) -> 8359 | D13: =SUM(G13,J13,M13,P13,S13) -> 7642 | E13: 712 | F13: 352 | G13: 360 | H13: 3321 | I13: 1721 | J13: 1600 | K13: 1870 | L13: 978 | M13: 892 | N13: 4352 | O13: 2314 | P13: 2038 | Q13: 5746 | R13: 2994 | S13: 2752
A14: =[1]연령별!A14 -> 6 세 | B14: =SUM(C14:D14) -> 14814 | C14: =SUM(F14,I14,L14,O14,R14) -> 7699 | D14: =SUM(G14,J14,M14,P14,S14) -> 7115 | E14: 642 | F14: 348 | G14: 294 | H14: 3143 | I14: 1632 | J14: 1511 | K14: 1866 | L14: 944 | M14: 922 | N14: 3934 | O14: 2049 | P14: 1885 | Q14: 5229 | R14: 2726 | S14: 2503
A15: =[1]연령별!A15 -> 7 세 | B15: =SUM(C15:D15) -> 14284 | C15: =SUM(F15,I15,L15,O15,R15) -> 7414 | D15: =SUM(G15,J15,M15,P15,S15) -> 6870 | E15: 584 | F15: 314 | G15: 270 | H15: 3075 | I15: 1582 | J15: 1493 | K15: 1724 | L15: 887 | M15: 837 | N15: 3883 | O15: 2026 | P15: 1857 | Q15: 5018 | R15: 2605 | S15: 2413
A16: =[1]연령별!A16 -> 8 세 | B16: =SUM(C16:D16) -> 15733 | C16: =SUM(F16,I16,L16,O16,R16) -> 8189 | D16: =SUM(G16,J16,M16,P16,S16) -> 7544 | E16: 710 | F16: 372 | G16: 338 | H16: 3483 | I16: 1791 | J16: 1692 | K16: 1921 | L16: 1030 | M16: 891 | N16: 4233 | O16: 2212 | P16: 2021 | Q16: 5386 | R16: 2784 | S16: 2602
A17: =[1]연령별!A17 -> 9 세 | B17: =SUM(C17:D17) -> 17078 | C17: =SUM(F17,I17,L17,O17,R17) -> 9000 | D17: =SUM(G17,J17,M17,P17,S17) -> 8078 | E17: 780 | F17: 435 | G17: 345 | H17: 3742 | I17: 1999 | J17: 1743 | K17: 2036 | L17: 1067 | M17: 969 | N17: 4724 | O17: 2478 | P17: 2246 | Q17: 5796 | R17: 3021 | S17: 2775
... A126: =[1]연령별!A126 -> 100+ | B126: =SUM(C126:D126) -> 257 | C126: =SUM(F126,I126,L126,O126,R126) -> 34 | D126: =SUM(G126,J126,M126,P126,S126) -> 223 | E126: 47 | F126: 7 | G126: 40 | H126: 42 | I126: 4 | J126: 38 | K126: 64 | L126: 13 | M126: 51 | N126: 70 | O126: 8 | P126: 62 | Q126: 34 | R126: 2 | S126: 32

Sheet 2013년
A1: 3. 구별·연령별 한국인 현황(외국인 제외)
S2: (단위 : 명)
A3: =[1]연령별!A3 -> 구 분 | B3: 합 계 | E3: 동 구 | H3: 서 구 | K3: 남 구 | N3: 북 구 | Q3: 광 산 구
B4: 계 | C4: 남 | D4: 여 | E4: =[1]연령별!B4 -> 계 | F4: =[1]연령별!C4 -> 남 | G4: =[1]연령별!D4 -> 여 | H4: =[2]연령별!B4 -> 계 | I4: =[2]연령별!C4 -> 남 | J4: =[2]연령별!D4 -> 여 | K4: =[3]연령별!B4 -> 계 | L4: =[3]연령별!C4 -> 남 | M4: =[3]연령별!D4 -> 여 | N4: =[4]연령별!B4 -> 계 | O4: =[4]연령별!C4 -> 남 | P4: =[4]연령별!D4 -> 여 | Q4: =[5]연령별!B4 -> 계 | R4: =[5]연령별!C4 -> 남 | S4: =[5]연령별!D4 -> 여
A5: 2013 | B5: =SUM(C5:D5) -> 1472910 | C5: =SUM(F5,I5,L5,O5,R5) -> 730216 | D5: =SUM(G5,J5,M5,P5,S5) -> 742694 | E5: =SUM(F5,G5) -> 103016 | F5: =SUM(F6,F12,F18,F24,F30,F36,F42,F48,F54,F60,F66,F72,F78,F84,F90,F96,F102,F108,F114,F120,F126) -> 51584 | G5: =SUM(G6,G12,G18,G24,G30,G36,G42,G48,G54,G60,G66,G72,G78,G84,G90,G96,G102,G108,G114,G120,G126) -> 51432 | H5: =SUM(I5,J5) -> 315276 | I5: =SUM(I6,I12,I18,I24,I30,I36,I42,I48,I54,I60,I66,I72,I78,I84,I90,I96,I102,I108,I114,I120,I126) -> 155104 | J5: =SUM(J6,J12,J18,J24,J30,J36,J42,J48,J54,J60,J66,J72,J78,J84,J90,J96,J102,J108,J114,J120,J126) -> 160172 | K5: =SUM(L5,M5) -> 216254 | L5: =SUM(L6,L12,L18,L24,L30,L36,L42,L48,L54,L60,L66,L72,L78,L84,L90,L96,L102,L108,L114,L120,L126) -> 104891 | M5: =SUM(M6,M12,M18,M24,M30,M36,M42,M48,M54,M60,M66,M72,M78,M84,M90,M96,M102,M108,M114,M120,M126) -> 111363 | N5: =SUM(O5,P5) -> 445489 | O5: =SUM(O6,O12,O18,O24,O30,O36,O42,O48,O54,O60,O66,O72,O78,O84,O90,O96,O102,O108,O114,O120,O126) -> 221433 | P5: =SUM(P6,P12,P18,P24,P30,P36,P42,P48,P54,P60,P66,P72,P78,P84,P90,P96,P102,P108,P114,P120,P126) -> 224056 | Q5: =SUM(R5,S5) -> 392875 | R5: =SUM(R6,R12,R18,R24,R30,R36,R42,R48,R54,R60,R66,R72,R78,R84,R90,R96,R102,R108,R114,R120,R126) -> 197204 | S5: =SUM(S6,S12,S18,S24,S30,S36,S42,S48,S54,S60,S66,S72,S78,S84,S90,S96,S102,S108,S114,S120,S126) -> 195671
A6: =[1]연령별!A6 -> 0 - 4 | B6: =SUM(C6:D6) -> 70889 | C6: =SUM(F6,I6,L6,O6,R6) -> 36607 | D6: =SUM(G6,J6,M6,P6,S6) -> 34282 | E6: 3681 | F6: 1903 | G6: 1778 | H6: 14053 | I6: 7234 | J6: 6819 | K6: 8544 | L6: 4371 | M6: 4173 | N6: 19359 | O6: 10057 | P6: 9302 | Q6: 25252 | R6: 13042 | S6: 12210
A7: =[1]연령별!A7 -> 0 세 | B7: =SUM(C7:D7) -> 12407 | C7: =SUM(F7,I7,L7,O7,R7) -> 6371 | D7: =SUM(G7,J7,M7,P7,S7) -> 6036 | E7: 797 | F7: 407 | G7: 390 | H7: 2496 | I7: 1245 | J7: 1251 | K7: 1374 | L7: 704 | M7: 670 | N7: 3462 | O7: 1813 | P7: 1649 | Q7: 4278 | R7: 2202 | S7: 2076
A8: =[1]연령별!A8 -> 1 세 | B8: =SUM(C8:D8) -> 14846 | C8: =SUM(F8,I8,L8,O8,R8) -> 7691 | D8: =SUM(G8,J8,M8,P8,S8) -> 7155 | E8: 857 | F8: 443 | G8: 414 | H8: 2905 | I8: 1527 | J8: 1378 | K8: 1806 | L8: 935 | M8: 871 | N8: 4093 | O8: 2111 | P8: 1982 | Q8: 5185 | R8: 2675 | S8: 2510
A9: =[1]연령별!A9 -> 2 세 | B9: =SUM(C9:D9) -> 14564 | C9: =SUM(F9,I9,L9,O9,R9) -> 7537 | D9: =SUM(G9,J9,M9,P9,S9) -> 7027 | E9: 763 | F9: 382 | G9: 381 | H9: 2855 | I9: 1461 | J9: 1394 | K9: 1761 | L9: 908 | M9: 853 | N9: 3941 | O9: 2026 | P9: 1915 | Q9: 5244 | R9: 2760 | S9: 2484
A10: =[1]연령별!A10 -> 3 세 | B10: =SUM(C10:D10) -> 14811 | C10: =SUM(F10,I10,L10,O10,R10) -> 7672 | D10: =SUM(G10,J10,M10,P10,S10) -> 7139 | E10: 668 | F10: 362 | G10: 306 | H10: 2943 | I10: 1541 | J10: 1402 | K10: 1884 | L10: 955 | M10: 929 | N10: 3957 | O10: 2017 | P10: 1940 | Q10: 5359 | R10: 2797 | S10: 2562
A11: =[1]연령별!A11 -> 4 세 | B11: =SUM(C11:D11) -> 14261 | C11: =SUM(F11,I11,L11,O11,R11) -> 7336 | D11: =SUM(G11,J11,M11,P11,S11) -> 6925 | E11: 596 | F11: 309 | G11: 287 | H11: 2854 | I11: 1460 | J11: 1394 | K11: 1719 | L11: 869 | M11: 850 | N11: 3906 | O11: 2090 | P11: 1816 | Q11: 5186 | R11: 2608 | S11: 2578
A12: =[1]연령별!A12 -> 5 - 9 | B12: =SUM(C12:D12) -> 76086 | C12: =SUM(F12,I12,L12,O12,R12) -> 39416 | D12: =SUM(G12,J12,M12,P12,S12) -> 36670 | E12: 3221 | F12: 1691 | G12: 1530 | H12: 16056 | I12: 8273 | J12: 7783 | K12: 9359 | L12: 4835 | M12: 4524 | N12: 20427 | O12: 10662 | P12: 9765 | Q12: 27023 | R12: 13955 | S12: 13068
A13: =[1]연령별!A13 -> 5 세 | B13: =SUM(C13:D13) -> 14939 | C13: =SUM(F13,I13,L13,O13,R13) -> 7613 | D13: =SUM(G13,J13,M13,P13,S13) -> 7326 | E13: 649 | F13: 342 | G13: 307 | H13: 3043 | I13: 1564 | J13: 1479 | K13: 1863 | L13: 947 | M13: 916 | N13: 3994 | O13: 2047 | P13: 1947 | Q13: 5390 | R13: 2713 | S13: 2677
A14: =[1]연령별!A14 -> 6 세 | B14: =SUM(C14:D14) -> 16302 | C14: =SUM(F14,I14,L14,O14,R14) -> 8504 | D14: =SUM(G14,J14,M14,P14,S14) -> 7798 | E14: 693 | F14: 347 | G14: 346 | H14: 3381 | I14: 1758 | J14: 1623 | K14: 1944 | L14: 992 | M14: 952 | N14: 4394 | O14: 2336 | P14: 2058 | Q14: 5890 | R14: 3071 | S14: 2819
A15: =[1]연령별!A15 -> 7 세 | B15: =SUM(C15:D15) -> 14756 | C15: =SUM(F15,I15,L15,O15,R15) -> 7687 | D15: =SUM(G15,J15,M15,P15,S15) -> 7069 | E15: 621 | F15: 328 | G15: 293 | H15: 3129 | I15: 1630 | J15: 1499 | K15: 1871 | L15: 962 | M15: 909 | N15: 3925 | O15: 2051 | P15: 1874 | Q15: 5210 | R15: 2716 | S15: 2494
A16: =[1]연령별!A16 -> 8 세 | B16: =SUM(C16:D16) -> 14330 | C16: =SUM(F16,I16,L16,O16,R16) -> 7431 | D16: =SUM(G16,J16,M16,P16,S16) -> 6899 | E16: 572 | F16: 312 | G16: 260 | H16: 3063 | I16: 1564 | J16: 1499 | K16: 1729 | L16: 898 | M16: 831 | N16: 3873 | O16: 2012 | P16: 1861 | Q16: 5093 | R16: 2645 | S16: 2448
A17: =[1]연령별!A17 -> 9 세 | B17: =SUM(C17:D17) -> 15759 | C17: =SUM(F17,I17,L17,O17,R17) -> 8181 | D17: =SUM(G17,J17,M17,P17,S17) -> 7578 | E17: 686 | F17: 362 | G17: 324 | H17: 3440 | I17: 1757 | J17: 1683 | K17: 1952 | L17: 1036 | M17: 916 | N17: 4241 | O17: 2216 | P17: 2025 | Q17: 5440 | R17: 2810 | S17: 2630
... A126: =[1]연령별!A126 -> 100+ | B126: =SUM(C126:D126) -> 270 | C126: =SUM(F126,I126,L126,O126,R126) -> 31 | D126: =SUM(G126,J126,M126,P126,S126) -> 239 | E126: 47 | F126: 7 | G126: 40 | H126: 45 | I126: 5 | J126: 40 | K126: 70 | L126: 9 | M126: 61 | N126: 69 | O126: 8 | P126: 61 | Q126: 39 | R126: 2 | S126: 37

Sheet 2014년
A1: 3. 구별·연령별 한국인 현황(외국인 제외)
S2: (단위 : 명)
A3: =[1]연령별!A3 -> 구 분 | B3: 합 계 | E3: 동 구 | H3: 서 구 | K3: 남 구 | N3: 북 구 | Q3: 광 산 구
B4: 계 | C4: 남 | D4: 여 | E4: =[1]연령별!B4 -> 계 | F4: =[1]연령별!C4 -> 남 | G4: =[1]연령별!D4 -> 여 | H4: =[2]연령별!B4 -> 계 | I4: =[2]연령별!C4 -> 남 | J4: =[2]연령별!D4 -> 여 | K4: =[3]연령별!B4 -> 계 | L4: =[3]연령별!C4 -> 남 | M4: =[3]연령별!D4 -> 여 | N4: =[4]연령별!B4 -> 계 | O4: =[4]연령별!C4 -> 남 | P4: =[4]연령별!D4 -> 여 | Q4: =[5]연령별!B4 -> 계 | R4: =[5]연령별!C4 -> 남 | S4: =[5]연령별!D4 -> 여
A5: 2014 | B5: =SUM(C5:D5) -> 1475884 | C5: =SUM(F5,I5,L5,O5,R5) -> 731339 | D5: =SUM(G5,J5,M5,P5,S5) -> 744545 | E5: =SUM(F5,G5) -> 100786 | F5: =SUM(F6,F12,F18,F24,F30,F36,F42,F48,F54,F60,F66,F72,F78,F84,F90,F96,F102,F108,F114,F120,F126) -> 50382 | G5: =SUM(G6,G12,G18,G24,G30,G36,G42,G48,G54,G60,G66,G72,G78,G84,G90,G96,G102,G108,G114,G120,G126) -> 50404 | H5: =SUM(I5,J5) -> 310317 | I5: =SUM(I6,I12,I18,I24,I30,I36,I42,I48,I54,I60,I66,I72,I78,I84,I90,I96,I102,I108,I114,I120,I126) -> 152605 | J5: =SUM(J6,J12,J18,J24,J30,J36,J42,J48,J54,J60,J66,J72,J78,J84,J90,J96,J102,J108,J114,J120,J126) -> 157712 | K5: =SUM(L5,M5) -> 219815 | L5: =SUM(L6,L12,L18,L24,L30,L36,L42,L48,L54,L60,L66,L72,L78,L84,L90,L96,L102,L108,L114,L120,L126) -> 106477 | M5: =SUM(M6,M12,M18,M24,M30,M36,M42,M48,M54,M60,M66,M72,M78,M84,M90,M96,M102,M108,M114,M120,M126) -> 113338 | N5: =SUM(O5,P5) -> 447685 | O5: =SUM(O6,O12,O18,O24,O30,O36,O42,O48,O54,O60,O66,O72,O78,O84,O90,O96,O102,O108,O114,O120,O126) -> 222622 | P5: =SUM(P6,P12,P18,P24,P30,P36,P42,P48,P54,P60,P66,P72,P78,P84,P90,P96,P102,P108,P114,P120,P126) -> 225063 | Q5: =SUM(R5,S5) -> 397281 | R5: =SUM(R6,R12,R18,R24,R30,R36,R42,R48,R54,R60,R66,R72,R78,R84,R90,R96,R102,R108,R114,R120,R126) -> 199253 | S5: =SUM(S6,S12,S18,S24,S30,S36,S42,S48,S54,S60,S66,S72,S78,S84,S90,S96,S102,S108,S114,S120,S126) -> 198028
A6: =[1]연령별!A6 -> 0 - 4 | B6: =SUM(C6:D6) -> 70060 | C6: =SUM(F6,I6,L6,O6,R6) -> 36126 | D6: =SUM(G6,J6,M6,P6,S6) -> 33934 | E6: =SUM(E7:E11) -> 3664 | F6: =SUM(F7:F11) -> 1900 | G6: =SUM(G7:G11) -> 1764 | H6: =SUM(H7:H11) -> 13297 | I6: =SUM(I7:I11) -> 6830 | J6: =SUM(J7:J11) -> 6467 | K6: =SUM(K7:K11) -> 8927 | L6: =SUM(L7:L11) -> 4605 | ... S6: =SUM(S7:S11) -> 11923
A7: =[1]연령별!A7 -> 0 세 | B7: =SUM(C7:D7) -> 12306 | C7: =SUM(F7,I7,L7,O7,R7) -> 6303 | D7: =SUM(G7,J7,M7,P7,S7) -> 6003 | E7: =SUM(F7:G7) -> 786 | F7: 423 | G7: 363 | H7: =SUM(I7:J7) -> 2326 | I7: 1171 | J7: 1155 | K7: =SUM(L7:M7) -> 1522 | L7: 794 | M7: 728 | N7: =SUM(O7:P7) -> 3579 | O7: 1818 | P7: 1761 | Q7: =SUM(R7:S7) -> 4093 | R7: 2097 | S7: 1996
A8: =[1]연령별!A8 -> 1 세 | B8: =SUM(C8:D8) -> 13024 | C8: =SUM(F8,I8,L8,O8,R8) -> 6697 | D8: =SUM(G8,J8,M8,P8,S8) -> 6327 | E8: =SUM(F8:G8) -> 728 | F8: 372 | G8: 356 | H8: =SUM(I8:J8) -> 2496 | I8: 1252 | J8: 1244 | K8: =SUM(L8:M8) -> 1607 | L8: 818 | M8: 789 | N8: =SUM(O8:P8) -> 3675 | O8: 1927 | P8: 1748 | Q8: =SUM(R8:S8) -> 4518 | R8: 2328 | S8: 2190
A9: =[1]연령별!A9 -> 2 세 | B9: =SUM(C9:D9) -> 15038 | C9: =SUM(F9,I9,L9,O9,R9) -> 7800 | D9: =SUM(G9,J9,M9,P9,S9) -> 7238 | E9: =SUM(F9:G9) -> 790 | F9: 403 | G9: 387 | H9: =SUM(I9:J9) -> 2854 | I9: 1494 | J9: 1360 | K9: =SUM(L9:M9) -> 1904 | L9: 1007 | M9: 897 | N9: =SUM(O9:P9) -> 4190 | O9: 2164 | P9: 2026 | Q9: =SUM(R9:S9) -> 5300 | R9: 2732 | S9: 2568
A10: =[1]연령별!A10 -> 3 세 | B10: =SUM(C10:D10) -> 14698 | C10: =SUM(F10,I10,L10,O10,R10) -> 7593 | D10: =SUM(G10,J10,M10,P10,S10) -> 7105 | E10: =SUM(F10:G10) -> 711 | F10: 362 | G10: 349 | H10: =SUM(I10:J10) -> 2766 | I10: 1416 | J10: 1350 | K10: =SUM(L10:M10) -> 1923 | L10: 979 | M10: 944 | N10: =SUM(O10:P10) -> 4022 | O10: 2077 | P10: 1945 | Q10: =SUM(R10:S10) -> 5276 | R10: 2759 | S10: 2517
A11: =[1]연령별!A11 -> 4 세 | B11: =SUM(C11:D11) -> 14994 | C11: =SUM(F11,I11,L11,O11,R11) -> 7733 | D11: =SUM(G11,J11,M11,P11,S11) -> 7261 | E11: =SUM(F11:G11) -> 649 | F11: 340 | G11: 309 | H11: =SUM(I11:J11) -> 2855 | I11: 1497 | J11: 1358 | K11: =SUM(L11:M11) -> 1971 | L11: 1007 | M11: 964 | N11: =SUM(O11:P11) -> 4049 | O11: 2071 | P11: 1978 | Q11: =SUM(R11:S11) -> 5470 | R11: 2818 | S11: 2652
A12: =[1]연령별!A12 -> 5 - 9 | B12: =SUM(C12:D12) -> 75096 | C12: =SUM(F12,I12,L12,O12,R12) -> 38836 | D12: =SUM(G12,J12,M12,P12,S12) -> 36260 | E12: =SUM(E13:E17) -> 2991 | F12: =SUM(F13:F17) -> 1546 | G12: =SUM(G13:G17) -> 1445 | H12: =SUM(H13:H17) -> 15158 | I12: =SUM(I13:I17) -> 7801 | J12: =SUM(J13:J17) -> 7357 | K12: =SUM(K13:K17) -> 9653 | L12: =SUM(L13:L17) -> 4941 | ... S12: =SUM(S13:S17) -> 13089
A13: =[1]연령별!A13 -> 5 세 | B13: =SUM(C13:D13) -> 14420 | C13: =SUM(F13,I13,L13,O13,R13) -> 7417 | D13: =SUM(G13,J13,M13,P13,S13) -> 7003 | E13: =SUM(F13:G13) -> 586 | F13: 307 | G13: 279 | H13: =SUM(I13:J13) -> 2798 | I13: 1442 | J13: 1356 | K13: =SUM(L13:M13) -> 1811 | L13: 917 | M13: 894 | N13: =SUM(O13:P13) -> 3952 | O13: 2099 | P13: 1853 | Q13: =SUM(R13:S13) -> 5273 | R13: 2652 | S13: 2621
A14: =[1]연령별!A14 -> 6 세 | B14: =SUM(C14:D14) -> 15185 | C14: =SUM(F14,I14,L14,O14,R14) -> 7757 | D14: =SUM(G14,J14,M14,P14,S14) -> 7428 | E14: =SUM(F14:G14) -> 596 | F14: 305 | G14: 291 | H14: =SUM(I14:J14) -> 2997 | I14: 1512 | J14: 1485 | K14: =SUM(L14:M14) -> 2005 | L14: 1047 | M14: 958 | N14: =SUM(O14:P14) -> 4078 | O14: 2093 | P14: 1985 | Q14: =SUM(R14:S14) -> 5509 | R14: 2800 | S14: 2709
A15: =[1]연령별!A15 -> 7 세 | B15: =SUM(C15:D15) -> 16330 | C15: =SUM(F15,I15,L15,O15,R15) -> 8520 | D15: =SUM(G15,J15,M15,P15,S15) -> 7810 | E15: =SUM(F15:G15) -> 649 | F15: 313 | G15: 336 | H15: =SUM(I15:J15) -> 3298 | I15: 1712 | J15: 1586 | K15: =SUM(L15:M15) -> 2051 | L15: 1047 | M15: 1004 | N15: =SUM(O15:P15) -> 4459 | O15: 2386 | P15: 2073 | Q15: =SUM(R15:S15) -> 5873 | R15: 3062 | S15: 2811
A16: =[1]연령별!A16 -> 8 세 | B16: =SUM(C16:D16) -> 14777 | C16: =SUM(F16,I16,L16,O16,R16) -> 7671 | D16: =SUM(G16,J16,M16,P16,S16) -> 7106 | E16: =SUM(F16:G16) -> 608 | F16: 324 | G16: 284 | H16: =SUM(I16:J16) -> 3061 | I16: 1592 | J16: 1469 | K16: =SUM(L16:M16) -> 1946 | L16: 982 | M16: 964 | N16: =SUM(O16:P16) -> 3969 | O16: 2079 | P16: 1890 | Q16: =SUM(R16:S16) -> 5193 | R16: 2694 | S16: 2499
A17: =[1]연령별!A17 -> 9 세 | B17: =SUM(C17:D17) -> 14384 | C17: =SUM(F17,I17,L17,O17,R17) -> 7471 | D17: =SUM(G17,J17,M17,P17,S17) -> 6913 | E17: =SUM(F17:G17) -> 552 | F17: 297 | G17: 255 | H17: =SUM(I17:J17) -> 3004 | I17: 1543 | J17: 1461 | K17: =SUM(L17:M17) -> 1840 | L17: 948 | M17: 892 | N17: =SUM(O17:P17) -> 3896 | O17: 2040 | P17: 1856 | Q17: =SUM(R17:S17) -> 5092 | R17: 2643 | S17: 2449
A18: =[1]연령별!A18 -> 10-14 | B18: =SUM(C18:D18) -> 92099 | C18: =SUM(F18,I18,L18,O18,R18) -> 47952 | D18: =SUM(G18,J18,M18,P18,S18) -> 44147 | E18: =SUM(E19:E23) -> 4027 | F18: =SUM(F19:F23) -> 2147 | G18: =SUM(G19:G23) -> 1880 | H18: =SUM(H19:H23) -> 19972 | I18: =SUM(I19:I23) -> 10476 | J18: =SUM(J19:J23) -> 9496 | K18: =SUM(K19:K23) -> 12402 | L18: =SUM(L19:L23) -> 6339 | ... S18: =SUM(S19:S23) -> 14540
A19: =[1]연령별!A19 -> 10 세 | B19: =SUM(C19:D19) -> 15838 | C19: =SUM(F19,I19,L19,O19,R19) -> 8205 | D19: =SUM(G19,J19,M19,P19,S19) -> 7633 | E19: =SUM(F19:G19) -> 679 | F19: 360 | G19: 319 | H19: =SUM(I19:J19) -> 3344 | I19: 1711 | J19: 1633 | K19: =SUM(L19:M19) -> 2068 | L19: 1080 | M19: 988 | N19: =SUM(O19:P19) -> 4299 | O19: 2250 | P19: 2049 | Q19: =SUM(R19:S19) -> 5448 | R19: 2804 | S19: 2644
A20: =[1]연령별!A20 -> 11 세 | B20: =SUM(C20:D20) -> 17162 | C20: =SUM(F20,I20,L20,O20,R20) -> 9020 | D20: =SUM(G20,J20,M20,P20,S20) -> 8142 | E20: =SUM(F20:G20) -> 746 | F20: 412 | G20: 334 | H20: =SUM(I20:J20) -> 3659 | I20: 1959 | J20: 1700 | K20: =SUM(L20:M20) -> 2196 | L20: 1131 | M20: 1065 | N20: =SUM(O20:P20) -> 4793 | O20: 2524 | P20: 2269 | Q20: =SUM(R20:S20) -> 5768 | R20: 2994 | S20: 2774
A21: =[1]연령별!A21 -> 12 세 | B21: =SUM(C21:D21) -> 16994 | C21: =SUM(F21,I21,L21,O21,R21) -> 8835 | D21: =SUM(G21,J21,M21,P21,S21) -> 8159 | E21: =SUM(F21:G21) -> 692 | F21: 360 | G21: 332 | H21: =SUM(I21:J21) -> 3748 | I21: 2034 | J21: 1714 | K21: =SUM(L21:M21) -> 2363 | L21: 1185 | M21: 1178 | N21: =SUM(O21:P21) -> 4728 | O21: 2462 | P21: 2266 | Q21: =SUM(R21:S21) -> 5463 | R21: 2794 | S21: 2669
A22: =[1]연령별!A22 -> 13 세 | B22: =SUM(C22:D22) -> 19512 | C22: =SUM(F22,I22,L22,O22,R22) -> 10098 | D22: =SUM(G22,J22,M22,P22,S22) -> 9414 | E22: =SUM(F22:G22) -> 859 | F22: 451 | G22: 408 | H22: =SUM(I22:J22) -> 4305 | I22: 2216 | J22: 2089 | K22: =SUM(L22:M22) -> 2673 | L22: 1365 | M22: 1308 | N22: =SUM(O22:P22) -> 5423 | O22: 2855 | P22: 2568 | Q22: =SUM(R22:S22) -> 6252 | R22: 3211 | S22: 3041
A23: =[1]연령별!A23 -> 14 세 | B23: =SUM(C23:D23) -> 22593 | C23: =SUM(F23,I23,L23,O23,R23) -> 11794 | D23: =SUM(G23,J23,M23,P23,S23) -> 10799 | E23: =SUM(F23:G23) -> 1051 | F23: 564 | G23: 487 | H23: =SUM(I23:J23) -> 4916 | I23: 2556 | J23: 2360 | K23: =SUM(L23:M23) -> 3102 | L23: 1578 | M23: 1524 | N23: =SUM(O23:P23) -> 6439 | O23: 3423 | P23: 3016 | Q23: =SUM(R23:S23) -> 7085 | R23: 3673 | S23: 3412
A24: =[1]연령별!A24 -> 15-19 | B24: =SUM(C24:D24) -> 115572 | C24: =SUM(F24,I24,L24,O24,R24) -> 59834 | D24: =SUM(G24,J24,M24,P24,S24) -> 55738 | E24: =SUM(E25:E29) -> 5788 | F24: =SUM(F25:F29) -> 2939 | G24: =SUM(G25:G29) -> 2849 | H24: =SUM(H25:H29) -> 25438 | I24: =SUM(I25:I29) -> 13376 | J24: =SUM(J25:J29) -> 12062 | K24: =SUM(K25:K29) -> 17112 | L24: =SUM(L25:L29) -> 8669 | ... S24: =SUM(S25:S29) -> 15804
A25: =[1]연령별!A25 -> 15 세 | B25: =SUM(C25:D25) -> 21808 | C25: =SUM(F25,I25,L25,O25,R25) -> 11277 | D25: =SUM(G25,J25,M25,P25,S25) -> 10531 | E25: =SUM(F25:G25) -> 989 | F25: 508 | G25: 481 | H25: =SUM(I25:J25) -> 4846 | I25: 2574 | J25: 2272 | K25: =SUM(L25:M25) -> 3148 | L25: 1600 | M25: 1548 | N25: =SUM(O25:P25) -> 6218 | O25: 3209 | P25: 3009 | Q25: =SUM(R25:S25) -> 6607 | R25: 3386 | S25: 3221
A26: =[1]연령별!A26 -> 16 세 | B26: =SUM(C26:D26) -> 22500 | C26: =SUM(F26,I26,L26,O26,R26) -> 11673 | D26: =SUM(G26,J26,M26,P26,S26) -> 10827 | E26: =SUM(F26:G26) -> 1144 | F26: 607 | G26: 537 | H26: =SUM(I26:J26) -> 4911 | I26: 2577 | J26: 2334 | K26: =SUM(L26:M26) -> 3368 | L26: 1719 | M26: 1649 | N26: =SUM(O26:P26) -> 6507 | O26: 3381 | P26: 3126 | Q26: =SUM(R26:S26) -> 6570 | R26: 3389 | S26: 3181
A27: =[1]연령별!A27 -> 17 세 | B27: =SUM(C27:D27) -> 23696 | C27: =SUM(F27,I27,L27,O27,R27) -> 12225 | D27: =SUM(G27,J27,M27,P27,S27) -> 11471 | E27: =SUM(F27:G27) -> 1176 | F27: 611 | G27: 565 | H27: =SUM(I27:J27) -> 5266 | I27: 2766 | J27: 2500 | K27: =SUM(L27:M27) -> 3443 | L27: 1752 | M27: 1691 | N27: =SUM(O27:P27) -> 7103 | O27: 3619 | P27: 3484 | Q27: =SUM(R27:S27) -> 6708 | R27: 3477 | S27: 3231
A28: =[1]연령별!A28 -> 18 세 | B28: =SUM(C28:D28) -> 23564 | C28: =SUM(F28,I28,L28,O28,R28) -> 12324 | D28: =SUM(G28,J28,M28,P28,S28) -> 11240 | E28: =SUM(F28:G28) -> 1188 | F28: 594 | G28: 594 | H28: =SUM(I28:J28) -> 5099 | I28: 2702 | J28: 2397 | K28: =SUM(L28:M28) -> 3527 | L28: 1772 | M28: 1755 | N28: =SUM(O28:P28) -> 7198 | O28: 3834 | P28: 3364 | Q28: =SUM(R28:S28) -> 6552 | R28: 3422 | S28: 3130
A29: =[1]연령별!A29 -> 19 세 | B29: =SUM(C29:D29) -> 24004 | C29: =SUM(F29,I29,L29,O29,R29) -> 12335 | D29: =SUM(G29,J29,M29,P29,S29) -> 11669 | E29: =SUM(F29:G29) -> 1291 | F29: 619 | G29: 672 | H29: =SUM(I29:J29) -> 5316 | I29: 2757 | J29: 2559 | K29: =SUM(L29:M29) -> 3626 | L29: 1826 | M29: 1800 | N29: =SUM(O29:P29) -> 7459 | O29: 3862 | P29: 3597 | Q29: =SUM(R29:S29) -> 6312 | R29: 3271 | S29: 3041
A30: =[1]연령별!A30 -> 20-24 | B30: =SUM(C30:D30) -> 109635 | C30: =SUM(F30,I30,L30,O30,R30) -> 57857 | D30: =SUM(G30,J30,M30,P30,S30) -> 51778 | E30: =SUM(E31:E35) -> 7071 | F30: =SUM(F31:F35) -> 3701 | G30: =SUM(G31:G35) -> 3370 | H30: =SUM(H31:H35) -> 23735 | I30: =SUM(I31:I35) -> 12479 | J30: =SUM(J31:J35) -> 11256 | K30: =SUM(K31:K35) -> 16398 | L30: =SUM(L31:L35) -> 8502 | ... S30: =SUM(S31:S35) -> 12725
A31: =[1]연령별!A31 -> 20 세 | B31: =SUM(C31:D31) -> 23569 | C31: =SUM(F31,I31,L31,O31,R31) -> 12566 | D31: =SUM(G31,J31,M31,P31,S31) -> 11003 | E31: =SUM(F31:G31) -> 1419 | F31: 761 | G31: 658 | H31: =SUM(I31:J31) -> 5109 | I31: 2697 | J31: 2412 | K31: =SUM(L31:M31) -> 3494 | L31: 1824 | M31: 1670 | N31: =SUM(O31:P31) -> 7391 | O31: 4000 | P31: 3391 | Q31: =SUM(R31:S31) -> 6156 | R31: 3284 | S31: 2872
A32: =[1]연령별!A32 -> 21 세 | B32: =SUM(C32:D32) -> 23130 | C32: =SUM(F32,I32,L32,O32,R32) -> 12213 | D32: =SUM(G32,J32,M32,P32,S32) -> 10917 | E32: =SUM(F32:G32) -> 1372 | F32: 682 | G32: 690 | H32: =SUM(I32:J32) -> 5011 | I32: 2633 | J32: 2378 | K32: =SUM(L32:M32) -> 3502 | L32: 1828 | M32: 1674 | N32: =SUM(O32:P32) -> 7330 | O32: 3879 | P32: 3451 | Q32: =SUM(R32:S32) -> 5915 | R32: 3191 | S32: 2724
A33: =[1]연령별!A33 -> 22 세 | B33: =SUM(C33:D33) -> 23048 | C33: =SUM(F33,I33,L33,O33,R33) -> 12094 | D33: =SUM(G33,J33,M33,P33,S33) -> 10954 | E33: =SUM(F33:G33) -> 1528 | F33: 795 | G33: 733 | H33: =SUM(I33:J33) -> 4967 | I33: 2598 | J33: 2369 | K33: =SUM(L33:M33) -> 3400 | L33: 1759 | M33: 1641 | N33: =SUM(O33:P33) -> 7360 | O33: 3854 | P33: 3506 | Q33: =SUM(R33:S33) -> 5793 | R33: 3088 | S33: 2705
A34: =[1]연령별!A34 -> 23 세 | B34: =SUM(C34:D34) -> 21165 | C34: =SUM(F34,I34,L34,O34,R34) -> 11032 | D34: =SUM(G34,J34,M34,P34,S34) -> 10133 | E34: =SUM(F34:G34) -> 1381 | F34: 699 | G34: 682 | H34: =SUM(I34:J34) -> 4600 | I34: 2395 | J34: 2205 | K34: =SUM(L34:M34) -> 3279 | L34: 1665 | M34: 1614 | N34: =SUM(O34:P34) -> 6855 | O34: 3585 | P34: 3270 | Q34: =SUM(R34:S34) -> 5050 | R34: 2688 | S34: 2362
A35: =[1]연령별!A35 -> 24 세 | B35: =SUM(C35:D35) -> 18723 | C35: =SUM(F35,I35,L35,O35,R35) -> 9952 | D35: =SUM(G35,J35,M35,P35,S35) -> 8771 | E35: =SUM(F35:G35) -> 1371 | F35: 764 | G35: 607 | H35: =SUM(I35:J35) -> 4048 | I35: 2156 | J35: 1892 | K35: =SUM(L35:M35) -> 2723 | L35: 1426 | M35: 1297 | N35: =SUM(O35:P35) -> 6168 | O35: 3255 | P35: 2913 | Q35: =SUM(R35:S35) -> 4413 | R35: 2351 | S35: 2062
A36: =[1]연령별!A36 -> 25-29 | B36: =SUM(C36:D36) -> 87905 | C36: =SUM(F36,I36,L36,O36,R36) -> 44750 | D36: =SUM(G36,J36,M36,P36,S36) -> 43155 | E36: =SUM(E37:E41) -> 6561 | F36: =SUM(F37:F41) -> 3400 | G36: =SUM(G37:G41) -> 3161 | H36: =SUM(H37:H41) -> 19021 | I36: =SUM(I37:I41) -> 9526 | J36: =SUM(J37:J41) -> 9495 | K36: =SUM(K37:K41) -> 12749 | L36: =SUM(L37:L41) -> 6495 | ... S36: =SUM(S37:S41) -> 10205
A37: =[1]연령별!A37 -> 25 세 | B37: =SUM(C37:D37) -> 17893 | C37: =SUM(F37,I37,L37,O37,R37) -> 9192 | D37: =SUM(G37,J37,M37,P37,S37) -> 8701 | E37: =SUM(F37:G37) -> 1359 | F37: 708 | G37: 651 | H37: =SUM(I37:J37) -> 3867 | I37: 1938 | J37: 1929 | K37: =SUM(L37:M37) -> 2681 | L37: 1368 | M37: 1313 | N37: =SUM(O37:P37) -> 5896 | O37: 3066 | P37: 2830 | Q37: =SUM(R37:S37) -> 4090 | R37: 2112 | S37: 1978
A38: =[1]연령별!A38 -> 26 세 | B38: =SUM(C38:D38) -> 17349 | C38: =SUM(F38,I38,L38,O38,R38) -> 8970 | D38: =SUM(G38,J38,M38,P38,S38) -> 8379 | E38: =SUM(F38:G38) -> 1299 | F38: 682 | G38: 617 | H38: =SUM(I38:J38) -> 3731 | I38: 1885 | J38: 1846 | K38: =SUM(L38:M38) -> 2535 | L38: 1308 | M38: 1227 | N38: =SUM(O38:P38) -> 5854 | O38: 3042 | P38: 2812 | Q38: =SUM(R38:S38) -> 3930 | R38: 2053 | S38: 1877
A39: =[1]연령별!A39 -> 27 세 | B39: =SUM(C39:D39) -> 17080 | C39: =SUM(F39,I39,L39,O39,R39) -> 8631 | D39: =SUM(G39,J39,M39,P39,S39) -> 8449 | E39: =SUM(F39:G39) -> 1283 | F39: 624 | G39: 659 | H39: =SUM(I39:J39) -> 3649 | I39: 1812 | J39: 1837 | K39: =SUM(L39:M39) -> 2518 | L39: 1279 | M39: 1239 | N39: =SUM(O39:P39) -> 5542 | O39: 2794 | P39: 2748 | Q39: =SUM(R39:S39) -> 4088 | R39: 2122 | S39: 1966
A40: =[1]연령별!A40 -> 28 세 | B40: =SUM(C40:D40) -> 17367 | C40: =SUM(F40,I40,L40,O40,R40) -> 8782 | D40: =SUM(G40,J40,M40,P40,S40) -> 8585 | E40: =SUM(F40:G40) -> 1247 | F40: 660 | G40: 587 | H40: =SUM(I40:J40) -> 3854 | I40: 1974 | J40: 1880 | K40: =SUM(L40:M40) -> 2416 | L40: 1249 | M40: 1167 | N40: =SUM(O40:P40) -> 5658 | O40: 2837 | P40: 2821 | Q40: =SUM(R40:S40) -> 4192 | R40: 2062 | S40: 2130
A41: =[1]연령별!A41 -> 29 세 | B41: =SUM(C41:D41) -> 18216 | C41: =SUM(F41,I41,L41,O41,R41) -> 9175 | D41: =SUM(G41,J41,M41,P41,S41) -> 9041 | E41: =SUM(F41:G41) -> 1373 | F41: 726 | G41: 647 | H41: =SUM(I41:J41) -> 3920 | I41: 1917 | J41: 2003 | K41: =SUM(L41:M41) -> 2599 | L41: 1291 | M41: 1308 | N41: =SUM(O41:P41) -> 5812 | O41: 2983 | P41: 2829 | Q41: =SUM(R41:S41) -> 4512 | R41: 2258 | S41: 2254
A42: =[1]연령별!A42 -> 30-34 | B42: =SUM(C42:D42) -> 112253 | C42: =SUM(F42,I42,L42,O42,R42) -> 56645 | D42: =SUM(G42,J42,M42,P42,S42) -> 55608 | E42: =SUM(E43:E47) -> 7458 | F42: =SUM(F43:F47) -> 3994 | G42: =SUM(G43:G47) -> 3464 | H42: =SUM(H43:H47) -> 22796 | I42: =SUM(I43:I47) -> 11365 | J42: =SUM(J43:J47) -> 11431 | K42: =SUM(K43:K47) -> 15699 | L42: =SUM(L43:L47) -> 7870 | ... S42: =SUM(S43:S47) -> 16316
A43: =[1]연령별!A43 -> 30 세 | B43: =SUM(C43:D43) -> 18914 | C43: =SUM(F43,I43,L43,O43,R43) -> 9678 | D43: =SUM(G43,J43,M43,P43,S43) -> 9236 | E43: =SUM(F43:G43) -> 1384 | F43: 759 | G43: 625 | H43: =SUM(I43:J43) -> 3983 | I43: 2031 | J43: 1952 | K43: =SUM(L43:M43) -> 2671 | L43: 1317 | M43: 1354 | N43: =SUM(O43:P43) -> 6070 | O43: 3205 | P43: 2865 | Q43: =SUM(R43:S43) -> 4806 | R43: 2366 | S43: 2440
A44: =[1]연령별!A44 -> 31 세 | B44: =SUM(C44:D44) -> 21702 | C44: =SUM(F44,I44,L44,O44,R44) -> 11019 | D44: =SUM(G44,J44,M44,P44,S44) -> 10683 | E44: =SUM(F44:G44) -> 1465 | F44: 760 | G44: 705 | H44: =SUM(I44:J44) -> 4472 | I44: 2230 | J44: 2242 | K44: =SUM(L44:M44) -> 3067 | L44: 1598 | M44: 1469 | N44: =SUM(O44:P44) -> 6868 | O44: 3544 | P44: 3324 | Q44: =SUM(R44:S44) -> 5830 | R44: 2887 | S44: 2943
A45: =[1]연령별!A45 -> 32 세 | B45: =SUM(C45:D45) -> 23935 | C45: =SUM(F45,I45,L45,O45,R45) -> 12091 | D45: =SUM(G45,J45,M45,P45,S45) -> 11844 | E45: =SUM(F45:G45) -> 1550 | F45: 835 | G45: 715 | H45: =SUM(I45:J45) -> 4802 | I45: 2436 | J45: 2366 | K45: =SUM(L45:M45) -> 3330 | L45: 1598 | M45: 1732 | N45: =SUM(O45:P45) -> 7281 | O45: 3814 | P45: 3467 | Q45: =SUM(R45:S45) -> 6972 | R45: 3408 | S45: 3564
A46: =[1]연령별!A46 -> 33 세 | B46: =SUM(C46:D46) -> 23837 | C46: =SUM(F46,I46,L46,O46,R46) -> 11899 | D46: =SUM(G46,J46,M46,P46,S46) -> 11938 | E46: =SUM(F46:G46) -> 1556 | F46: 840 | G46: 716 | H46: =SUM(I46:J46) -> 4821 | I46: 2386 | J46: 2435 | K46: =SUM(L46:M46) -> 3393 | L46: 1721 | M46: 1672 | N46: =SUM(O46:P46) -> 7077 | O46: 3598 | P46: 3479 | Q46: =SUM(R46:S46) -> 6990 | R46: 3354 | S46: 3636
A47: =[1]연령별!A47 -> 34 세 | B47: =SUM(C47:D47) -> 23865 | C47: =SUM(F47,I47,L47,O47,R47) -> 11958 | D47: =SUM(G47,J47,M47,P47,S47) -> 11907 | E47: =SUM(F47:G47) -> 1503 | F47: 800 | G47: 703 | H47: =SUM(I47:J47) -> 4718 | I47: 2282 | J47: 2436 | K47: =SUM(L47:M47) -> 3238 | L47: 1636 | M47: 1602 | N47: =SUM(O47:P47) -> 7139 | O47: 3706 | P47: 3433 | Q47: =SUM(R47:S47) -> 7267 | R47: 3534 | S47: 3733
A48: =[1]연령별!A48 -> 35-39 | B48: =SUM(C48:D48) -> 115567 | C48: =SUM(F48,I48,L48,O48,R48) -> 57596 | D48: =SUM(G48,J48,M48,P48,S48) -> 57971 | E48: =SUM(E49:E53) -> 6551 | F48: =SUM(F49:F53) -> 3563 | G48: =SUM(G49:G53) -> 2988 | H48: =SUM(H49:H53) -> 23533 | I48: =SUM(I49:I53) -> 11382 | J48: =SUM(J49:J53) -> 12151 | K48: =SUM(K49:K53) -> 15437 | L48: =SUM(L49:L53) -> 7773 | ... S48: =SUM(S49:S53) -> 19057
A49: =[1]연령별!A49 -> 35 세 | B49: =SUM(C49:D49) -> 24380 | C49: =SUM(F49,I49,L49,O49,R49) -> 11975 | D49: =SUM(G49,J49,M49,P49,S49) -> 12405 | E49: =SUM(F49:G49) -> 1415 | F49: 771 | G49: 644 | H49: =SUM(I49:J49) -> 4830 | I49: 2289 | J49: 2541 | K49: =SUM(L49:M49) -> 3236 | L49: 1634 | M49: 1602 | N49: =SUM(O49:P49) -> 7236 | O49: 3668 | P49: 3568 | Q49: =SUM(R49:S49) -> 7663 | R49: 3613 | S49: 4050
A50: =[1]연령별!A50 -> 36 세 | B50: =SUM(C50:D50) -> 21311 | C50: =SUM(F50,I50,L50,O50,R50) -> 10763 | D50: =SUM(G50,J50,M50,P50,S50) -> 10548 | E50: =SUM(F50:G50) -> 1236 | F50: 669 | G50: 567 | H50: =SUM(I50:J50) -> 4253 | I50: 2105 | J50: 2148 | K50: =SUM(L50:M50) -> 2854 | L50: 1446 | M50: 1408 | N50: =SUM(O50:P50) -> 6101 | O50: 3140 | P50: 2961 | Q50: =SUM(R50:S50) -> 6867 | R50: 3403 | S50: 3464
A51: =[1]연령별!A51 -> 37 세 | B51: =SUM(C51:D51) -> 23453 | C51: =SUM(F51,I51,L51,O51,R51) -> 11594 | D51: =SUM(G51,J51,M51,P51,S51) -> 11859 | E51: =SUM(F51:G51) -> 1402 | F51: 755 | G51: 647 | H51: =SUM(I51:J51) -> 4847 | I51: 2343 | J51: 2504 | K51: =SUM(L51:M51) -> 3218 | L51: 1588 | M51: 1630 | N51: =SUM(O51:P51) -> 6499 | O51: 3271 | P51: 3228 | Q51: =SUM(R51:S51) -> 7487 | R51: 3637 | S51: 3850
A52: =[1]연령별!A52 -> 38 세 | B52: =SUM(C52:D52) -> 23232 | C52: =SUM(F52,I52,L52,O52,R52) -> 11688 | D52: =SUM(G52,J52,M52,P52,S52) -> 11544 | E52: =SUM(F52:G52) -> 1347 | F52: 743 | G52: 604 | H52: =SUM(I52:J52) -> 4872 | I52: 2372 | J52: 2500 | K52: =SUM(L52:M52) -> 3004 | L52: 1537 | M52: 1467 | N52: =SUM(O52:P52) -> 6478 | O52: 3329 | P52: 3149 | Q52: =SUM(R52:S52) -> 7531 | R52: 3707 | S52: 3824
A53: =[1]연령별!A53 -> 39 세 | B53: =SUM(C53:D53) -> 23191 | C53: =SUM(F53,I53,L53,O53,R53) -> 11576 | D53: =SUM(G53,J53,M53,P53,S53) -> 11615 | E53: =SUM(F53:G53) -> 1151 | F53: 625 | G53: 526 | H53: =SUM(I53:J53) -> 4731 | I53: 2273 | J53: 2458 | K53: =SUM(L53:M53) -> 3125 | L53: 1568 | M53: 1557 | N53: =SUM(O53:P53) -> 6615 | O53: 3410 | P53: 3205 | Q53: =SUM(R53:S53) -> 7569 | R53: 3700 | S53: 3869
A54: =[1]연령별!A54 -> 40-44 | B54: =SUM(C54:D54) -> 133944 | C54: =SUM(F54,I54,L54,O54,R54) -> 66640 | D54: =SUM(G54,J54,M54,P54,S54) -> 67304 | E54: =SUM(E55:E59) -> 7293 | F54: =SUM(F55:F59) -> 3943 | G54: =SUM(G55:G59) -> 3350 | H54: =SUM(H55:H59) -> 28863 | I54: =SUM(I55:I59) -> 13901 | J54: =SUM(J55:J59) -> 14962 | K54: =SUM(K55:K59) -> 17875 | L54: =SUM(L55:L59) -> 8701 | ... S54: =SUM(S55:S59) -> 20598
A55: =[1]연령별!A55 -> 40 세 | B55: =SUM(C55:D55) -> 26191 | C55: =SUM(F55,I55,L55,O55,R55) -> 13118 | D55: =SUM(G55,J55,M55,P55,S55) -> 13073 | E55: =SUM(F55:G55) -> 1383 | F55: 759 | G55: 624 | H55: =SUM(I55:J55) -> 5607 | I55: 2724 | J55: 2883 | K55: =SUM(L55:M55) -> 3398 | L55: 1684 | M55: 1714 | N55: =SUM(O55:P55) -> 7382 | O55: 3737 | P55: 3645 | Q55: =SUM(R55:S55) -> 8421 | R55: 4214 | S55: 4207
A56: =[1]연령별!A56 -> 41 세 | B56: =SUM(C56:D56) -> 26416 | C56: =SUM(F56,I56,L56,O56,R56) -> 13021 | D56: =SUM(G56,J56,M56,P56,S56) -> 13395 | E56: =SUM(F56:G56) -> 1497 | F56: 811 | G56: 686 | H56: =SUM(I56:J56) -> 5624 | I56: 2647 | J56: 2977 | K56: =SUM(L56:M56) -> 3476 | L56: 1698 | M56: 1778 | N56: =SUM(O56:P56) -> 7374 | O56: 3687 | P56: 3687 | Q56: =SUM(R56:S56) -> 8445 | R56: 4178 | S56: 4267
A57: =[1]연령별!A57 -> 42 세 | B57: =SUM(C57:D57) -> 26515 | C57: =SUM(F57,I57,L57,O57,R57) -> 13169 | D57: =SUM(G57,J57,M57,P57,S57) -> 13346 | E57: =SUM(F57:G57) -> 1406 | F57: 758 | G57: 648 | H57: =SUM(I57:J57) -> 5784 | I57: 2742 | J57: 3042 | K57: =SUM(L57:M57) -> 3594 | L57: 1737 | M57: 1857 | N57: =SUM(O57:P57) -> 7538 | O57: 3778 | P57: 3760 | Q57: =SUM(R57:S57) -> 8193 | R57: 4154 | S57: 4039
A58: =[1]연령별!A58 -> 43 세 | B58: =SUM(C58:D58) -> 27555 | C58: =SUM(F58,I58,L58,O58,R58) -> 13686 | D58: =SUM(G58,J58,M58,P58,S58) -> 13869 | E58: =SUM(F58:G58) -> 1503 | F58: 823 | G58: 680 | H58: =SUM(I58:J58) -> 5918 | I58: 2830 | J58: 3088 | K58: =SUM(L58:M58) -> 3715 | L58: 1826 | M58: 1889 | N58: =SUM(O58:P58) -> 7882 | O58: 3833 | P58: 4049 | Q58: =SUM(R58:S58) -> 8537 | R58: 4374 | S58: 4163
A59: =[1]연령별!A59 -> 44 세 | B59: =SUM(C59:D59) -> 27267 | C59: =SUM(F59,I59,L59,O59,R59) -> 13646 | D59: =SUM(G59,J59,M59,P59,S59) -> 13621 | E59: =SUM(F59:G59) -> 1504 | F59: 792 | G59: 712 | H59: =SUM(I59:J59) -> 5930 | I59: 2958 | J59: 2972 | K59: =SUM(L59:M59) -> 3692 | L59: 1756 | M59: 1936 | N59: =SUM(O59:P59) -> 7884 | O59: 3805 | P59: 4079 | Q59: =SUM(R59:S59) -> 8257 | R59: 4335 | S59: 3922
A60: =[1]연령별!A60 -> 45-49 | B60: =SUM(C60:D60) -> 126146 | C60: =SUM(F60,I60,L60,O60,R60) -> 62865 | D60: =SUM(G60,J60,M60,P60,S60) -> 63281 | E60: =SUM(E61:E65) -> 7217 | F60: =SUM(F61:F65) -> 3751 | G60: =SUM(G61:G65) -> 3466 | H60: =SUM(H61:H65) -> 27351 | I60: =SUM(I61:I65) -> 13508 | J60: =SUM(J61:J65) -> 13843 | K60: =SUM(K61:K65) -> 17591 | L60: =SUM(L61:L65) -> 8425 | ... S60: =SUM(S61:S65) -> 17256
A61: =[1]연령별!A61 -> 45 세 | B61: =SUM(C61:D61) -> 25839 | C61: =SUM(F61,I61,L61,O61,R61) -> 12905 | D61: =SUM(G61,J61,M61,P61,S61) -> 12934 | E61: =SUM(F61:G61) -> 1456 | F61: 786 | G61: 670 | H61: =SUM(I61:J61) -> 5803 | I61: 2848 | J61: 2955 | K61: =SUM(L61:M61) -> 3432 | L61: 1660 | M61: 1772 | N61: =SUM(O61:P61) -> 7591 | O61: 3686 | P61: 3905 | Q61: =SUM(R61:S61) -> 7557 | R61: 3925 | S61: 3632
A62: =[1]연령별!A62 -> 46 세 | B62: =SUM(C62:D62) -> 27212 | C62: =SUM(F62,I62,L62,O62,R62) -> 13472 | D62: =SUM(G62,J62,M62,P62,S62) -> 13740 | E62: =SUM(F62:G62) -> 1455 | F62: 740 | G62: 715 | H62: =SUM(I62:J62) -> 5833 | I62: 2848 | J62: 2985 | K62: =SUM(L62:M62) -> 3737 | L62: 1779 | M62: 1958 | N62: =SUM(O62:P62) -> 8251 | O62: 4137 | P62: 4114 | Q62: =SUM(R62:S62) -> 7936 | R62: 3968 | S62: 3968
A63: =[1]연령별!A63 -> 47 세 | B63: =SUM(C63:D63) -> 24804 | C63: =SUM(F63,I63,L63,O63,R63) -> 12274 | D63: =SUM(G63,J63,M63,P63,S63) -> 12530 | E63: =SUM(F63:G63) -> 1423 | F63: 754 | G63: 669 | H63: =SUM(I63:J63) -> 5521 | I63: 2700 | J63: 2821 | K63: =SUM(L63:M63) -> 3524 | L63: 1668 | M63: 1856 | N63: =SUM(O63:P63) -> 7531 | O63: 3634 | P63: 3897 | Q63: =SUM(R63:S63) -> 6805 | R63: 3518 | S63: 3287
A64: =[1]연령별!A64 -> 48 세 | B64: =SUM(C64:D64) -> 24157 | C64: =SUM(F64,I64,L64,O64,R64) -> 12321 | D64: =SUM(G64,J64,M64,P64,S64) -> 11836 | E64: =SUM(F64:G64) -> 1440 | F64: 750 | G64: 690 | H64: =SUM(I64:J64) -> 5150 | I64: 2591 | J64: 2559 | K64: =SUM(L64:M64) -> 3425 | L64: 1679 | M64: 1746 | N64: =SUM(O64:P64) -> 7448 | O64: 3776 | P64: 3672 | Q64: =SUM(R64:S64) -> 6694 | R64: 3525 | S64: 3169
A65: =[1]연령별!A65 -> 49 세 | B65: =SUM(C65:D65) -> 24134 | C65: =SUM(F65,I65,L65,O65,R65) -> 11893 | D65: =SUM(G65,J65,M65,P65,S65) -> 12241 | E65: =SUM(F65:G65) -> 1443 | F65: 721 | G65: 722 | H65: =SUM(I65:J65) -> 5044 | I65: 2521 | J65: 2523 | K65: =SUM(L65:M65) -> 3473 | L65: 1639 | M65: 1834 | N65: =SUM(O65:P65) -> 7608 | O65: 3646 | P65: 3962 | Q65: =SUM(R65:S65) -> 6566 | R65: 3366 | S65: 3200
A66: =[1]연령별!A66 -> 50-54 | B66: =SUM(C66:D66) -> 116267 | C66: =SUM(F66,I66,L66,O66,R66) -> 57828 | D66: =SUM(G66,J66,M66,P66,S66) -> 58439 | E66: =SUM(E67:E71) -> 8212 | F66: =SUM(F67:F71) -> 4010 | G66: =SUM(G67:G71) -> 4202 | H66: =SUM(H67:H71) -> 24710 | I66: =SUM(I67:I71) -> 12032 | J66: =SUM(J67:J71) -> 12678 | K66: =SUM(K67:K71) -> 17994 | L66: =SUM(L67:L71) -> 8444 | ... S66: =SUM(S67:S71) -> 12691
A67: =[1]연령별!A67 -> 50 세 | B67: =SUM(C67:D67) -> 22622 | C67: =SUM(F67,I67,L67,O67,R67) -> 11381 | D67: =SUM(G67,J67,M67,P67,S67) -> 11241 | E67: =SUM(F67:G67) -> 1441 | F67: 709 | G67: 732 | H67: =SUM(I67:J67) -> 4930 | I67: 2437 | J67: 2493 | K67: =SUM(L67:M67) -> 3324 | L67: 1589 | M67: 1735 | N67: =SUM(O67:P67) -> 7170 | O67: 3561 | P67: 3609 | Q67: =SUM(R67:S67) -> 5757 | R67: 3085 | S67: 2672
A68: =[1]연령별!A68 -> 51 세 | B68: =SUM(C68:D68) -> 22742 | C68: =SUM(F68,I68,L68,O68,R68) -> 11414 | D68: =SUM(G68,J68,M68,P68,S68) -> 11328 | E68: =SUM(F68:G68) -> 1570 | F68: 792 | G68: 778 | H68: =SUM(I68:J68) -> 4776 | I68: 2337 | J68: 2439 | K68: =SUM(L68:M68) -> 3475 | L68: 1673 | M68: 1802 | N68: =SUM(O68:P68) -> 7284 | O68: 3585 | P68: 3699 | Q68: =SUM(R68:S68) -> 5637 | R68: 3027 | S68: 2610
A69: =[1]연령별!A69 -> 52 세 | B69: =SUM(C69:D69) -> 22707 | C69: =SUM(F69,I69,L69,O69,R69) -> 11365 | D69: =SUM(G69,J69,M69,P69,S69) -> 11342 | E69: =SUM(F69:G69) -> 1597 | F69: 774 | G69: 823 | H69: =SUM(I69:J69) -> 4863 | I69: 2367 | J69: 2496 | K69: =SUM(L69:M69) -> 3487 | L69: 1632 | M69: 1855 | N69: =SUM(O69:P69) -> 7374 | O69: 3573 | P69: 3801 | Q69: =SUM(R69:S69) -> 5386 | R69: 3019 | S69: 2367
A70: =[1]연령별!A70 -> 53 세 | B70: =SUM(C70:D70) -> 23228 | C70: =SUM(F70,I70,L70,O70,R70) -> 11445 | D70: =SUM(G70,J70,M70,P70,S70) -> 11783 | E70: =SUM(F70:G70) -> 1707 | F70: 841 | G70: 866 | H70: =SUM(I70:J70) -> 4843 | I70: 2370 | J70: 2473 | K70: =SUM(L70:M70) -> 3718 | L70: 1708 | M70: 2010 | N70: =SUM(O70:P70) -> 7693 | O70: 3726 | P70: 3967 | Q70: =SUM(R70:S70) -> 5267 | R70: 2800 | S70: 2467
A71: =[1]연령별!A71 -> 54 세 | B71: =SUM(C71:D71) -> 24968 | C71: =SUM(F71,I71,L71,O71,R71) -> 12223 | D71: =SUM(G71,J71,M71,P71,S71) -> 12745 | E71: =SUM(F71:G71) -> 1897 | F71: 894 | G71: 1003 | H71: =SUM(I71:J71) -> 5298 | I71: 2521 | J71: 2777 | K71: =SUM(L71:M71) -> 3990 | L71: 1842 | M71: 2148 | N71: =SUM(O71:P71) -> 8229 | O71: 3987 | P71: 4242 | Q71: =SUM(R71:S71) -> 5554 | R71: 2979 | S71: 2575
A72: =[1]연령별!A72 -> 55-59 | B72: =SUM(C72:D72) -> 96569 | C72: =SUM(F72,I72,L72,O72,R72) -> 47055 | D72: =SUM(G72,J72,M72,P72,S72) -> 49514 | E72: =SUM(E73:E77) -> 8398 | F72: =SUM(F73:F77) -> 4146 | G72: =SUM(G73:G77) -> 4252 | H72: =SUM(H73:H77) -> 20587 | I72: =SUM(I73:I77) -> 9931 | J72: =SUM(J73:J77) -> 10656 | K72: =SUM(K73:K77) -> 16544 | L72: =SUM(L73:L77) -> 7730 | ... S72: =SUM(S73:S77) -> 9444
A73: =[1]연령별!A73 -> 55 세 | B73: =SUM(C73:D73) -> 22485 | C73: =SUM(F73,I73,L73,O73,R73) -> 10953 | D73: =SUM(G73,J73,M73,P73,S73) -> 11532 | E73: =SUM(F73:G73) -> 1714 | F73: 854 | G73: 860 | H73: =SUM(I73:J73) -> 4747 | I73: 2291 | J73: 2456 | K73: =SUM(L73:M73) -> 3716 | L73: 1717 | M73: 1999 | N73: =SUM(O73:P73) -> 7521 | O73: 3610 | P73: 3911 | Q73: =SUM(R73:S73) -> 4787 | R73: 2481 | S73: 2306
A74: =[1]연령별!A74 -> 56 세 | B74: =SUM(C74:D74) -> 20035 | C74: =SUM(F74,I74,L74,O74,R74) -> 9694 | D74: =SUM(G74,J74,M74,P74,S74) -> 10341 | E74: =SUM(F74:G74) -> 1698 | F74: 857 | G74: 841 | H74: =SUM(I74:J74) -> 4257 | I74: 1992 | J74: 2265 | K74: =SUM(L74:M74) -> 3416 | L74: 1607 | M74: 1809 | N74: =SUM(O74:P74) -> 6496 | O74: 3083 | P74: 3413 | Q74: =SUM(R74:S74) -> 4168 | R74: 2155 | S74: 2013
A75: =[1]연령별!A75 -> 57 세 | B75: =SUM(C75:D75) -> 19706 | C75: =SUM(F75,I75,L75,O75,R75) -> 9649 | D75: =SUM(G75,J75,M75,P75,S75) -> 10057 | E75: =SUM(F75:G75) -> 1781 | F75: 883 | G75: 898 | H75: =SUM(I75:J75) -> 4197 | I75: 2054 | J75: 2143 | K75: =SUM(L75:M75) -> 3319 | L75: 1540 | M75: 1779 | N75: =SUM(O75:P75) -> 6533 | O75: 3207 | P75: 3326 | Q75: =SUM(R75:S75) -> 3876 | R75: 1965 | S75: 1911
A76: =[1]연령별!A76 -> 58 세 | B76: =SUM(C76:D76) -> 16677 | C76: =SUM(F76,I76,L76,O76,R76) -> 8247 | D76: =SUM(G76,J76,M76,P76,S76) -> 8430 | E76: =SUM(F76:G76) -> 1481 | F76: 751 | G76: 730 | H76: =SUM(I76:J76) -> 3627 | I76: 1792 | J76: 1835 | K76: =SUM(L76:M76) -> 2931 | L76: 1382 | M76: 1549 | N76: =SUM(O76:P76) -> 5455 | O76: 2717 | P76: 2738 | Q76: =SUM(R76:S76) -> 3183 | R76: 1605 | S76: 1578
A77: =[1]연령별!A77 -> 59 세 | B77: =SUM(C77:D77) -> 17666 | C77: =SUM(F77,I77,L77,O77,R77) -> 8512 | D77: =SUM(G77,J77,M77,P77,S77) -> 9154 | E77: =SUM(F77:G77) -> 1724 | F77: 801 | G77: 923 | H77: =SUM(I77:J77) -> 3759 | I77: 1802 | J77: 1957 | K77: =SUM(L77:M77) -> 3162 | L77: 1484 | M77: 1678 | N77: =SUM(O77:P77) -> 5766 | O77: 2806 | P77: 2960 | Q77: =SUM(R77:S77) -> 3255 | R77: 1619 | S77: 1636
A78: =[1]연령별!A78 -> 60-64 | B78: =SUM(C78:D78) -> 64949 | C78: =SUM(F78,I78,L78,O78,R78) -> 31064 | D78: =SUM(G78,J78,M78,P78,S78) -> 33885 | E78: =SUM(E79:E83) -> 6636 | F78: =SUM(F79:F83) -> 3115 | G78: =SUM(G79:G83) -> 3521 | H78: =SUM(H79:H83) -> 13570 | I78: =SUM(I79:I83) -> 6504 | J78: =SUM(J79:J83) -> 7066 | K78: =SUM(K79:K83) -> 11843 | L78: =SUM(L79:L83) -> 5550 | ... S78: =SUM(S79:S83) -> 6087
A79: =[1]연령별!A79 -> 60 세 | B79: =SUM(C79:D79) -> 14641 | C79: =SUM(F79,I79,L79,O79,R79) -> 7109 | D79: =SUM(G79,J79,M79,P79,S79) -> 7532 | E79: =SUM(F79:G79) -> 1475 | F79: 728 | G79: 747 | H79: =SUM(I79:J79) -> 3029 | I79: 1464 | J79: 1565 | K79: =SUM(L79:M79) -> 2626 | L79: 1229 | M79: 1397 | N79: =SUM(O79:P79) -> 4802 | O79: 2353 | P79: 2449 | Q79: =SUM(R79:S79) -> 2709 | R79: 1335 | S79: 1374
A80: =[1]연령별!A80 -> 61 세 | B80: =SUM(C80:D80) -> 12601 | C80: =SUM(F80,I80,L80,O80,R80) -> 5956 | D80: =SUM(G80,J80,M80,P80,S80) -> 6645 | E80: =SUM(F80:G80) -> 1273 | F80: 589 | G80: 684 | H80: =SUM(I80:J80) -> 2651 | I80: 1252 | J80: 1399 | K80: =SUM(L80:M80) -> 2269 | L80: 1092 | M80: 1177 | N80: =SUM(O80:P80) -> 4119 | O80: 1932 | P80: 2187 | Q80: =SUM(R80:S80) -> 2289 | R80: 1091 | S80: 1198
A81: =[1]연령별!A81 -> 62 세 | B81: =SUM(C81:D81) -> 14187 | C81: =SUM(F81,I81,L81,O81,R81) -> 6779 | D81: =SUM(G81,J81,M81,P81,S81) -> 7408 | E81: =SUM(F81:G81) -> 1414 | F81: 634 | G81: 780 | H81: =SUM(I81:J81) -> 3023 | I81: 1463 | J81: 1560 | K81: =SUM(L81:M81) -> 2643 | L81: 1230 | M81: 1413 | N81: =SUM(O81:P81) -> 4601 | O81: 2227 | P81: 2374 | Q81: =SUM(R81:S81) -> 2506 | R81: 1225 | S81: 1281
A82: =[1]연령별!A82 -> 63 세 | B82: =SUM(C82:D82) -> 11509 | C82: =SUM(F82,I82,L82,O82,R82) -> 5504 | D82: =SUM(G82,J82,M82,P82,S82) -> 6005 | E82: =SUM(F82:G82) -> 1209 | F82: 568 | G82: 641 | H82: =SUM(I82:J82) -> 2361 | I82: 1127 | J82: 1234 | K82: =SUM(L82:M82) -> 2117 | L82: 995 | M82: 1122 | N82: =SUM(O82:P82) -> 3721 | O82: 1816 | P82: 1905 | Q82: =SUM(R82:S82) -> 2101 | R82: 998 | S82: 1103
A83: =[1]연령별!A83 -> 64 세 | B83: =SUM(C83:D83) -> 12011 | C83: =SUM(F83,I83,L83,O83,R83) -> 5716 | D83: =SUM(G83,J83,M83,P83,S83) -> 6295 | E83: =SUM(F83:G83) -> 1265 | F83: 596 | G83: 669 | H83: =SUM(I83:J83) -> 2506 | I83: 1198 | J83: 1308 | K83: =SUM(L83:M83) -> 2188 | L83: 1004 | M83: 1184 | N83: =SUM(O83:P83) -> 3984 | O83: 1981 | P83: 2003 | Q83: =SUM(R83:S83) -> 2068 | R83: 937 | S83: 1131
A84: =[1]연령별!A84 -> 65-69 | B84: =SUM(C84:D84) -> 54695 | C84: =SUM(F84,I84,L84,O84,R84) -> 25677 | D84: =SUM(G84,J84,M84,P84,S84) -> 29018 | E84: =SUM(E85:E89) -> 6158 | F84: =SUM(F85:F89) -> 2784 | G84: =SUM(G85:G89) -> 3374 | H84: =SUM(H85:H89) -> 11162 | I84: =SUM(I85:I89) -> 5239 | J84: =SUM(J85:J89) -> 5923 | K84: =SUM(K85:K89) -> 10264 | L84: =SUM(L85:L89) -> 4812 | ... S84: =SUM(S85:S89) -> 5215
A85: =[1]연령별!A85 -> 65 세 | B85: =SUM(C85:D85) -> 12542 | C85: =SUM(F85,I85,L85,O85,R85) -> 5869 | D85: =SUM(G85,J85,M85,P85,S85) -> 6673 | E85: =SUM(F85:G85) -> 1370 | F85: 647 | G85: 723 | H85: =SUM(I85:J85) -> 2550 | I85: 1188 | J85: 1362 | K85: =SUM(L85:M85) -> 2395 | L85: 1093 | M85: 1302 | N85: =SUM(O85:P85) -> 3974 | O85: 1908 | P85: 2066 | Q85: =SUM(R85:S85) -> 2253 | R85: 1033 | S85: 1220
A86: =[1]연령별!A86 -> 66 세 | B86: =SUM(C86:D86) -> 11563 | C86: =SUM(F86,I86,L86,O86,R86) -> 5504 | D86: =SUM(G86,J86,M86,P86,S86) -> 6059 | E86: =SUM(F86:G86) -> 1280 | F86: 574 | G86: 706 | H86: =SUM(I86:J86) -> 2360 | I86: 1125 | J86: 1235 | K86: =SUM(L86:M86) -> 2141 | L86: 1006 | M86: 1135 | N86: =SUM(O86:P86) -> 3752 | O86: 1837 | P86: 1915 | Q86: =SUM(R86:S86) -> 2030 | R86: 962 | S86: 1068
A87: =[1]연령별!A87 -> 67 세 | B87: =SUM(C87:D87) -> 12194 | C87: =SUM(F87,I87,L87,O87,R87) -> 5623 | D87: =SUM(G87,J87,M87,P87,S87) -> 6571 | E87: =SUM(F87:G87) -> 1372 | F87: 613 | G87: 759 | H87: =SUM(I87:J87) -> 2518 | I87: 1168 | J87: 1350 | K87: =SUM(L87:M87) -> 2266 | L87: 1052 | M87: 1214 | N87: =SUM(O87:P87) -> 3852 | O87: 1789 | P87: 2063 | Q87: =SUM(R87:S87) -> 2186 | R87: 1001 | S87: 1185
A88: =[1]연령별!A88 -> 68 세 | B88: =SUM(C88:D88) -> 9753 | C88: =SUM(F88,I88,L88,O88,R88) -> 4655 | D88: =SUM(G88,J88,M88,P88,S88) -> 5098 | E88: =SUM(F88:G88) -> 1102 | F88: 483 | G88: 619 | H88: =SUM(I88:J88) -> 1951 | I88: 912 | J88: 1039 | K88: =SUM(L88:M88) -> 1854 | L88: 889 | M88: 965 | N88: =SUM(O88:P88) -> 3051 | O88: 1483 | P88: 1568 | Q88: =SUM(R88:S88) -> 1795 | R88: 888 | S88: 907
A89: =[1]연령별!A89 -> 69 세 | B89: =SUM(C89:D89) -> 8643 | C89: =SUM(F89,I89,L89,O89,R89) -> 4026 | D89: =SUM(G89,J89,M89,P89,S89) -> 4617 | E89: =SUM(F89:G89) -> 1034 | F89: 467 | G89: 567 | H89: =SUM(I89:J89) -> 1783 | I89: 846 | J89: 937 | K89: =SUM(L89:M89) -> 1608 | L89: 772 | M89: 836 | N89: =SUM(O89:P89) -> 2664 | O89: 1222 | P89: 1442 | Q89: =SUM(R89:S89) -> 1554 | R89: 719 | S89: 835
A90: =[1]연령별!A90 -> 70-74 | B90: =SUM(C90:D90) -> 44029 | C90: =SUM(F90,I90,L90,O90,R90) -> 19550 | D90: =SUM(G90,J90,M90,P90,S90) -> 24479 | E90: =SUM(E91:E95) -> 5399 | F90: =SUM(F91:F95) -> 2521 | G90: =SUM(G91:G95) -> 2878 | H90: =SUM(H91:H95) -> 8839 | I90: =SUM(I91:I95) -> 3982 | J90: =SUM(J91:J95) -> 4857 | K90: =SUM(K91:K95) -> 8134 | L90: =SUM(L91:L95) -> 3715 | ... S90: =SUM(S91:S95) -> 4802
A91: =[1]연령별!A91 -> 70 세 | B91: =SUM(C91:D91) -> 8662 | C91: =SUM(F91,I91,L91,O91,R91) -> 3934 | D91: =SUM(G91,J91,M91,P91,S91) -> 4728 | E91: =SUM(F91:G91) -> 972 | F91: 461 | G91: 511 | H91: =SUM(I91:J91) -> 1757 | I91: 804 | J91: 953 | K91: =SUM(L91:M91) -> 1625 | L91: 765 | M91: 860 | N91: =SUM(O91:P91) -> 2747 | O91: 1245 | P91: 1502 | Q91: =SUM(R91:S91) -> 1561 | R91: 659 | S91: 902
A92: =[1]연령별!A92 -> 71 세 | B92: =SUM(C92:D92) -> 8020 | C92: =SUM(F92,I92,L92,O92,R92) -> 3614 | D92: =SUM(G92,J92,M92,P92,S92) -> 4406 | E92: =SUM(F92:G92) -> 982 | F92: 453 | G92: 529 | H92: =SUM(I92:J92) -> 1662 | I92: 772 | J92: 890 | K92: =SUM(L92:M92) -> 1485 | L92: 693 | M92: 792 | N92: =SUM(O92:P92) -> 2445 | O92: 1073 | P92: 1372 | Q92: =SUM(R92:S92) -> 1446 | R92: 623 | S92: 823
A93: =[1]연령별!A93 -> 72 세 | B93: =SUM(C93:D93) -> 11101 | C93: =SUM(F93,I93,L93,O93,R93) -> 5058 | D93: =SUM(G93,J93,M93,P93,S93) -> 6043 | E93: =SUM(F93:G93) -> 1372 | F93: 659 | G93: 713 | H93: =SUM(I93:J93) -> 2202 | I93: 987 | J93: 1215 | K93: =SUM(L93:M93) -> 2012 | L93: 925 | M93: 1087 | N93: =SUM(O93:P93) -> 3427 | O93: 1599 | P93: 1828 | Q93: =SUM(R93:S93) -> 2088 | R93: 888 | S93: 1200
A94: =[1]연령별!A94 -> 73 세 | B94: =SUM(C94:D94) -> 8770 | C94: =SUM(F94,I94,L94,O94,R94) -> 3813 | D94: =SUM(G94,J94,M94,P94,S94) -> 4957 | E94: =SUM(F94:G94) -> 1123 | F94: 519 | G94: 604 | H94: =SUM(I94:J94) -> 1727 | I94: 777 | J94: 950 | K94: =SUM(L94:M94) -> 1618 | L94: 722 | M94: 896 | N94: =SUM(O94:P94) -> 2630 | O94: 1145 | P94: 1485 | Q94: =SUM(R94:S94) -> 1672 | R94: 650 | S94: 1022
A95: =[1]연령별!A95 -> 74 세 | B95: =SUM(C95:D95) -> 7476 | C95: =SUM(F95,I95,L95,O95,R95) -> 3131 | D95: =SUM(G95,J95,M95,P95,S95) -> 4345 | E95: =SUM(F95:G95) -> 950 | F95: 429 | G95: 521 | H95: =SUM(I95:J95) -> 1491 | I95: 642 | J95: 849 | K95: =SUM(L95:M95) -> 1394 | L95: 610 | M95: 784 | N95: =SUM(O95:P95) -> 2277 | O95: 941 | P95: 1336 | Q95: =SUM(R95:S95) -> 1364 | R95: 509 | S95: 855
A96: =[1]연령별!A96 -> 75-79 | B96: =SUM(C96:D96) -> 30913 | C96: =SUM(F96,I96,L96,O96,R96) -> 12340 | D96: =SUM(G96,J96,M96,P96,S96) -> 18573 | E96: =SUM(E97:E101) -> 3748 | F96: =SUM(F97:F101) -> 1681 | G96: =SUM(G97:G101) -> 2067 | H96: =SUM(H97:H101) -> 6139 | I96: =SUM(I97:I101) -> 2489 | J96: =SUM(J97:J101) -> 3650 | K96: =SUM(K97:K101) -> 5642 | L96: =SUM(L97:L101) -> 2288 | ... S96: =SUM(S97:S101) -> 3885
A97: =[1]연령별!A97 -> 75 세 | B97: =SUM(C97:D97) -> 7363 | C97: =SUM(F97,I97,L97,O97,R97) -> 3093 | D97: =SUM(G97,J97,M97,P97,S97) -> 4270 | E97: =SUM(F97:G97) -> 901 | F97: 419 | G97: 482 | H97: =SUM(I97:J97) -> 1518 | I97: 624 | J97: 894 | K97: =SUM(L97:M97) -> 1370 | L97: 603 | M97: 767 | N97: =SUM(O97:P97) -> 2209 | O97: 951 | P97: 1258 | Q97: =SUM(R97:S97) -> 1365 | R97: 496 | S97: 869
A98: =[1]연령별!A98 -> 76 세 | B98: =SUM(C98:D98) -> 6707 | C98: =SUM(F98,I98,L98,O98,R98) -> 2765 | D98: =SUM(G98,J98,M98,P98,S98) -> 3942 | E98: =SUM(F98:G98) -> 841 | F98: 391 | G98: 450 | H98: =SUM(I98:J98) -> 1312 | I98: 536 | J98: 776 | K98: =SUM(L98:M98) -> 1210 | L98: 523 | M98: 687 | N98: =SUM(O98:P98) -> 2083 | O98: 845 | P98: 1238 | Q98: =SUM(R98:S98) -> 1261 | R98: 470 | S98: 791
A99: =[1]연령별!A99 -> 77 세 | B99: =SUM(C99:D99) -> 6172 | C99: =SUM(F99,I99,L99,O99,R99) -> 2452 | D99: =SUM(G99,J99,M99,P99,S99) -> 3720 | E99: =SUM(F99:G99) -> 731 | F99: 333 | G99: 398 | H99: =SUM(I99:J99) -> 1234 | I99: 501 | J99: 733 | K99: =SUM(L99:M99) -> 1098 | L99: 421 | M99: 677 | N99: =SUM(O99:P99) -> 1869 | O99: 766 | P99: 1103 | Q99: =SUM(R99:S99) -> 1240 | R99: 431 | S99: 809
A100: =[1]연령별!A100 -> 78 세 | B100: =SUM(C100:D100) -> 5353 | C100: =SUM(F100,I100,L100,O100,R100) -> 2038 | D100: =SUM(G100,J100,M100,P100,S100) -> 3315 | E100: =SUM(F100:G100) -> 684 | F100: 309 | G100: 375 | H100: =SUM(I100:J100) -> 1022 | I100: 396 | J100: 626 | K100: =SUM(L100:M100) -> 980 | L100: 376 | M100: 604 | N100: =SUM(O100:P100) -> 1645 | O100: 622 | P100: 1023 | Q100: =SUM(R100:S100) -> 1022 | R100: 335 | S100: 687
...

Sheet 2015년
A1: 3. 구별·연령별 한국인 현황(외국인 제외)
A3: 구 분 | B3: 합 계 | E3: 동 구 | H3: 서 구 | K3: 남 구 | N3: 북 구 | Q3: 광 산 구
B4: 계 | C4: 남 | D4: 여 | E4: 계 | F4: 남 | G4: 여 | H4: 계 | I4: 남 | J4: 여 | K4: 계 | L4: 남 | M4: 여 | N4: 계 | O4: 남 | P4: 여 | Q4: 계 | R4: 남 | S4: 여
A5: 2015 | B5: =SUM(C5:D5) -> 1472199 | C5: =SUM(F5,I5,L5,O5,R5) -> 729662 | D5: =SUM(G5,J5,M5,P5,S5) -> 742537 | E5: =SUM(E6,E12,E18,E24,E30,E36,E42,E48,E54,E60,E66,E72,E78,E84,E90,E96,E102,E108,E114,E120,E126) -> 98784 | F5: =SUM(F6,F12,F18,F24,F30,F36,F42,F48,F54,F60,F66,F72,F78,F84,F90,F96,F102,F108,F114,F120,F126) -> 49362 | G5: =SUM(G6,G12,G18,G24,G30,G36,G42,G48,G54,G60,G66,G72,G78,G84,G90,G96,G102,G108,G114,G120,G126) -> 49422 | H5: 305028 | I5: 149987 | J5: 155041 | K5: 221318 | L5: 107110 | M5: 114208 | N5: 446316 | O5: 221958 | P5: 224358 | Q5: 400753 | R5: 201245 | S5: 199508
A6: 0 - 4 | B6: =SUM(C6:D6) -> 68003 | C6: =SUM(F6,I6,L6,O6,R6) -> 35084 | D6: =SUM(G6,J6,M6,P6,S6) -> 32919 | E6: =SUM(E7:E11) -> 3613 | F6: =SUM(F7:F11) -> 1862 | G6: =SUM(G7:G11) -> 1751 | H6: 12428 | I6: 6372 | J6: 6056 | K6: 8984 | L6: 4583 | M6: 4401 | N6: 19445 | O6: 10069 | P6: 9376 | Q6: 23533 | R6: 12198 | S6: 11335
A7: 0 세 | B7: =SUM(C7:D7) -> 12045 | C7: =SUM(F7,I7,L7,O7,R7) -> 6213 | D7: =SUM(G7,J7,M7,P7,S7) -> 5832 | E7: 655 | F7: 348 | G7: 307 | H7: 2154 | I7: 1109 | J7: 1045 | K7: 1548 | L7: 764 | M7: 784 | N7: 3703 | O7: 1936 | P7: 1767 | Q7: 3985 | R7: 2056 | S7: 1929
A8: 1 세 | B8: =SUM(C8:D8) -> 12920 | C8: =SUM(F8,I8,L8,O8,R8) -> 6633 | D8: =SUM(G8,J8,M8,P8,S8) -> 6287 | E8: 772 | F8: 418 | G8: 354 | H8: 2314 | I8: 1171 | J8: 1143 | K8: 1723 | L8: 900 | M8: 823 | N8: 3785 | O8: 1920 | P8: 1865 | Q8: 4326 | R8: 2224 | S8: 2102
A9: 2 세 | B9: =SUM(C9:D9) -> 13194 | C9: =SUM(F9,I9,L9,O9,R9) -> 6775 | D9: =SUM(G9,J9,M9,P9,S9) -> 6419 | E9: 711 | F9: 358 | G9: 353 | H9: 2477 | I9: 1248 | J9: 1229 | K9: 1691 | L9: 863 | M9: 828 | N9: 3730 | O9: 1956 | P9: 1774 | Q9: 4585 | R9: 2350 | S9: 2235
A10: 3 세 | B10: =SUM(C10:D10) -> 15104 | C10: =SUM(F10,I10,L10,O10,R10) -> 7850 | D10: =SUM(G10,J10,M10,P10,S10) -> 7254 | E10: 766 | F10: 387 | G10: 379 | H10: 2758 | I10: 1450 | J10: 1308 | K10: 2037 | L10: 1063 | M10: 974 | N10: 4175 | O10: 2144 | P10: 2031 | Q10: 5368 | R10: 2806 | S10: 2562
A11: 4 세 | B11: =SUM(C11:D11) -> 14740 | C11: =SUM(F11,I11,L11,O11,R11) -> 7613 | D11: =SUM(G11,J11,M11,P11,S11) -> 7127 | E11: 709 | F11: 351 | G11: 358 | H11: 2725 | I11: 1394 | J11: 1331 | K11: 1985 | L11: 993 | M11: 992 | N11: 4052 | O11: 2113 | P11: 1939 | Q11: 5269 | R11: 2762 | S11: 2507
A12: 5 - 9 | B12: =SUM(C12:D12) -> 75697 | C12: =SUM(F12,I12,L12,O12,R12) -> 39126 | D12: =SUM(G12,J12,M12,P12,S12) -> 36571 | E12: =SUM(E13:E17) -> 2992 | F12: =SUM(F13:F17) -> 1529 | G12: =SUM(G13:G17) -> 1463 | H12: 14806 | I12: 7632 | J12: 7174 | K12: 10269 | L12: 5281 | M12: 4988 | N12: 20466 | O12: 10729 | P12: 9737 | Q12: 27164 | R12: 13955 | S12: 13209
A13: 5 세 | B13: =SUM(C13:D13) -> 15023 | C13: =SUM(F13,I13,L13,O13,R13) -> 7753 | D13: =SUM(G13,J13,M13,P13,S13) -> 7270 | E13: 650 | F13: 337 | G13: 313 | H13: 2782 | I13: 1447 | J13: 1335 | K13: 2069 | L13: 1077 | M13: 992 | N13: 4078 | O13: 2081 | P13: 1997 | Q13: 5444 | R13: 2811 | S13: 2633
A14: 6 세 | B14: =SUM(C14:D14) -> 14573 | C14: =SUM(F14,I14,L14,O14,R14) -> 7514 | D14: =SUM(G14,J14,M14,P14,S14) -> 7059 | E14: 553 | F14: 286 | G14: 267 | H14: 2822 | I14: 1440 | J14: 1382 | K14: 1950 | L14: 1004 | M14: 946 | N14: 3967 | O14: 2121 | P14: 1846 | Q14: 5281 | R14: 2663 | S14: 2618
A15: 7 세 | B15: =SUM(C15:D15) -> 15067 | C15: =SUM(F15,I15,L15,O15,R15) -> 7694 | D15: =SUM(G15,J15,M15,P15,S15) -> 7373 | E15: 579 | F15: 295 | G15: 284 | H15: 2924 | I15: 1482 | J15: 1442 | K15: 2080 | L15: 1078 | M15: 1002 | N15: 4070 | O15: 2097 | P15: 1973 | Q15: 5414 | R15: 2742 | S15: 2672
A16: 8 세 | B16: =SUM(C16:D16) -> 16287 | C16: =SUM(F16,I16,L16,O16,R16) -> 8504 | D16: =SUM(G16,J16,M16,P16,S16) -> 7783 | E16: 617 | F16: 301 | G16: 316 | H16: 3238 | I16: 1671 | J16: 1567 | K16: 2159 | L16: 1112 | M16: 1047 | N16: 4414 | O16: 2360 | P16: 2054 | Q16: 5859 | R16: 3060 | S16: 2799
A17: 9 세 | B17: =SUM(C17:D17) -> 14747 | C17: =SUM(F17,I17,L17,O17,R17) -> 7661 | D17: =SUM(G17,J17,M17,P17,S17) -> 7086 | E17: 593 | F17: 310 | G17: 283 | H17: 3040 | I17: 1592 | J17: 1448 | K17: 2011 | L17: 1010 | M17: 1001 | N17: 3937 | O17: 2070 | P17: 1867 | Q17: 5166 | R17: 2679 | S17: 2487
A18: 10-14 | B18: =SUM(C18:D18) -> 83692 | C18: =SUM(F18,I18,L18,O18,R18) -> 43561 | D18: =SUM(G18,J18,M18,P18,S18) -> 40131 | E18: =SUM(E19:E23) -> 3454 | F18: =SUM(F19:F23) -> 1844 | G18: =SUM(G19:G23) -> 1610 | H18: 17769 | I18: 9323 | J18: 8446 | K18: 11549 | L18: 5888 | M18: 5661 | N18: 23157 | O18: 12199 | P18: 10958 | Q18: 27763 | R18: 14307 | S18: 13456
A19: 10 세 | B19: =SUM(C19:D19) -> 14375 | C19: =SUM(F19,I19,L19,O19,R19) -> 7479 | D19: =SUM(G19,J19,M19,P19,S19) -> 6896 | E19: 526 | F19: 284 | G19: 242 | H19: 2980 | I19: 1529 | J19: 1451 | K19: 1919 | L19: 988 | M19: 931 | N19: 3908 | O19: 2072 | P19: 1836 | Q19: 5042 | R19: 2606 | S19: 2436
A20: 11 세 | B20: =SUM(C20:D20) -> 15805 | C20: =SUM(F20,I20,L20,O20,R20) -> 8193 | D20: =SUM(G20,J20,M20,P20,S20) -> 7612 | E20: 678 | F20: 357 | G20: 321 | H20: 3282 | I20: 1692 | J20: 1590 | K20: 2157 | L20: 1117 | M20: 1040 | N20: 4263 | O20: 2239 | P20: 2024 | Q20: 5425 | R20: 2788 | S20: 2637
A21: 12 세 | B21: =SUM(C21:D21) -> 17159 | C21: =SUM(F21,I21,L21,O21,R21) -> 9010 | D21: =SUM(G21,J21,M21,P21,S21) -> 8149 | E21: 686 | F21: 380 | G21: 306 | H21: 3579 | I21: 1921 | J21: 1658 | K21: 2333 | L21: 1184 | M21: 1149 | N21: 4845 | O21: 2559 | P21: 2286 | Q21: 5716 | R21: 2966 | S21: 2750
A22: 13 세 | B22: =SUM(C22:D22) -> 16881 | C22: =SUM(F22,I22,L22,O22,R22) -> 8793 | D22: =SUM(G22,J22,M22,P22,S22) -> 8088 | E22: 705 | F22: 373 | G22: 332 | H22: 3681 | I22: 1993 | J22: 1688 | K22: 2406 | L22: 1208 | M22: 1198 | N22: 4711 | O22: 2462 | P22: 2249 | Q22: 5378 | R22: 2757 | S22: 2621
A23: 14 세 | B23: =SUM(C23:D23) -> 19472 | C23: =SUM(F23,I23,L23,O23,R23) -> 10086 | D23: =SUM(G23,J23,M23,P23,S23) -> 9386 | E23: 859 | F23: 450 | G23: 409 | H23: 4247 | I23: 2188 | J23: 2059 | K23: 2734 | L23: 1391 | M23: 1343 | N23: 5430 | O23: 2867 | P23: 2563 | Q23: 6202 | R23: 3190 | S23: 3012
A24: 15-19 | B24: =SUM(C24:D24) -> 113313 | C24: =SUM(F24,I24,L24,O24,R24) -> 58848 | D24: =SUM(G24,J24,M24,P24,S24) -> 54465 | E24: =SUM(E25:E29) -> 5509 | F24: =SUM(F25:F29) -> 2855 | G24: =SUM(G25:G29) -> 2654 | H24: 24518 | I24: 12910 | J24: 11608 | K24: 16620 | L24: 8438 | M24: 8182 | N24: 33324 | O24: 17354 | P24: 15970 | Q24: 33342 | R24: 17291 | S24: 16051
A25: 15 세 | B25: =SUM(C25:D25) -> 22583 | C25: =SUM(F25,I25,L25,O25,R25) -> 11777 | D25: =SUM(G25,J25,M25,P25,S25) -> 10806 | E25: 1043 | F25: 550 | G25: 493 | H25: 4853 | I25: 2531 | J25: 2322 | K25: 3167 | L25: 1600 | M25: 1567 | N25: 6461 | O25: 3443 | P25: 3018 | Q25: 7059 | R25: 3653 | S25: 3406
A26: 16 세 | B26: =SUM(C26:D26) -> 21625 | C26: =SUM(F26,I26,L26,O26,R26) -> 11203 | D26: =SUM(G26,J26,M26,P26,S26) -> 10422 | E26: 977 | F26: 510 | G26: 467 | H26: 4721 | I26: 2523 | J26: 2198 | K26: 3188 | L26: 1596 | M26: 1592 | N26: 6197 | O26: 3182 | P26: 3015 | Q26: 6542 | R26: 3392 | S26: 3150
A27: 17 세 | B27: =SUM(C27:D27) -> 22490 | C27: =SUM(F27,I27,L27,O27,R27) -> 11651 | D27: =SUM(G27,J27,M27,P27,S27) -> 10839 | E27: 1125 | F27: 594 | G27: 531 | H27: 4867 | I27: 2542 | J27: 2325 | K27: 3398 | L27: 1748 | M27: 1650 | N27: 6539 | O27: 3393 | P27: 3146 | Q27: 6561 | R27: 3374 | S27: 3187
A28: 18 세 | B28: =SUM(C28:D28) -> 23484 | C28: =SUM(F28,I28,L28,O28,R28) -> 12104 | D28: =SUM(G28,J28,M28,P28,S28) -> 11380 | E28: 1165 | F28: 596 | G28: 569 | H28: 5183 | I28: 2709 | J28: 2474 | K28: 3427 | L28: 1753 | M28: 1674 | N28: 7057 | O28: 3587 | P28: 3470 | Q28: 6652 | R28: 3459 | S28: 3193
A29: 19 세 | B29: =SUM(C29:D29) -> 23131 | C29: =SUM(F29,I29,L29,O29,R29) -> 12113 | D29: =SUM(G29,J29,M29,P29,S29) -> 11018 | E29: 1199 | F29: 605 | G29: 594 | H29: 4894 | I29: 2605 | J29: 2289 | K29: 3440 | L29: 1741 | M29: 1699 | N29: 7070 | O29: 3749 | P29: 3321 | Q29: 6528 | R29: 3413 | S29: 3115
A30: 20-24 | B30: =SUM(C30:D30) -> 112422 | C30: =SUM(F30,I30,L30,O30,R30) -> 59137 | D30: =SUM(G30,J30,M30,P30,S30) -> 53285 | E30: =SUM(E31:E35) -> 6959 | F30: =SUM(F31:F35) -> 3563 | G30: =SUM(G31:G35) -> 3396 | H30: 24089 | I30: 12632 | J30: 11457 | K30: 16780 | L30: 8702 | M30: 8078 | N30: 35636 | O30: 18903 | P30: 16733 | Q30: 28958 | R30: 15337 | S30: 13621
A31: 20 세 | B31: =SUM(C31:D31) -> 23869 | C31: =SUM(F31,I31,L31,O31,R31) -> 12356 | D31: =SUM(G31,J31,M31,P31,S31) -> 11513 | E31: 1302 | F31: 623 | G31: 679 | H31: 5180 | I31: 2716 | J31: 2464 | K31: 3579 | L31: 1812 | M31: 1767 | N31: 7463 | O31: 3909 | P31: 3554 | Q31: 6345 | R31: 3296 | S31: 3049
A32: 21 세 | B32: =SUM(C32:D32) -> 23355 | C32: =SUM(F32,I32,L32,O32,R32) -> 12496 | D32: =SUM(G32,J32,M32,P32,S32) -> 10859 | E32: 1428 | F32: 762 | G32: 666 | H32: 4950 | I32: 2646 | J32: 2304 | K32: 3459 | L32: 1807 | M32: 1652 | N32: 7328 | O32: 3966 | P32: 3362 | Q32: 6190 | R32: 3315 | S32: 2875
A33: 22 세 | B33: =SUM(C33:D33) -> 22511 | C33: =SUM(F33,I33,L33,O33,R33) -> 11910 | D33: =SUM(G33,J33,M33,P33,S33) -> 10601 | E33: 1381 | F33: 705 | G33: 676 | H33: 4783 | I33: 2492 | J33: 2291 | K33: 3397 | L33: 1782 | M33: 1615 | N33: 7176 | O33: 3826 | P33: 3350 | Q33: 5774 | R33: 3105 | S33: 2669
A34: 23 세 | B34: =SUM(C34:D34) -> 22275 | C34: =SUM(F34,I34,L34,O34,R34) -> 11718 | D34: =SUM(G34,J34,M34,P34,S34) -> 10557 | E34: 1494 | F34: 789 | G34: 705 | H34: 4747 | I34: 2471 | J34: 2276 | K34: 3256 | L34: 1700 | M34: 1556 | N34: 7120 | O34: 3746 | P34: 3374 | Q34: 5658 | R34: 3012 | S34: 2646
A35: 24 세 | B35: =SUM(C35:D35) -> 20412 | C35: =SUM(F35,I35,L35,O35,R35) -> 10657 | D35: =SUM(G35,J35,M35,P35,S35) -> 9755 | E35: 1354 | F35: 684 | G35: 670 | H35: 4429 | I35: 2307 | J35: 2122 | K35: 3089 | L35: 1601 | M35: 1488 | N35: 6549 | O35: 3456 | P35: 3093 | Q35: 4991 | R35: 2609 | S35: 2382
A36: 25-29 | B36: =SUM(C36:D36) -> 86264 | C36: =SUM(F36,I36,L36,O36,R36) -> 44288 | D36: =SUM(G36,J36,M36,P36,S36) -> 41976 | E36: =SUM(E37:E41) -> 6235 | F36: =SUM(F37:F41) -> 3282 | G36: =SUM(G37:G41) -> 2953 | H36: 18461 | I36: 9369 | J36: 9092 | K36: 12316 | L36: 6320 | M36: 5996 | N36: 28233 | O36: 14533 | P36: 13700 | Q36: 21019 | R36: 10784 | S36: 10235
A37: 25 세 | B37: =SUM(C37:D37) -> 18083 | C37: =SUM(F37,I37,L37,O37,R37) -> 9551 | D37: =SUM(G37,J37,M37,P37,S37) -> 8532 | E37: 1318 | F37: 729 | G37: 589 | H37: 3860 | I37: 2047 | J37: 1813 | K37: 2608 | L37: 1338 | M37: 1270 | N37: 5930 | O37: 3127 | P37: 2803 | Q37: 4367 | R37: 2310 | S37: 2057
A38: 26 세 | B38: =SUM(C38:D38) -> 17382 | C38: =SUM(F38,I38,L38,O38,R38) -> 8877 | D38: =SUM(G38,J38,M38,P38,S38) -> 8505 | E38: 1287 | F38: 670 | G38: 617 | H38: 3715 | I38: 1832 | J38: 1883 | K38: 2579 | L38: 1327 | M38: 1252 | N38: 5705 | O38: 2934 | P38: 2771 | Q38: 4096 | R38: 2114 | S38: 1982
A39: 27 세 | B39: =SUM(C39:D39) -> 16899 | C39: =SUM(F39,I39,L39,O39,R39) -> 8716 | D39: =SUM(G39,J39,M39,P39,S39) -> 8183 | E39: 1238 | F39: 651 | G39: 587 | H39: 3656 | I39: 1850 | J39: 1806 | K39: 2381 | L39: 1235 | M39: 1146 | N39: 5598 | O39: 2919 | P39: 2679 | Q39: 4026 | R39: 2061 | S39: 1965
A40: 28 세 | B40: =SUM(C40:D40) -> 16845 | C40: =SUM(F40,I40,L40,O40,R40) -> 8518 | D40: =SUM(G40,J40,M40,P40,S40) -> 8327 | E40: 1207 | F40: 600 | G40: 607 | H40: 3516 | I40: 1748 | J40: 1768 | K40: 2398 | L40: 1204 | M40: 1194 | N40: 5514 | O40: 2795 | P40: 2719 | Q40: 4210 | R40: 2171 | S40: 2039
A41: 29 세 | B41: =SUM(C41:D41) -> 17055 | C41: =SUM(F41,I41,L41,O41,R41) -> 8626 | D41: =SUM(G41,J41,M41,P41,S41) -> 8429 | E41: 1185 | F41: 632 | G41: 553 | H41: 3714 | I41: 1892 | J41: 1822 | K41: 2350 | L41: 1216 | M41: 1134 | N41: 5486 | O41: 2758 | P41: 2728 | Q41: 4320 | R41: 2128 | S41: 2192
A42: 30-34 | B42: =SUM(C42:D42) -> 105394 | C42: =SUM(F42,I42,L42,O42,R42) -> 53333 | D42: =SUM(G42,J42,M42,P42,S42) -> 52061 | E42: =SUM(E43:E47) -> 6945 | F42: =SUM(F43:F47) -> 3708 | G42: =SUM(G43:G47) -> 3237 | H42: 21242 | I42: 10655 | J42: 10587 | K42: 14965 | L42: 7429 | M42: 7536 | N42: 32512 | O42: 16846 | P42: 15666 | Q42: 29730 | R42: 14695 | S42: 15035
A43: 30 세 | B43: =SUM(C43:D43) -> 17902 | C43: =SUM(F43,I43,L43,O43,R43) -> 9071 | D43: =SUM(G43,J43,M43,P43,S43) -> 8831 | E43: 1256 | F43: 669 | G43: 587 | H43: 3780 | I43: 1863 | J43: 1917 | K43: 2510 | L43: 1252 | M43: 1258 | N43: 5712 | O43: 2957 | P43: 2755 | Q43: 4644 | R43: 2330 | S43: 2314
A44: 31 세 | B44: =SUM(C44:D44) -> 18602 | C44: =SUM(F44,I44,L44,O44,R44) -> 9501 | D44: =SUM(G44,J44,M44,P44,S44) -> 9101 | E44: 1298 | F44: 689 | G44: 609 | H44: 3842 | I44: 1943 | J44: 1899 | K44: 2612 | L44: 1287 | M44: 1325 | N44: 5886 | O44: 3116 | P44: 2770 | Q44: 4964 | R44: 2466 | S44: 2498
A45: 32 세 | B45: =SUM(C45:D45) -> 21409 | C45: =SUM(F45,I45,L45,O45,R45) -> 10893 | D45: =SUM(G45,J45,M45,P45,S45) -> 10516 | E45: 1380 | F45: 719 | G45: 661 | H45: 4315 | I45: 2175 | J45: 2140 | K45: 3040 | L45: 1579 | M45: 1461 | N45: 6707 | O45: 3453 | P45: 3254 | Q45: 5967 | R45: 2967 | S45: 3000
A46: 33 세 | B46: =SUM(C46:D46) -> 23832 | C46: =SUM(F46,I46,L46,O46,R46) -> 12020 | D46: =SUM(G46,J46,M46,P46,S46) -> 11812 | E46: 1501 | F46: 798 | G46: 703 | H46: 4652 | I46: 2358 | J46: 2294 | K46: 3374 | L46: 1610 | M46: 1764 | N46: 7209 | O46: 3767 | P46: 3442 | Q46: 7096 | R46: 3487 | S46: 3609
A47: 34 세 | B47: =SUM(C47:D47) -> 23649 | C47: =SUM(F47,I47,L47,O47,R47) -> 11848 | D47: =SUM(G47,J47,M47,P47,S47) -> 11801 | E47: 1510 | F47: 833 | G47: 677 | H47: 4653 | I47: 2316 | J47: 2337 | K47: 3429 | L47: 1701 | M47: 1728 | N47: 6998 | O47: 3553 | P47: 3445 | Q47: 7059 | R47: 3445 | S47: 3614
A48: 35-39 | B48: =SUM(C48:D48) -> 115642 | C48: =SUM(F48,I48,L48,O48,R48) -> 57632 | D48: =SUM(G48,J48,M48,P48,S48) -> 58010 | E48: =SUM(E49:E53) -> 6621 | F48: =SUM(F49:F53) -> 3567 | G48: =SUM(G49:G53) -> 3054 | H48: 22982 | I48: 11110 | J48: 11872 | K48: 15903 | L48: 7948 | M48: 7955 | N48: 33104 | O48: 16875 | P48: 16229 | Q48: 37032 | R48: 18132 | S48: 18900
A49: 35 세 | B49: =SUM(C49:D49) -> 23754 | C49: =SUM(F49,I49,L49,O49,R49) -> 11861 | D49: =SUM(G49,J49,M49,P49,S49) -> 11893 | E49: 1423 | F49: 746 | G49: 677 | H49: 4566 | I49: 2225 | J49: 2341 | K49: 3285 | L49: 1638 | M49: 1647 | N49: 7095 | O49: 3661 | P49: 3434 | Q49: 7385 | R49: 3591 | S49: 3794
A50: 36 세 | B50: =SUM(C50:D50) -> 24200 | C50: =SUM(F50,I50,L50,O50,R50) -> 11864 | D50: =SUM(G50,J50,M50,P50,S50) -> 12336 | E50: 1363 | F50: 732 | G50: 631 | H50: 4711 | I50: 2194 | J50: 2517 | K50: 3295 | L50: 1660 | M50: 1635 | N50: 7123 | O50: 3589 | P50: 3534 | Q50: 7708 | R50: 3689 | S50: 4019
A51: 37 세 | B51: =SUM(C51:D51) -> 21180 | C51: =SUM(F51,I51,L51,O51,R51) -> 10713 | D51: =SUM(G51,J51,M51,P51,S51) -> 10467 | E51: 1196 | F51: 654 | G51: 542 | H51: 4169 | I51: 2052 | J51: 2117 | K51: 2946 | L51: 1480 | M51: 1466 | N51: 6016 | O51: 3108 | P51: 2908 | Q51: 6853 | R51: 3419 | S51: 3434
A52: 38 세 | B52: =SUM(C52:D52) -> 23333 | C52: =SUM(F52,I52,L52,O52,R52) -> 11525 | D52: =SUM(G52,J52,M52,P52,S52) -> 11808 | E52: 1346 | F52: 724 | G52: 622 | H52: 4745 | I52: 2278 | J52: 2467 | K52: 3266 | L52: 1601 | M52: 1665 | N52: 6449 | O52: 3249 | P52: 3200 | Q52: 7527 | R52: 3673 | S52: 3854
A53: 39 세 | B53: =SUM(C53:D53) -> 23175 | C53: =SUM(F53,I53,L53,O53,R53) -> 11669 | D53: =SUM(G53,J53,M53,P53,S53) -> 11506 | E53: 1293 | F53: 711 | G53: 582 | H53: 4791 | I53: 2361 | J53: 2430 | K53: 3111 | L53: 1569 | M53: 1542 | N53: 6421 | O53: 3268 | P53: 3153 | Q53: 7559 | R53: 3760 | S53: 3799
A54: 40-44 | B54: =SUM(C54:D54) -> 129478 | C54: =SUM(F54,I54,L54,O54,R54) -> 64355 | D54: =SUM(G54,J54,M54,P54,S54) -> 65123 | E54: =SUM(E55:E59) -> 6862 | F54: =SUM(F55:F59) -> 3732 | G54: =SUM(G55:G59) -> 3130 | H54: 27247 | I54: 13028 | J54: 14219 | K54: 17575 | L54: 8613 | M54: 8962 | N54: 36738 | O54: 18402 | P54: 18336 | Q54: 41056 | R54: 20580 | S54: 20476
A55: 40 세 | B55: =SUM(C55:D55) -> 23113 | C55: =SUM(F55,I55,L55,O55,R55) -> 11532 | D55: =SUM(G55,J55,M55,P55,S55) -> 11581 | E55: 1162 | F55: 637 | G55: 525 | H55: 4667 | I55: 2248 | J55: 2419 | K55: 3172 | L55: 1587 | M55: 1585 | N55: 6593 | O55: 3383 | P55: 3210 | Q55: 7519 | R55: 3677 | S55: 3842
A56: 41 세 | B56: =SUM(C56:D56) -> 26115 | C56: =SUM(F56,I56,L56,O56,R56) -> 13062 | D56: =SUM(G56,J56,M56,P56,S56) -> 13053 | E56: 1326 | F56: 732 | G56: 594 | H56: 5552 | I56: 2717 | J56: 2835 | K56: 3461 | L56: 1696 | M56: 1765 | N56: 7383 | O56: 3718 | P56: 3665 | Q56: 8393 | R56: 4199 | S56: 4194
A57: 42 세 | B57: =SUM(C57:D57) -> 26325 | C57: =SUM(F57,I57,L57,O57,R57) -> 13007 | D57: =SUM(G57,J57,M57,P57,S57) -> 13318 | E57: 1487 | F57: 793 | G57: 694 | H57: 5520 | I57: 2611 | J57: 2909 | K57: 3506 | L57: 1712 | M57: 1794 | N57: 7386 | O57: 3698 | P57: 3688 | Q57: 8426 | R57: 4193 | S57: 4233
A58: 43 세 | B58: =SUM(C58:D58) -> 26427 | C58: =SUM(F58,I58,L58,O58,R58) -> 13095 | D58: =SUM(G58,J58,M58,P58,S58) -> 13332 | E58: 1408 | F58: 767 | G58: 641 | H58: 5660 | I58: 2675 | J58: 2985 | K58: 3652 | L58: 1760 | M58: 1892 | N58: 7502 | O58: 3745 | P58: 3757 | Q58: 8205 | R58: 4148 | S58: 4057
A59: 44 세 | B59: =SUM(C59:D59) -> 27498 | C59: =SUM(F59,I59,L59,O59,R59) -> 13659 | D59: =SUM(G59,J59,M59,P59,S59) -> 13839 | E59: 1479 | F59: 803 | G59: 676 | H59: 5848 | I59: 2777 | J59: 3071 | K59: 3784 | L59: 1858 | M59: 1926 | N59: 7874 | O59: 3858 | P59: 4016 | Q59: 8513 | R59: 4363 | S59: 4150
A60: 45-49 | B60: =SUM(C60:D60) -> 128571 | C60: =SUM(F60,I60,L60,O60,R60) -> 64186 | D60: =SUM(G60,J60,M60,P60,S60) -> 64385 | E60: =SUM(E61:E65) -> 7171 | F60: =SUM(F61:F65) -> 3780 | G60: =SUM(G61:G65) -> 3391 | H60: 27730 | I60: 13702 | J60: 14028 | K60: 17943 | L60: 8595 | M60: 9348 | N60: 38540 | O60: 18918 | P60: 19622 | Q60: 37187 | R60: 19191 | S60: 17996
A61: 45 세 | B61: =SUM(C61:D61) -> 27085 | C61: =SUM(F61,I61,L61,O61,R61) -> 13512 | D61: =SUM(G61,J61,M61,P61,S61) -> 13573 | E61: 1468 | F61: 774 | G61: 694 | H61: 5851 | I61: 2918 | J61: 2933 | K61: 3758 | L61: 1775 | M61: 1983 | N61: 7797 | O61: 3772 | P61: 4025 | Q61: 8211 | R61: 4273 | S61: 3938
A62: 46 세 | B62: =SUM(C62:D62) -> 25740 | C62: =SUM(F62,I62,L62,O62,R62) -> 12863 | D62: =SUM(G62,J62,M62,P62,S62) -> 12877 | E62: 1436 | F62: 779 | G62: 657 | H62: 5685 | I62: 2791 | J62: 2894 | K62: 3462 | L62: 1674 | M62: 1788 | N62: 7617 | O62: 3694 | P62: 3923 | Q62: 7540 | R62: 3925 | S62: 3615
A63: 47 세 | B63: =SUM(C63:D63) -> 27007 | C63: =SUM(F63,I63,L63,O63,R63) -> 13355 | D63: =SUM(G63,J63,M63,P63,S63) -> 13652 | E63: 1441 | F63: 735 | G63: 706 | H63: 5732 | I63: 2794 | J63: 2938 | K63: 3752 | L63: 1793 | M63: 1959 | N63: 8195 | O63: 4092 | P63: 4103 | Q63: 7887 | R63: 3941 | S63: 3946
A64: 48 세 | B64: =SUM(C64:D64) -> 24757 | C64: =SUM(F64,I64,L64,O64,R64) -> 12236 | D64: =SUM(G64,J64,M64,P64,S64) -> 12521 | E64: 1394 | F64: 738 | G64: 656 | H64: 5424 | I64: 2664 | J64: 2760 | K64: 3555 | L64: 1686 | M64: 1869 | N64: 7534 | O64: 3614 | P64: 3920 | Q64: 6850 | R64: 3534 | S64: 3316
A65: 49 세 | B65: =SUM(C65:D65) -> 23982 | C65: =SUM(F65,I65,L65,O65,R65) -> 12220 | D65: =SUM(G65,J65,M65,P65,S65) -> 11762 | E65: 1432 | F65: 754 | G65: 678 | H65: 5038 | I65: 2535 | J65: 2503 | K65: 3416 | L65: 1667 | M65: 1749 | N65: 7397 | O65: 3746 | P65: 3651 | Q65: 6699 | R65: 3518 | S65: 3181
A66: 50-54 | B66: =SUM(C66:D66) -> 114478 | C66: =SUM(F66,I66,L66,O66,R66) -> 56972 | D66: =SUM(G66,J66,M66,P66,S66) -> 57506 | E66: =SUM(E67:E71) -> 7616 | F66: =SUM(F67:F71) -> 3764 | G66: =SUM(G67:G71) -> 3852 | H66: 23993 | I66: 11770 | J66: 12223 | K66: 17415 | L66: 8231 | M66: 9184 | N66: 36864 | O66: 17904 | P66: 18960 | Q66: 28590 | R66: 15303 | S66: 13287
A67: 50 세 | B67: =SUM(C67:D67) -> 24023 | C67: =SUM(F67,I67,L67,O67,R67) -> 11844 | D67: =SUM(G67,J67,M67,P67,S67) -> 12179 | E67: 1450 | F67: 711 | G67: 739 | H67: 4911 | I67: 2441 | J67: 2470 | K67: 3496 | L67: 1661 | M67: 1835 | N67: 7609 | O67: 3665 | P67: 3944 | Q67: 6557 | R67: 3366 | S67: 3191
A68: 51 세 | B68: =SUM(C68:D68) -> 22416 | C68: =SUM(F68,I68,L68,O68,R68) -> 11253 | D68: =SUM(G68,J68,M68,P68,S68) -> 11163 | E68: 1400 | F68: 687 | G68: 713 | H68: 4869 | I68: 2399 | J68: 2470 | K68: 3295 | L68: 1570 | M68: 1725 | N68: 7106 | O68: 3498 | P68: 3608 | Q68: 5746 | R68: 3099 | S68: 2647
A69: 52 세 | B69: =SUM(C69:D69) -> 22542 | C69: =SUM(F69,I69,L69,O69,R69) -> 11287 | D69: =SUM(G69,J69,M69,P69,S69) -> 11255 | E69: 1537 | F69: 776 | G69: 761 | H69: 4685 | I69: 2294 | J69: 2391 | K69: 3439 | L69: 1649 | M69: 1790 | N69: 7235 | O69: 3527 | P69: 3708 | Q69: 5646 | R69: 3041 | S69: 2605
A70: 53 세 | B70: =SUM(C70:D70) -> 22529 | C70: =SUM(F70,I70,L70,O70,R70) -> 11285 | D70: =SUM(G70,J70,M70,P70,S70) -> 11244 | E70: 1549 | F70: 757 | G70: 792 | H70: 4792 | I70: 2331 | J70: 2461 | K70: 3488 | L70: 1645 | M70: 1843 | N70: 7335 | O70: 3556 | P70: 3779 | Q70: 5365 | R70: 2996 | S70: 2369
A71: 54 세 | B71: =SUM(C71:D71) -> 22968 | C71: =SUM(F71,I71,L71,O71,R71) -> 11303 | D71: =SUM(G71,J71,M71,P71,S71) -> 11665 | E71: 1680 | F71: 833 | G71: 847 | H71: 4736 | I71: 2305 | J71: 2431 | K71: 3697 | L71: 1706 | M71: 1991 | N71: 7579 | O71: 3658 | P71: 3921 | Q71: 5276 | R71: 2801 | S71: 2475
A72: 55-59 | B72: =SUM(C72:D72) -> 102888 | C72: =SUM(F72,I72,L72,O72,R72) -> 50181 | D72: =SUM(G72,J72,M72,P72,S72) -> 52707 | E72: =SUM(E73:E77) -> 8551 | F72: =SUM(F73:F77) -> 4206 | G72: =SUM(G73:G77) -> 4345 | H72: 21667 | I72: 10407 | J72: 11260 | K72: 17276 | L72: 8020 | M72: 9256 | N72: 33903 | O72: 16428 | P72: 17475 | Q72: 21491 | R72: 11120 | S72: 10371
A73: 55 세 | B73: =SUM(C73:D73) -> 24751 | C73: =SUM(F73,I73,L73,O73,R73) -> 12095 | D73: =SUM(G73,J73,M73,P73,S73) -> 12656 | E73: 1893 | F73: 900 | G73: 993 | H73: 5187 | I73: 2478 | J73: 2709 | K73: 3970 | L73: 1809 | M73: 2161 | N73: 8195 | O73: 3950 | P73: 4245 | Q73: 5506 | R73: 2958 | S73: 2548
A74: 56 세 | B74: =SUM(C74:D74) -> 22276 | C74: =SUM(F74,I74,L74,O74,R74) -> 10803 | D74: =SUM(G74,J74,M74,P74,S74) -> 11473 | E74: 1719 | F74: 853 | G74: 866 | H74: 4644 | I74: 2224 | J74: 2420 | K74: 3671 | L74: 1703 | M74: 1968 | N74: 7468 | O74: 3577 | P74: 3891 | Q74: 4774 | R74: 2446 | S74: 2328
A75: 57 세 | B75: =SUM(C75:D75) -> 19785 | C75: =SUM(F75,I75,L75,O75,R75) -> 9575 | D75: =SUM(G75,J75,M75,P75,S75) -> 10210 | E75: 1694 | F75: 836 | G75: 858 | H75: 4172 | I75: 1947 | J75: 2225 | K75: 3372 | L75: 1593 | M75: 1779 | N75: 6400 | O75: 3054 | P75: 3346 | Q75: 4147 | R75: 2145 | S75: 2002
A76: 58 세 | B76: =SUM(C76:D76) -> 19541 | C76: =SUM(F76,I76,L76,O76,R76) -> 9546 | D76: =SUM(G76,J76,M76,P76,S76) -> 9995 | E76: 1760 | F76: 867 | G76: 893 | H76: 4099 | I76: 2002 | J76: 2097 | K76: 3337 | L76: 1541 | M76: 1796 | N76: 6464 | O76: 3176 | P76: 3288 | Q76: 3881 | R76: 1960 | S76: 1921
A77: 59 세 | B77: =SUM(C77:D77) -> 16535 | C77: =SUM(F77,I77,L77,O77,R77) -> 8162 | D77: =SUM(G77,J77,M77,P77,S77) -> 8373 | E77: 1485 | F77: 750 | G77: 735 | H77: 3565 | I77: 1756 | J77: 1809 | K77: 2926 | L77: 1374 | M77: 1552 | N77: 5376 | O77: 2671 | P77: 2705 | Q77: 3183 | R77: 1611 | S77: 1572
A78: 60-64 | B78: =SUM(C78:D78) -> 69968 | C78: =SUM(F78,I78,L78,O78,R78) -> 33436 | D78: =SUM(G78,J78,M78,P78,S78) -> 36532 | E78: =SUM(E79:E83) -> 6916 | F78: =SUM(F79:F83) -> 3233 | G78: =SUM(G79:G83) -> 3683 | H78: 14541 | I78: 6981 | J78: 7560 | K78: 12802 | L78: 5989 | M78: 6813 | N78: 22875 | O78: 10986 | P78: 11889 | Q78: 12834 | R78: 6247 | S78: 6587
A79: 60 세 | B79: =SUM(C79:D79) -> 17499 | C79: =SUM(F79,I79,L79,O79,R79) -> 8414 | D79: =SUM(G79,J79,M79,P79,S79) -> 9085 | E79: 1679 | F79: 775 | G79: 904 | H79: 3696 | I79: 1777 | J79: 1919 | K79: 3168 | L79: 1482 | M79: 1686 | N79: 5710 | O79: 2764 | P79: 2946 | Q79: 3246 | R79: 1616 | S79: 1630
A80: 61 세 | B80: =SUM(C80:D80) -> 14532 | C80: =SUM(F80,I80,L80,O80,R80) -> 7032 | D80: =SUM(G80,J80,M80,P80,S80) -> 7500 | E80: 1427 | F80: 705 | G80: 722 | H80: 2970 | I80: 1432 | J80: 1538 | K80: 2609 | L80: 1221 | M80: 1388 | N80: 4806 | O80: 2341 | P80: 2465 | Q80: 2720 | R80: 1333 | S80: 1387
A81: 62 세 | B81: =SUM(C81:D81) -> 12507 | C81: =SUM(F81,I81,L81,O81,R81) -> 5906 | D81: =SUM(G81,J81,M81,P81,S81) -> 6601 | E81: 1240 | F81: 576 | G81: 664 | H81: 2610 | I81: 1236 | J81: 1374 | K81: 2273 | L81: 1086 | M81: 1187 | N81: 4078 | O81: 1918 | P81: 2160 | Q81: 2306 | R81: 1090 | S81: 1216
A82: 63 세 | B82: =SUM(C82:D82) -> 14091 | C82: =SUM(F82,I82,L82,O82,R82) -> 6690 | D82: =SUM(G82,J82,M82,P82,S82) -> 7401 | E82: 1382 | F82: 622 | G82: 760 | H82: 2953 | I82: 1431 | J82: 1522 | K82: 2651 | L82: 1233 | M82: 1418 | N82: 4577 | O82: 2171 | P82: 2406 | Q82: 2528 | R82: 1233 | S82: 1295
A83: 64 세 | B83: =SUM(C83:D83) -> 11339 | C83: =SUM(F83,I83,L83,O83,R83) -> 5394 | D83: =SUM(G83,J83,M83,P83,S83) -> 5945 | E83: 1188 | F83: 555 | G83: 633 | H83: 2312 | I83: 1105 | J83: 1207 | K83: 2101 | L83: 967 | M83: 1134 | N83: 3704 | O83: 1792 | P83: 1912 | Q83: 2034 | R83: 975 | S83: 1059
A84: 65-69 | B84: =SUM(C84:D84) -> 57380 | C84: =SUM(F84,I84,L84,O84,R84) -> 26931 | D84: =SUM(G84,J84,M84,P84,S84) -> 30449 | E84: =SUM(E85:E89) -> 6248 | F84: =SUM(F85:F89) -> 2837 | G84: =SUM(G85:G89) -> 3411 | H84: 11688 | I84: 5466 | J84: 6222 | K84: 10779 | L84: 5022 | M84: 5757 | N84: 18344 | O84: 8850 | P84: 9494 | Q84: 10321 | R84: 4756 | S84: 5565
A85: 65 세 | B85: =SUM(C85:D85) -> 11869 | C85: =SUM(F85,I85,L85,O85,R85) -> 5641 | D85: =SUM(G85,J85,M85,P85,S85) -> 6228 | E85: 1248 | F85: 582 | G85: 666 | H85: 2438 | I85: 1163 | J85: 1275 | K85: 2191 | L85: 1016 | M85: 1175 | N85: 3916 | O85: 1944 | P85: 1972 | Q85: 2076 | R85: 936 | S85: 1140
A86: 66 세 | B86: =SUM(C86:D86) -> 12407 | C86: =SUM(F86,I86,L86,O86,R86) -> 5777 | D86: =SUM(G86,J86,M86,P86,S86) -> 6630 | E86: 1335 | F86: 633 | G86: 702 | H86: 2517 | I86: 1169 | J86: 1348 | K86: 2377 | L86: 1083 | M86: 1294 | N86: 3941 | O86: 1875 | P86: 2066 | Q86: 2237 | R86: 1017 | S86: 1220
A87: 67 세 | B87: =SUM(C87:D87) -> 11426 | C87: =SUM(F87,I87,L87,O87,R87) -> 5427 | D87: =SUM(G87,J87,M87,P87,S87) -> 5999 | E87: 1245 | F87: 559 | G87: 686 | H87: 2318 | I87: 1098 | J87: 1220 | K87: 2126 | L87: 1005 | M87: 1121 | N87: 3691 | O87: 1809 | P87: 1882 | Q87: 2046 | R87: 956 | S87: 1090
A88: 68 세 | B88: =SUM(C88:D88) -> 12066 | C88: =SUM(F88,I88,L88,O88,R88) -> 5521 | D88: =SUM(G88,J88,M88,P88,S88) -> 6545 | E88: 1343 | F88: 591 | G88: 752 | H88: 2488 | I88: 1147 | J88: 1341 | K88: 2264 | L88: 1049 | M88: 1215 | N88: 3778 | O88: 1743 | P88: 2035 | Q88: 2193 | R88: 991 | S88: 1202
A89: 69 세 | B89: =SUM(C89:D89) -> 9612 | C89: =SUM(F89,I89,L89,O89,R89) -> 4565 | D89: =SUM(G89,J89,M89,P89,S89) -> 5047 | E89: 1077 | F89: 472 | G89: 605 | H89: 1927 | I89: 889 | J89: 1038 | K89: 1821 | L89: 869 | M89: 952 | N89: 3018 | O89: 1479 | P89: 1539 | Q89: 1769 | R89: 856 | S89: 913
A90: 70-74 | B90: =SUM(C90:D90) -> 44455 | C90: =SUM(F90,I90,L90,O90,R90) -> 19980 | D90: =SUM(G90,J90,M90,P90,S90) -> 24475 | E90: =SUM(E91:E95) -> 5321 | F90: =SUM(F91:F95) -> 2472 | G90: =SUM(G91:G95) -> 2849 | H90: 8962 | I90: 4065 | J90: 4897 | K90: 8249 | L90: 3802 | M90: 4447 | N90: 13690 | O90: 6138 | P90: 7552 | Q90: 8233 | R90: 3503 | S90: 4730
A91: 70 세 | B91: =SUM(C91:D91) -> 8518 | C91: =SUM(F91,I91,L91,O91,R91) -> 3943 | D91: =SUM(G91,J91,M91,P91,S91) -> 4575 | E91: 1015 | F91: 456 | G91: 559 | H91: 1756 | I91: 828 | J91: 928 | K91: 1602 | L91: 762 | M91: 840 | N91: 2619 | O91: 1192 | P91: 1427 | Q91: 1526 | R91: 705 | S91: 821
A92: 71 세 | B92: =SUM(C92:D92) -> 8533 | C92: =SUM(F92,I92,L92,O92,R92) -> 3854 | D92: =SUM(G92,J92,M92,P92,S92) -> 4679 | E92: 960 | F92: 452 | G92: 508 | H92: 1746 | I92: 788 | J92: 958 | K92: 1596 | L92: 739 | M92: 857 | N92: 2692 | O92: 1218 | P92: 1474 | Q92: 1539 | R92: 657 | S92: 882
A93: 72 세 | B93: =SUM(C93:D93) -> 7889 | C93: =SUM(F93,I93,L93,O93,R93) -> 3541 | D93: =SUM(G93,J93,M93,P93,S93) -> 4348 | E93: 944 | F93: 431 | G93: 513 | H93: 1628 | I93: 758 | J93: 870 | K93: 1473 | L93: 680 | M93: 793 | N93: 2393 | O93: 1050 | P93: 1343 | Q93: 1451 | R93: 622 | S93: 829
A94: 73 세 | B94: =SUM(C94:D94) -> 10908 | C94: =SUM(F94,I94,L94,O94,R94) -> 4943 | D94: =SUM(G94,J94,M94,P94,S94) -> 5965 | E94: 1324 | F94: 632 | G94: 692 | H94: 2154 | I94: 955 | J94: 1199 | K94: 1982 | L94: 920 | M94: 1062 | N94: 3390 | O94: 1569 | P94: 1821 | Q94: 2058 | R94: 867 | S94: 1191
A95: 74 세 | B95: =SUM(C95:D95) -> 8607 | C95: =SUM(F95,I95,L95,O95,R95) -> 3699 | D95: =SUM(G95,J95,M95,P95,S95) -> 4908 | E95: 1078 | F95: 501 | G95: 577 | H95: 1678 | I95: 736 | J95: 942 | K95: 1596 | L95: 701 | M95: 895 | N95: 2596 | O95: 1109 | P95: 1487 | Q95: 1659 | R95: 652 | S95: 1007
A96: 75-79 | B96: =SUM(C96:D96) -> 32034 | C96: =SUM(F96,I96,L96,O96,R96) -> 12912 | D96: =SUM(G96,J96,M96,P96,S96) -> 19122 | E96: =SUM(E97:E101) -> 3903 | F96: =SUM(F97:F101) -> 1787 | G96: =SUM(G97:G101) -> 2116 | H96: 6361 | I96: 2572 | J96: 3789 | K96: 5882 | L96: 2430 | M96: 3452 | N96: 9793 | O96: 3969 | P96: 5824 | Q96: 6095 | R96: 2154 | S96: 3941
A97: 75 세 | B97: =SUM(C97:D97) -> 7276 | C97: =SUM(F97,I97,L97,O97,R97) -> 3012 | D97: =SUM(G97,J97,M97,P97,S97) -> 4264 | E97: 910 | F97: 415 | G97: 495 | H97: 1447 | I97: 621 | J97: 826 | K97: 1353 | L97: 576 | M97: 777 | N97: 2234 | O97: 911 | P97: 1323 | Q97: 1332 | R97: 489 | S97: 843
A98: 76 세 | B98: =SUM(C98:D98) -> 7132 | C98: =SUM(F98,I98,L98,O98,R98) -> 2966 | D98: =SUM(G98,J98,M98,P98,S98) -> 4166 | E98: 851 | F98: 398 | G98: 453 | H98: 1486 | I98: 598 | J98: 888 | K98: 1321 | L98: 576 | M98: 745 | N98: 2134 | O98: 904 | P98: 1230 | Q98: 1340 | R98: 490 | S98: 850
A99: 77 세 | B99: =SUM(C99:D99) -> 6505 | C99: =SUM(F99,I99,L99,O99,R99) -> 2669 | D99: =SUM(G99,J99,M99,P99,S99) -> 3836 | E99: 804 | F99: 377 | G99: 427 | H99: 1264 | I99: 510 | J99: 754 | K99: 1184 | L99: 506 | M99: 678 | N99: 2004 | O99: 817 | P99: 1187 | Q99: 1249 | R99: 459 | S99: 790
A100: 78 세 | B100: =SUM(C100:D100) -> 5964 | C100: =SUM(F100,I100,L100,O100,R100) -> 2338 | D100: =SUM(G100,J100,M100,P100,S100) -> 3626 | E100: 676 | F100: 300 | G100: 376 | H100: 1183 | I100: 470 | J100: 713 | K100: 1078 | L100: 414 | M100: 664 | N100: 1834 | O100: 749 | P100: 1085 | Q100: 1193 | R100: 405 | S100: 788
A101: 79 세 | B101: =SUM(C101:D101) -> 5157 | C101: =SUM(F101,I101,L101,O101,R101) -> 1927 | D101: =SUM(G101,J101,M101,P101,S101) -> 3230 | E101: 662 | F101: 297 | G101: 365 | H101: 981 | I101: 373 | J101: 608 | K101: 946 | L101: 358 | M101: 588 | N101: 1587 | O101: 588 | P101: 999 | Q101: 981 | R101: 311 | S101: 670
...

Sheet 2016년
A1: 3. 구별·연령별 내국인 현황
A3: 구 별 | B3: 합 계 | E3: 동 구 | H3: 서 구 | K3: 남 구 | N3: 북 구 | Q3: 광 산 구
A4: 연령별 | B4: 계 | C4: 남 | D4: 여 | E4: 계 | F4: 남 | G4: 여 | H4: 계 | I4: 남 | J4: 여 | K4: 계 | L4: 남 | M4: 여 | N4: 계 | O4: 남 | P4: 여 | Q4: 계 | R4: 남 | S4: 여
A5: 총 계 | B5: =SUM(C5:D5) -> 1469214 | C5: =SUM(C6,C12,C18,C24,C30,C36,C42,C48,C54,C60,C66,C72,C78,C84,C90,C96,C102,C108,C114,C120,C126) -> 728137 | D5: =SUM(D6,D12,D18,D24,D30,D36,D42,D48,D54,D60,D66,D72,D78,D84,D90,D96,D102,D108,D114,D120,D126) -> 741077 | E5: =SUM(E6,E12,E18,E24,E30,E36,E42,E48,E54,E60,E66,E72,E78,E84,E90,E96,E102,E108,E114,E120,E126) -> 95791 | F5: =SUM(F6,F12,F18,F24,F30,F36,F42,F48,F54,F60,F66,F72,F78,F84,F90,F96,F102,F108,F114,F120,F126) -> 47823 | G5: =SUM(G6,G12,G18,G24,G30,G36,G42,G48,G54,G60,G66,G72,G78,G84,G90,G96,G102,G108,G114,G120,G126) -> 47968 | H5: =SUM(H6,H12,H18,H24,H30,H36,H42,H48,H54,H60,H66,H72,H78,H84,H90,H96,H102,H108,H114,H120,H126) -> 309579 | I5: =SUM(I6,I12,I18,I24,I30,I36,I42,I48,I54,I60,I66,I72,I78,I84,I90,I96,I102,I108,I114,I120,I126) -> 152246 | J5: =SUM(J6,J12,J18,J24,J30,J36,J42,J48,J54,J60,J66,J72,J78,J84,J90,J96,J102,J108,J114,J120,J126) -> 157333 | ... S5: =SUM(S6,S12,S18,S24,S30,S36,S42,S48,S54,S60,S66,S72,S78,S84,S90,S96,S102,S108,S114,S120,S126) -> 200569
A6: 0 - 4 | B6: =SUM(C6:D6) -> 65365 | C6: =SUM(F6,I6,L6,O6,R6) -> 33565 | D6: =SUM(G6,J6,M6,P6,S6) -> 31800 | E6: =SUM(E7:E11) -> 3256 | F6: =SUM(F7:F11) -> 1680 | G6: =SUM(G7:G11) -> 1576 | H6: =SUM(H7:H11) -> 12403 | I6: =SUM(I7:I11) -> 6339 | J6: =SUM(J7:J11) -> 6064 | K6: =SUM(K7:K11) -> 8603 | L6: =SUM(L7:L11) -> 4406 | ... S6: =SUM(S7:S11) -> 10969
A7: 0 세 | B7: =SUM(C7:D7) -> 11236 | C7: =SUM(F7,I7,L7,O7,R7) -> 5667 | D7: =SUM(G7,J7,M7,P7,S7) -> 5569 | E7: =SUM(F7:G7) -> 548 | F7: 263 | G7: 285 | H7: =SUM(I7:J7) -> 2154 | I7: 1094 | J7: 1060 | K7: 1373 | L7: 688 | M7: 685 | N7: 3286 | O7: 1649 | P7: 1637 | Q7: 3875 | R7: 1973 | S7: 1902
A8: 1 세 | B8: =SUM(C8:D8) -> 12628 | C8: =SUM(F8,I8,L8,O8,R8) -> 6492 | D8: =SUM(G8,J8,M8,P8,S8) -> 6136 | E8: =SUM(F8:G8) -> 667 | F8: 348 | G8: 319 | H8: =SUM(I8:J8) -> 2316 | I8: 1192 | J8: 1124 | K8: 1675 | L8: 833 | M8: 842 | N8: 3695 | O8: 1926 | P8: 1769 | Q8: 4275 | R8: 2193 | S8: 2082
A9: 2 세 | B9: =SUM(C9:D9) -> 13096 | C9: =SUM(F9,I9,L9,O9,R9) -> 6720 | D9: =SUM(G9,J9,M9,P9,S9) -> 6376 | E9: =SUM(F9:G9) -> 688 | F9: 376 | G9: 312 | H9: =SUM(I9:J9) -> 2463 | I9: 1235 | J9: 1228 | K9: 1746 | L9: 915 | M9: 831 | N9: 3753 | O9: 1901 | P9: 1852 | Q9: 4446 | R9: 2293 | S9: 2153
A10: 3 세 | B10: =SUM(C10:D10) -> 13246 | C10: =SUM(F10,I10,L10,O10,R10) -> 6793 | D10: =SUM(G10,J10,M10,P10,S10) -> 6453 | E10: =SUM(F10:G10) -> 637 | F10: 319 | G10: 318 | H10: =SUM(I10:J10) -> 2576 | I10: 1309 | J10: 1267 | K10: 1750 | L10: 894 | M10: 856 | N10: 3689 | O10: 1936 | P10: 1753 | Q10: 4594 | R10: 2335 | S10: 2259
A11: 4 세 | B11: =SUM(C11:D11) -> 15159 | C11: =SUM(F11,I11,L11,O11,R11) -> 7893 | D11: =SUM(G11,J11,M11,P11,S11) -> 7266 | E11: =SUM(F11:G11) -> 716 | F11: 374 | G11: 342 | H11: =SUM(I11:J11) -> 2894 | I11: 1509 | J11: 1385 | K11: 2059 | L11: 1076 | M11: 983 | N11: 4123 | O11: 2140 | P11: 1983 | Q11: 5367 | R11: 2794 | S11: 2573
A12: 5 - 9 | B12: =SUM(C12:D12) -> 75594 | C12: =SUM(F12,I12,L12,O12,R12) -> 39051 | D12: =SUM(G12,J12,M12,P12,S12) -> 36543 | E12: =SUM(E13:E17) -> 3012 | F12: =SUM(F13:F17) -> 1543 | G12: =SUM(G13:G17) -> 1469 | H12: =SUM(H13:H17) -> 14883 | I12: =SUM(I13:I17) -> 7676 | J12: =SUM(J13:J17) -> 7207 | K12: =SUM(K13:K17) -> 10407 | L12: =SUM(L13:L17) -> 5329 | ... S12: =SUM(S13:S17) -> 13144
A13: 5 세 | B13: =SUM(C13:D13) -> 14690 | C13: =SUM(F13,I13,L13,O13,R13) -> 7607 | D13: =SUM(G13,J13,M13,P13,S13) -> 7083 | E13: =SUM(F13:G13) -> 675 | F13: 326 | G13: 349 | H13: =SUM(I13:J13) -> 2807 | I13: 1443 | J13: 1364 | K13: 2025 | L13: 1032 | M13: 993 | N13: 3967 | O13: 2064 | P13: 1903 | Q13: 5216 | R13: 2742 | S13: 2474
A14: 6 세 | B14: =SUM(C14:D14) -> 15177 | C14: =SUM(F14,I14,L14,O14,R14) -> 7817 | D14: =SUM(G14,J14,M14,P14,S14) -> 7360 | E14: =SUM(F14:G14) -> 616 | F14: 328 | G14: 288 | H14: =SUM(I14:J14) -> 2925 | I14: 1527 | J14: 1398 | K14: 2147 | L14: 1101 | M14: 1046 | N14: 4038 | O14: 2053 | P14: 1985 | Q14: 5451 | R14: 2808 | S14: 2643
A15: 7 세 | B15: =SUM(C15:D15) -> 14492 | C15: =SUM(F15,I15,L15,O15,R15) -> 7478 | D15: =SUM(G15,J15,M15,P15,S15) -> 7014 | E15: =SUM(F15:G15) -> 544 | F15: 291 | G15: 253 | H15: =SUM(I15:J15) -> 2875 | I15: 1475 | J15: 1400 | K15: 1960 | L15: 1007 | M15: 953 | N15: 3884 | O15: 2067 | P15: 1817 | Q15: 5229 | R15: 2638 | S15: 2591
A16: 8 세 | B16: =SUM(C16:D16) -> 14974 | C16: =SUM(F16,I16,L16,O16,R16) -> 7662 | D16: =SUM(G16,J16,M16,P16,S16) -> 7312 | E16: =SUM(F16:G16) -> 571 | F16: 288 | G16: 283 | H16: =SUM(I16:J16) -> 2955 | I16: 1516 | J16: 1439 | K16: 2101 | L16: 1072 | M16: 1029 | N16: 4003 | O16: 2085 | P16: 1918 | Q16: 5344 | R16: 2701 | S16: 2643
A17: 9 세 | B17: =SUM(C17:D17) -> 16261 | C17: =SUM(F17,I17,L17,O17,R17) -> 8487 | D17: =SUM(G17,J17,M17,P17,S17) -> 7774 | E17: =SUM(F17:G17) -> 606 | F17: 310 | G17: 296 | H17: =SUM(I17:J17) -> 3321 | I17: 1715 | J17: 1606 | K17: 2174 | L17: 1117 | M17: 1057 | N17: 4349 | O17: 2327 | P17: 2022 | Q17: 5811 | R17: 3018 | S17: 2793
A18: 10-14 | B18: =SUM(C18:D18) -> 78816 | C18: =SUM(F18,I18,L18,O18,R18) -> 41016 | D18: =SUM(G18,J18,M18,P18,S18) -> 37800 | E18: =SUM(E19:E23) -> 3166 | F18: =SUM(F19:F23) -> 1692 | G18: =SUM(G19:G23) -> 1474 | H18: =SUM(H19:H23) -> 16692 | I18: =SUM(I19:I23) -> 8810 | J18: =SUM(J19:J23) -> 7882 | K18: =SUM(K19:K23) -> 10989 | L18: =SUM(L19:L23) -> 5562 | ... S18: =SUM(S19:S23) -> 12841
A19: 10 세 | B19: =SUM(C19:D19) -> 14717 | C19: =SUM(F19,I19,L19,O19,R19) -> 7640 | D19: =SUM(G19,J19,M19,P19,S19) -> 7077 | E19: =SUM(F19:G19) -> 602 | F19: 313 | G19: 289 | H19: =SUM(I19:J19) -> 3076 | I19: 1619 | J19: 1457 | K19: 2043 | L19: 1018 | M19: 1025 | N19: 3869 | O19: 2035 | P19: 1834 | Q19: 5127 | R19: 2655 | S19: 2472
A20: 11 세 | B20: =SUM(C20:D20) -> 14362 | C20: =SUM(F20,I20,L20,O20,R20) -> 7467 | D20: =SUM(G20,J20,M20,P20,S20) -> 6895 | E20: =SUM(F20:G20) -> 523 | F20: 282 | G20: 241 | H20: =SUM(I20:J20) -> 2998 | I20: 1553 | J20: 1445 | K20: 1977 | L20: 1009 | M20: 968 | N20: 3858 | O20: 2049 | P20: 1809 | Q20: 5006 | R20: 2574 | S20: 2432
A21: 12 세 | B21: =SUM(C21:D21) -> 15791 | C21: =SUM(F21,I21,L21,O21,R21) -> 8192 | D21: =SUM(G21,J21,M21,P21,S21) -> 7599 | E21: =SUM(F21:G21) -> 643 | F21: 343 | G21: 300 | H21: =SUM(I21:J21) -> 3312 | I21: 1720 | J21: 1592 | K21: 2225 | L21: 1139 | M21: 1086 | N21: 4247 | O21: 2235 | P21: 2012 | Q21: 5364 | R21: 2755 | S21: 2609
A22: 13 세 | B22: =SUM(C22:D22) -> 17073 | C22: =SUM(F22,I22,L22,O22,R22) -> 8960 | D22: =SUM(G22,J22,M22,P22,S22) -> 8113 | E22: =SUM(F22:G22) -> 696 | F22: 388 | G22: 308 | H22: =SUM(I22:J22) -> 3602 | I22: 1914 | J22: 1688 | K22: 2319 | L22: 1184 | M22: 1135 | N22: 4802 | O22: 2535 | P22: 2267 | Q22: 5654 | R22: 2939 | S22: 2715
A23: 14 세 | B23: =SUM(C23:D23) -> 16873 | C23: =SUM(F23,I23,L23,O23,R23) -> 8757 | D23: =SUM(G23,J23,M23,P23,S23) -> 8116 | E23: =SUM(F23:G23) -> 702 | F23: 366 | G23: 336 | H23: =SUM(I23:J23) -> 3704 | I23: 2004 | J23: 1700 | K23: 2425 | L23: 1212 | M23: 1213 | N23: 4700 | O23: 2446 | P23: 2254 | Q23: 5342 | R23: 2729 | S23: 2613
A24: 15-19 | B24: =SUM(C24:D24) -> 108788 | C24: =SUM(F24,I24,L24,O24,R24) -> 56428 | D24: =SUM(G24,J24,M24,P24,S24) -> 52360 | E24: =SUM(E25:E29) -> 5123 | F24: =SUM(F25:F29) -> 2660 | G24: =SUM(G25:G29) -> 2463 | H24: =SUM(H25:H29) -> 23966 | I24: =SUM(I25:I29) -> 12547 | J24: =SUM(J25:J29) -> 11419 | K24: =SUM(K25:K29) -> 15657 | L24: =SUM(L25:L29) -> 7946 | ... S24: =SUM(S25:S29) -> 15761
A25: 15 세 | B25: =SUM(C25:D25) -> 19442 | C25: =SUM(F25,I25,L25,O25,R25) -> 10084 | D25: =SUM(G25,J25,M25,P25,S25) -> 9358 | E25: =SUM(F25:G25) -> 840 | F25: 432 | G25: 408 | H25: =SUM(I25:J25) -> 4302 | I25: 2221 | J25: 2081 | K25: 2731 | L25: 1389 | M25: 1342 | N25: 5436 | O25: 2871 | P25: 2565 | Q25: 6133 | R25: 3171 | S25: 2962
A26: 16 세 | B26: =SUM(C26:D26) -> 22355 | C26: =SUM(F26,I26,L26,O26,R26) -> 11675 | D26: =SUM(G26,J26,M26,P26,S26) -> 10680 | E26: =SUM(F26:G26) -> 1022 | F26: 537 | G26: 485 | H26: =SUM(I26:J26) -> 4831 | I26: 2519 | J26: 2312 | K26: 3148 | L26: 1591 | M26: 1557 | N26: 6390 | O26: 3407 | P26: 2983 | Q26: 6964 | R26: 3621 | S26: 3343
A27: 17 세 | B27: =SUM(C27:D27) -> 21561 | C27: =SUM(F27,I27,L27,O27,R27) -> 11148 | D27: =SUM(G27,J27,M27,P27,S27) -> 10413 | E27: =SUM(F27:G27) -> 983 | F27: 512 | G27: 471 | H27: =SUM(I27:J27) -> 4766 | I27: 2545 | J27: 2221 | K27: 3128 | L27: 1556 | M27: 1572 | N27: 6177 | O27: 3168 | P27: 3009 | Q27: 6507 | R27: 3367 | S27: 3140
A28: 18 세 | B28: =SUM(C28:D28) -> 22344 | C28: =SUM(F28,I28,L28,O28,R28) -> 11604 | D28: =SUM(G28,J28,M28,P28,S28) -> 10740 | E28: =SUM(F28:G28) -> 1109 | F28: 584 | G28: 525 | H28: =SUM(I28:J28) -> 4912 | I28: 2563 | J28: 2349 | K28: 3331 | L28: 1725 | M28: 1606 | N28: 6465 | O28: 3369 | P28: 3096 | Q28: 6527 | R28: 3363 | S28: 3164
A29: 19 세 | B29: =SUM(C29:D29) -> 23086 | C29: =SUM(F29,I29,L29,O29,R29) -> 11917 | D29: =SUM(G29,J29,M29,P29,S29) -> 11169 | E29: =SUM(F29:G29) -> 1169 | F29: 595 | G29: 574 | H29: =SUM(I29:J29) -> 5155 | I29: 2699 | J29: 2456 | K29: 3319 | L29: 1685 | M29: 1634 | N29: 6864 | O29: 3511 | P29: 3353 | Q29: 6579 | R29: 3427 | S29: 3152
A30: 20-24 | B30: =SUM(C30:D30) -> 113334 | C30: =SUM(F30,I30,L30,O30,R30) -> 59840 | D30: =SUM(G30,J30,M30,P30,S30) -> 53494 | E30: =SUM(E31:E35) -> 6809 | F30: =SUM(F31:F35) -> 3509 | G30: =SUM(G31:G35) -> 3300 | H30: =SUM(H31:H35) -> 24720 | I30: =SUM(I31:I35) -> 13023 | J30: =SUM(J31:J35) -> 11697 | K30: =SUM(K31:K35) -> 16515 | L30: =SUM(L31:L35) -> 8605 | ... S30: =SUM(S31:S35) -> 14144
A31: 20 세 | B31: =SUM(C31:D31) -> 22965 | C31: =SUM(F31,I31,L31,O31,R31) -> 12091 | D31: =SUM(G31,J31,M31,P31,S31) -> 10874 | E31: =SUM(F31:G31) -> 1177 | F31: 594 | G31: 583 | H31: =SUM(I31:J31) -> 4959 | I31: 2650 | J31: 2309 | K31: 3336 | L31: 1697 | M31: 1639 | N31: 6971 | O31: 3726 | P31: 3245 | Q31: 6522 | R31: 3424 | S31: 3098
A32: 21 세 | B32: =SUM(C32:D32) -> 23785 | C32: =SUM(F32,I32,L32,O32,R32) -> 12391 | D32: =SUM(G32,J32,M32,P32,S32) -> 11394 | E32: =SUM(F32:G32) -> 1326 | F32: 646 | G32: 680 | H32: =SUM(I32:J32) -> 5259 | I32: 2766 | J32: 2493 | K32: 3535 | L32: 1834 | M32: 1701 | N32: 7346 | O32: 3846 | P32: 3500 | Q32: 6319 | R32: 3299 | S32: 3020
A33: 22 세 | B33: =SUM(C33:D33) -> 22998 | C33: =SUM(F33,I33,L33,O33,R33) -> 12279 | D33: =SUM(G33,J33,M33,P33,S33) -> 10719 | E33: =SUM(F33:G33) -> 1440 | F33: 755 | G33: 685 | H33: =SUM(I33:J33) -> 4984 | I33: 2653 | J33: 2331 | K33: 3359 | L33: 1771 | M33: 1588 | N33: 7150 | O33: 3876 | P33: 3274 | Q33: 6065 | R33: 3224 | S33: 2841
A34: 23 세 | B34: =SUM(C34:D34) -> 21884 | C34: =SUM(F34,I34,L34,O34,R34) -> 11614 | D34: =SUM(G34,J34,M34,P34,S34) -> 10270 | E34: =SUM(F34:G34) -> 1396 | F34: 724 | G34: 672 | H34: =SUM(I34:J34) -> 4765 | I34: 2503 | J34: 2262 | K34: 3206 | L34: 1690 | M34: 1516 | N34: 6871 | O34: 3653 | P34: 3218 | Q34: 5646 | R34: 3044 | S34: 2602
A35: 24 세 | B35: =SUM(C35:D35) -> 21702 | C35: =SUM(F35,I35,L35,O35,R35) -> 11465 | D35: =SUM(G35,J35,M35,P35,S35) -> 10237 | E35: =SUM(F35:G35) -> 1470 | F35: 790 | G35: 680 | H35: =SUM(I35:J35) -> 4753 | I35: 2451 | J35: 2302 | K35: 3079 | L35: 1613 | M35: 1466 | N35: 6831 | O35: 3625 | P35: 3206 | Q35: 5569 | R35: 2986 | S35: 2583
A36: 25-29 | B36: =SUM(C36:D36) -> 88068 | C36: =SUM(F36,I36,L36,O36,R36) -> 45509 | D36: =SUM(G36,J36,M36,P36,S36) -> 42559 | E36: =SUM(E37:E41) -> 6099 | F36: =SUM(F37:F41) -> 3190 | G36: =SUM(G37:G41) -> 2909 | H36: =SUM(H37:H41) -> 19306 | I36: =SUM(I37:I41) -> 9886 | J36: =SUM(J37:J41) -> 9420 | K36: =SUM(K37:K41) -> 12456 | L36: =SUM(L37:L41) -> 6354 | ... S36: =SUM(S37:S41) -> 10585
A37: 25 세 | B37: =SUM(C37:D37) -> 19931 | C37: =SUM(F37,I37,L37,O37,R37) -> 10436 | D37: =SUM(G37,J37,M37,P37,S37) -> 9495 | E37: =SUM(F37:G37) -> 1300 | F37: 677 | G37: 623 | H37: =SUM(I37:J37) -> 4407 | I37: 2304 | J37: 2103 | K37: 2960 | L37: 1507 | M37: 1453 | N37: 6299 | O37: 3353 | P37: 2946 | Q37: 4965 | R37: 2595 | S37: 2370
A38: 26 세 | B38: =SUM(C38:D38) -> 17710 | C38: =SUM(F38,I38,L38,O38,R38) -> 9346 | D38: =SUM(G38,J38,M38,P38,S38) -> 8364 | E38: =SUM(F38:G38) -> 1267 | F38: 706 | G38: 561 | H38: =SUM(I38:J38) -> 3868 | I38: 2044 | J38: 1824 | K38: 2515 | L38: 1285 | M38: 1230 | N38: 5674 | O38: 2984 | P38: 2690 | Q38: 4386 | R38: 2327 | S38: 2059
A39: 27 세 | B39: =SUM(C39:D39) -> 17152 | C39: =SUM(F39,I39,L39,O39,R39) -> 8730 | D39: =SUM(G39,J39,M39,P39,S39) -> 8422 | E39: =SUM(F39:G39) -> 1217 | F39: 616 | G39: 601 | H39: =SUM(I39:J39) -> 3776 | I39: 1876 | J39: 1900 | K39: 2463 | L39: 1261 | M39: 1202 | N39: 5511 | O39: 2831 | P39: 2680 | Q39: 4185 | R39: 2146 | S39: 2039
A40: 28 세 | B40: =SUM(C40:D40) -> 16616 | C40: =SUM(F40,I40,L40,O40,R40) -> 8565 | D40: =SUM(G40,J40,M40,P40,S40) -> 8051 | E40: =SUM(F40:G40) -> 1170 | F40: 616 | G40: 554 | H40: =SUM(I40:J40) -> 3681 | I40: 1877 | J40: 1804 | K40: 2265 | L40: 1170 | M40: 1095 | N40: 5408 | O40: 2815 | P40: 2593 | Q40: 4092 | R40: 2087 | S40: 2005
A41: 29 세 | B41: =SUM(C41:D41) -> 16659 | C41: =SUM(F41,I41,L41,O41,R41) -> 8432 | D41: =SUM(G41,J41,M41,P41,S41) -> 8227 | E41: =SUM(F41:G41) -> 1145 | F41: 575 | G41: 570 | H41: =SUM(I41:J41) -> 3574 | I41: 1785 | J41: 1789 | K41: 2253 | L41: 1131 | M41: 1122 | N41: 5336 | O41: 2702 | P41: 2634 | Q41: 4351 | R41: 2239 | S41: 2112
A42: 30-34 | B42: =SUM(C42:D42) -> 97913 | C42: =SUM(F42,I42,L42,O42,R42) -> 49835 | D42: =SUM(G42,J42,M42,P42,S42) -> 48078 | E42: =SUM(E43:E47) -> 6150 | F42: =SUM(F43:F47) -> 3297 | G42: =SUM(G43:G47) -> 2853 | H42: =SUM(H43:H47) -> 20529 | I42: =SUM(I43:I47) -> 10322 | J42: =SUM(J43:J47) -> 10207 | K42: =SUM(K43:K47) -> 13581 | L42: =SUM(L43:L47) -> 6832 | ... S42: =SUM(S43:S47) -> 13880
A43: 30 세 | B43: =SUM(C43:D43) -> 16912 | C43: =SUM(F43,I43,L43,O43,R43) -> 8590 | D43: =SUM(G43,J43,M43,P43,S43) -> 8322 | E43: =SUM(F43:G43) -> 1135 | F43: 605 | G43: 530 | H43: =SUM(I43:J43) -> 3748 | I43: 1885 | J43: 1863 | K43: 2247 | L43: 1177 | M43: 1070 | N43: 5347 | O43: 2712 | P43: 2635 | Q43: 4435 | R43: 2211 | S43: 2224
A44: 31 세 | B44: =SUM(C44:D44) -> 17664 | C44: =SUM(F44,I44,L44,O44,R44) -> 9016 | D44: =SUM(G44,J44,M44,P44,S44) -> 8648 | E44: =SUM(F44:G44) -> 1190 | F44: 643 | G44: 547 | H44: =SUM(I44:J44) -> 3730 | I44: 1876 | J44: 1854 | K44: 2457 | L44: 1226 | M44: 1231 | N44: 5463 | O44: 2835 | P44: 2628 | Q44: 4824 | R44: 2436 | S44: 2388
A45: 32 세 | B45: =SUM(C45:D45) -> 18518 | C45: =SUM(F45,I45,L45,O45,R45) -> 9456 | D45: =SUM(G45,J45,M45,P45,S45) -> 9062 | E45: =SUM(F45:G45) -> 1167 | F45: 642 | G45: 525 | H45: =SUM(I45:J45) -> 3887 | I45: 1952 | J45: 1935 | K45: 2603 | L45: 1277 | M45: 1326 | N45: 5710 | O45: 3045 | P45: 2665 | Q45: 5151 | R45: 2540 | S45: 2611
A46: 33 세 | B46: =SUM(C46:D46) -> 21206 | C46: =SUM(F46,I46,L46,O46,R46) -> 10844 | D46: =SUM(G46,J46,M46,P46,S46) -> 10362 | E46: =SUM(F46:G46) -> 1289 | F46: 679 | G46: 610 | H46: =SUM(I46:J46) -> 4392 | I46: 2207 | J46: 2185 | K46: 2976 | L46: 1545 | M46: 1431 | N46: 6419 | O46: 3306 | P46: 3113 | Q46: 6130 | R46: 3107 | S46: 3023
A47: 34 세 | B47: =SUM(C47:D47) -> 23613 | C47: =SUM(F47,I47,L47,O47,R47) -> 11929 | D47: =SUM(G47,J47,M47,P47,S47) -> 11684 | E47: =SUM(F47:G47) -> 1369 | F47: 728 | G47: 641 | H47: =SUM(I47:J47) -> 4772 | I47: 2402 | J47: 2370 | K47: 3298 | L47: 1607 | M47: 1691 | N47: 6983 | O47: 3635 | P47: 3348 | Q47: 7191 | R47: 3557 | S47: 3634
A48: 35-39 | B48: =SUM(C48:D48) -> 115482 | C48: =SUM(F48,I48,L48,O48,R48) -> 57412 | D48: =SUM(G48,J48,M48,P48,S48) -> 58070 | E48: =SUM(E49:E53) -> 6420 | F48: =SUM(F49:F53) -> 3474 | G48: =SUM(G49:G53) -> 2946 | H48: =SUM(I48:J48) -> 23356 | I48: =SUM(I49:I53) -> 11328 | J48: =SUM(J49:J53) -> 12028 | K48: =SUM(K49:K53) -> 16055 | L48: =SUM(L49:L53) -> 7957 | M48: =SUM(M49:M53) -> 8098 | N48: =SUM(N49:N53) -> 32987 | O48: =SUM(O49:O53) -> 16718 | P48: =SUM(P49:P53) -> 16269 | ... S48: =SUM(S49:S53) -> 18729
A49: 35 세 | B49: =SUM(C49:D49) -> 23467 | C49: =SUM(F49,I49,L49,O49,R49) -> 11741 | D49: =SUM(G49,J49,M49,P49,S49) -> 11726 | E49: =SUM(F49:G49) -> 1398 | F49: 779 | G49: 619 | H49: =SUM(I49:J49) -> 4739 | I49: 2352 | J49: 2387 | K49: 3384 | L49: 1658 | M49: 1726 | N49: 6777 | O49: 3429 | P49: 3348 | Q49: 7169 | R49: 3523 | S49: 3646
A50: 36 세 | B50: =SUM(C50:D50) -> 23566 | C50: =SUM(F50,I50,L50,O50,R50) -> 11743 | D50: =SUM(G50,J50,M50,P50,S50) -> 11823 | E50: =SUM(F50:G50) -> 1337 | F50: 692 | G50: 645 | H50: =SUM(I50:J50) -> 4709 | I50: 2294 | J50: 2415 | K50: 3242 | L50: 1621 | M50: 1621 | N50: 6919 | O50: 3526 | P50: 3393 | Q50: 7359 | R50: 3610 | S50: 3749
A51: 37 세 | B51: =SUM(C51:D51) -> 24104 | C51: =SUM(F51,I51,L51,O51,R51) -> 11799 | D51: =SUM(G51,J51,M51,P51,S51) -> 12305 | E51: =SUM(F51:G51) -> 1280 | F51: 685 | G51: 595 | H51: =SUM(I51:J51) -> 4825 | I51: 2249 | J51: 2576 | K51: 3247 | L51: 1617 | M51: 1630 | N51: 7002 | O51: 3544 | P51: 3458 | Q51: 7750 | R51: 3704 | S51: 4046
A52: 38 세 | B52: =SUM(C52:D52) -> 21123 | C52: =SUM(F52,I52,L52,O52,R52) -> 10670 | D52: =SUM(G52,J52,M52,P52,S52) -> 10453 | E52: =SUM(F52:G52) -> 1134 | F52: 642 | G52: 492 | H52: =SUM(I52:J52) -> 4293 | I52: 2114 | J52: 2179 | K52: 2923 | L52: 1462 | M52: 1461 | N52: 5930 | O52: 3042 | P52: 2888 | Q52: 6843 | R52: 3410 | S52: 3433
A53: 39 세 | B53: =SUM(C53:D53) -> 23222 | C53: =SUM(F53,I53,L53,O53,R53) -> 11459 | D53: =SUM(G53,J53,M53,P53,S53) -> 11763 | E53: =SUM(F53:G53) -> 1271 | F53: 676 | G53: 595 | H53: =SUM(I53:J53) -> 4790 | I53: 2319 | J53: 2471 | K53: 3259 | L53: 1599 | M53: 1660 | N53: 6359 | O53: 3177 | P53: 3182 | Q53: 7543 | R53: 3688 | S53: 3855
A54: 40-44 | B54: =SUM(C54:D54) -> 124435 | C54: =SUM(F54,I54,L54,O54,R54) -> 61918 | D54: =SUM(G54,J54,M54,P54,S54) -> 62517 | E54: =SUM(E55:E59) -> 6455 | F54: =SUM(F55:F59) -> 3478 | G54: =SUM(G55:G59) -> 2977 | H54: =SUM(H55:H59) -> 26426 | I54: =SUM(I55:I59) -> 12704 | J54: =SUM(J55:J59) -> 13722 | K54: =SUM(K55:K59) -> 17003 | L54: =SUM(L55:L59) -> 8389 | ... S54: =SUM(S55:S59) -> 19941
A55: 40 세 | B55: =SUM(C55:D55) -> 23015 | C55: =SUM(F55,I55,L55,O55,R55) -> 11539 | D55: =SUM(G55,J55,M55,P55,S55) -> 11476 | E55: =SUM(F55:G55) -> 1261 | F55: 690 | G55: 571 | H55: =SUM(I55:J55) -> 4808 | I55: 2355 | J55: 2453 | K55: 3134 | L55: 1577 | M55: 1557 | N55: 6291 | O55: 3178 | P55: 3113 | Q55: 7521 | R55: 3739 | S55: 3782
A56: 41 세 | B56: =SUM(C56:D56) -> 22971 | C56: =SUM(F56,I56,L56,O56,R56) -> 11451 | D56: =SUM(G56,J56,M56,P56,S56) -> 11520 | E56: =SUM(F56:G56) -> 1115 | F56: 612 | G56: 503 | H56: =SUM(I56:J56) -> 4762 | I56: 2292 | J56: 2470 | K56: 3171 | L56: 1567 | M56: 1604 | N56: 6458 | O56: 3329 | P56: 3129 | Q56: 7465 | R56: 3651 | S56: 3814
A57: 42 세 | B57: =SUM(C57:D57) -> 25929 | C57: =SUM(F57,I57,L57,O57,R57) -> 12968 | D57: =SUM(G57,J57,M57,P57,S57) -> 12961 | E57: =SUM(F57:G57) -> 1277 | F57: 691 | G57: 586 | H57: =SUM(I57:J57) -> 5564 | I57: 2709 | J57: 2855 | K57: 3479 | L57: 1727 | M57: 1752 | N57: 7252 | O57: 3644 | P57: 3608 | Q57: 8357 | R57: 4197 | S57: 4160
A58: 43 세 | B58: =SUM(C58:D58) -> 26164 | C58: =SUM(F58,I58,L58,O58,R58) -> 12892 | D58: =SUM(G58,J58,M58,P58,S58) -> 13272 | E58: =SUM(F58:G58) -> 1430 | F58: 743 | G58: 687 | H58: =SUM(I58:J58) -> 5545 | I58: 2638 | J58: 2907 | K58: 3539 | L58: 1729 | M58: 1810 | N58: 7328 | O58: 3653 | P58: 3675 | Q58: 8322 | R58: 4129 | S58: 4193
